| Back to Multiple platform build/check report for BioC 3.16: simplified long |
|
This page was generated on 2023-04-12 11:05:01 -0400 (Wed, 12 Apr 2023).
| Hostname | OS | Arch (*) | R version | Installed pkgs |
|---|---|---|---|---|
| nebbiolo2 | Linux (Ubuntu 20.04.5 LTS) | x86_64 | 4.2.3 (2023-03-15) -- "Shortstop Beagle" | 4502 |
| palomino4 | Windows Server 2022 Datacenter | x64 | 4.2.3 (2023-03-15 ucrt) -- "Shortstop Beagle" | 4282 |
| lconway | macOS 12.5.1 Monterey | x86_64 | 4.2.3 (2023-03-15) -- "Shortstop Beagle" | 4310 |
| Click on any hostname to see more info about the system (e.g. compilers) (*) as reported by 'uname -p', except on Windows and Mac OS X | ||||
|
To the developers/maintainers of the Clonality package: - Please allow up to 24 hours (and sometimes 48 hours) for your latest push to git@git.bioconductor.org:packages/Clonality.git to reflect on this report. See How and When does the builder pull? When will my changes propagate? for more information. - Make sure to use the following settings in order to reproduce any error or warning you see on this page. |
| Package 344/2183 | Hostname | OS / Arch | INSTALL | BUILD | CHECK | BUILD BIN | ||||||||
| Clonality 1.46.0 (landing page) Irina Ostrovnaya
| nebbiolo2 | Linux (Ubuntu 20.04.5 LTS) / x86_64 | OK | OK | OK | |||||||||
| palomino4 | Windows Server 2022 Datacenter / x64 | OK | OK | OK | OK | |||||||||
| lconway | macOS 12.5.1 Monterey / x86_64 | OK | OK | OK | OK | |||||||||
| Package: Clonality |
| Version: 1.46.0 |
| Command: /home/biocbuild/bbs-3.16-bioc/R/bin/R CMD check --install=check:Clonality.install-out.txt --library=/home/biocbuild/bbs-3.16-bioc/R/site-library --timings Clonality_1.46.0.tar.gz |
| StartedAt: 2023-04-10 19:45:23 -0400 (Mon, 10 Apr 2023) |
| EndedAt: 2023-04-10 19:49:07 -0400 (Mon, 10 Apr 2023) |
| EllapsedTime: 224.6 seconds |
| RetCode: 0 |
| Status: OK |
| CheckDir: Clonality.Rcheck |
| Warnings: 0 |
##############################################################################
##############################################################################
###
### Running command:
###
### /home/biocbuild/bbs-3.16-bioc/R/bin/R CMD check --install=check:Clonality.install-out.txt --library=/home/biocbuild/bbs-3.16-bioc/R/site-library --timings Clonality_1.46.0.tar.gz
###
##############################################################################
##############################################################################
* using log directory ‘/home/biocbuild/bbs-3.16-bioc/meat/Clonality.Rcheck’
* using R version 4.2.3 (2023-03-15)
* using platform: x86_64-pc-linux-gnu (64-bit)
* using session charset: UTF-8
* checking for file ‘Clonality/DESCRIPTION’ ... OK
* checking extension type ... Package
* this is package ‘Clonality’ version ‘1.46.0’
* checking package namespace information ... OK
* checking package dependencies ... OK
* checking if this is a source package ... OK
* checking if there is a namespace ... OK
* checking for hidden files and directories ... OK
* checking for portable file names ... OK
* checking for sufficient/correct file permissions ... OK
* checking whether package ‘Clonality’ can be installed ... OK
* checking installed package size ... OK
* checking package directory ... OK
* checking ‘build’ directory ... OK
* checking DESCRIPTION meta-information ... NOTE
Malformed Description field: should contain one or more complete sentences.
* checking top-level files ... OK
* checking for left-over files ... OK
* checking index information ... OK
* checking package subdirectories ... OK
* checking R files for non-ASCII characters ... OK
* checking R files for syntax errors ... OK
* checking whether the package can be loaded ... OK
* checking whether the package can be loaded with stated dependencies ... OK
* checking whether the package can be unloaded cleanly ... OK
* checking whether the namespace can be loaded with stated dependencies ... OK
* checking whether the namespace can be unloaded cleanly ... OK
* checking loading without being on the library search path ... OK
* checking dependencies in R code ... OK
* checking S3 generic/method consistency ... OK
* checking replacement functions ... OK
* checking foreign function calls ... NOTE
Foreign function call to a different package:
.Fortran("fndcpt", ..., PACKAGE = "DNAcopy")
See chapter ‘System and foreign language interfaces’ in the ‘Writing R
Extensions’ manual.
* checking R code for possible problems ... NOTE
get.mutation.frequencies: no visible binding for global variable
‘freqdata’
Undefined global functions or variables:
freqdata
* checking Rd files ... OK
* checking Rd metadata ... OK
* checking Rd cross-references ... OK
* checking for missing documentation entries ... OK
* checking for code/documentation mismatches ... OK
* checking Rd \usage sections ... OK
* checking Rd contents ... OK
* checking for unstated dependencies in examples ... OK
* checking contents of ‘data’ directory ... OK
* checking data for non-ASCII characters ... OK
* checking data for ASCII and uncompressed saves ... OK
* checking installed files from ‘inst/doc’ ... OK
* checking files in ‘vignettes’ ... OK
* checking examples ... OK
Examples with CPU (user + system) or elapsed time > 5s
user system elapsed
clonality.analysis 38.408 0.031 38.442
LRtesting3or4tumors 19.144 0.004 19.148
ECMtesting 6.033 0.000 6.033
LOHclonality 5.678 0.000 5.679
* checking for unstated dependencies in vignettes ... OK
* checking package vignettes in ‘inst/doc’ ... OK
* checking running R code from vignettes ...
‘Clonality.Rnw’... OK
OK
* checking re-building of vignette outputs ... OK
* checking PDF version of manual ... OK
* DONE
Status: 3 NOTEs
See
‘/home/biocbuild/bbs-3.16-bioc/meat/Clonality.Rcheck/00check.log’
for details.
Clonality.Rcheck/00install.out
############################################################################## ############################################################################## ### ### Running command: ### ### /home/biocbuild/bbs-3.16-bioc/R/bin/R CMD INSTALL Clonality ### ############################################################################## ############################################################################## * installing to library ‘/home/biocbuild/bbs-3.16-bioc/R/site-library’ * installing *source* package ‘Clonality’ ... ** using staged installation ** R ** data ** inst ** byte-compile and prepare package for lazy loading ** help *** installing help indices ** building package indices ** installing vignettes ** testing if installed package can be loaded from temporary location ** testing if installed package can be loaded from final location ** testing if installed package keeps a record of temporary installation path * DONE (Clonality)
Clonality.Rcheck/Clonality-Ex.timings
| name | user | system | elapsed | |
| ECMtesting | 6.033 | 0.000 | 6.033 | |
| LOHclonality | 5.678 | 0.000 | 5.679 | |
| LRtesting3or4tumors | 19.144 | 0.004 | 19.148 | |
| SNVtest | 2.481 | 0.068 | 2.549 | |
| SNVtest2 | 0.408 | 0.000 | 0.407 | |
| ave.adj.probes | 1.173 | 0.008 | 1.181 | |
| chromosomePlots | 0 | 0 | 0 | |
| clonality.analysis | 38.408 | 0.031 | 38.442 | |
| create.mutation.matrix | 1.096 | 0.004 | 1.100 | |
| genomewidePlots | 0 | 0 | 0 | |
| get.mutation.frequencies | 1.216 | 0.024 | 1.240 | |
| histogramPlot | 0 | 0 | 0 | |
| mutation.proba | 1.316 | 0.028 | 1.344 | |
| mutation.rem | 1.449 | 0.027 | 1.477 | |
| splitChromosomes | 0.004 | 0.000 | 0.004 | |