| Back to Multiple platform build/check report for BioC 3.16: simplified long |
|
This page was generated on 2023-04-12 11:05:28 -0400 (Wed, 12 Apr 2023).
| Hostname | OS | Arch (*) | R version | Installed pkgs |
|---|---|---|---|---|
| nebbiolo2 | Linux (Ubuntu 20.04.5 LTS) | x86_64 | 4.2.3 (2023-03-15) -- "Shortstop Beagle" | 4502 |
| palomino4 | Windows Server 2022 Datacenter | x64 | 4.2.3 (2023-03-15 ucrt) -- "Shortstop Beagle" | 4282 |
| lconway | macOS 12.5.1 Monterey | x86_64 | 4.2.3 (2023-03-15) -- "Shortstop Beagle" | 4310 |
| Click on any hostname to see more info about the system (e.g. compilers) (*) as reported by 'uname -p', except on Windows and Mac OS X | ||||
|
To the developers/maintainers of the ChIPseqR package: - Please allow up to 24 hours (and sometimes 48 hours) for your latest push to git@git.bioconductor.org:packages/ChIPseqR.git to reflect on this report. See How and When does the builder pull? When will my changes propagate? for more information. - Make sure to use the following settings in order to reproduce any error or warning you see on this page. |
| Package 317/2183 | Hostname | OS / Arch | INSTALL | BUILD | CHECK | BUILD BIN | ||||||||
| ChIPseqR 1.52.0 (landing page) Peter Humburg
| nebbiolo2 | Linux (Ubuntu 20.04.5 LTS) / x86_64 | OK | OK | OK | |||||||||
| palomino4 | Windows Server 2022 Datacenter / x64 | OK | OK | OK | OK | |||||||||
| lconway | macOS 12.5.1 Monterey / x86_64 | OK | OK | OK | OK | |||||||||
| Package: ChIPseqR |
| Version: 1.52.0 |
| Command: F:\biocbuild\bbs-3.16-bioc\R\bin\R.exe CMD check --no-multiarch --install=check:ChIPseqR.install-out.txt --library=F:\biocbuild\bbs-3.16-bioc\R\library --no-vignettes --timings ChIPseqR_1.52.0.tar.gz |
| StartedAt: 2023-04-10 23:54:01 -0400 (Mon, 10 Apr 2023) |
| EndedAt: 2023-04-10 23:57:49 -0400 (Mon, 10 Apr 2023) |
| EllapsedTime: 228.2 seconds |
| RetCode: 0 |
| Status: OK |
| CheckDir: ChIPseqR.Rcheck |
| Warnings: 0 |
##############################################################################
##############################################################################
###
### Running command:
###
### F:\biocbuild\bbs-3.16-bioc\R\bin\R.exe CMD check --no-multiarch --install=check:ChIPseqR.install-out.txt --library=F:\biocbuild\bbs-3.16-bioc\R\library --no-vignettes --timings ChIPseqR_1.52.0.tar.gz
###
##############################################################################
##############################################################################
* using log directory 'F:/biocbuild/bbs-3.16-bioc/meat/ChIPseqR.Rcheck'
* using R version 4.2.3 (2023-03-15 ucrt)
* using platform: x86_64-w64-mingw32 (64-bit)
* using session charset: UTF-8
* using option '--no-vignettes'
* checking for file 'ChIPseqR/DESCRIPTION' ... OK
* checking extension type ... Package
* this is package 'ChIPseqR' version '1.52.0'
* checking package namespace information ... OK
* checking package dependencies ... OK
* checking if this is a source package ... OK
* checking if there is a namespace ... OK
* checking for hidden files and directories ... OK
* checking for portable file names ... OK
* checking whether package 'ChIPseqR' can be installed ... OK
* checking installed package size ... OK
* checking package directory ... OK
* checking 'build' directory ... OK
* checking DESCRIPTION meta-information ... OK
* checking top-level files ... OK
* checking for left-over files ... OK
* checking index information ... OK
* checking package subdirectories ... OK
* checking R files for non-ASCII characters ... OK
* checking R files for syntax errors ... OK
* checking whether the package can be loaded ... OK
* checking whether the package can be loaded with stated dependencies ... OK
* checking whether the package can be unloaded cleanly ... OK
* checking whether the namespace can be loaded with stated dependencies ... OK
* checking whether the namespace can be unloaded cleanly ... OK
* checking dependencies in R code ... OK
* checking S3 generic/method consistency ... OK
* checking replacement functions ... OK
* checking foreign function calls ... OK
* checking R code for possible problems ... NOTE
.fixCounts: no visible global function definition for 'runLength'
.fixCounts: no visible global function definition for 'runValue'
getBindLen: no visible global function definition for 'window'
pickPeak: no visible global function definition for 'start'
pickPeak: no visible global function definition for 'runLength'
pickPeak : <anonymous>: no visible global function definition for
'window'
[[,BindScore-ANY-numeric: no visible global function definition for
'window'
decompress,Rle: no visible global function definition for 'runValue'
decompress,RleList : <anonymous>: no visible global function definition
for 'runValue'
initialize,RLEBindScore : <anonymous>: no visible global function
definition for 'Rle'
initialize,RLEBindScore : <anonymous>: no visible global function
definition for 'runValue'
initialize,RLEBindScore : <anonymous>: no visible global function
definition for 'runValue<-'
plot,RLEReadCounts-missing : <anonymous>: no visible global function
definition for 'window'
Undefined global functions or variables:
Rle runLength runValue runValue<- start window
Consider adding
importFrom("stats", "start", "window")
to your NAMESPACE file.
* checking Rd files ... OK
* checking Rd metadata ... OK
* checking Rd cross-references ... OK
* checking for missing documentation entries ... OK
* checking for code/documentation mismatches ... OK
* checking Rd \usage sections ... OK
* checking Rd contents ... OK
* checking for unstated dependencies in examples ... OK
* checking line endings in C/C++/Fortran sources/headers ... OK
* checking compiled code ... NOTE
Note: information on .o files for x64 is not available
File 'F:/biocbuild/bbs-3.16-bioc/R/library/ChIPseqR/libs/x64/ChIPseqR.dll':
Found 'abort', possibly from 'abort' (C), 'runtime' (Fortran)
Compiled code should not call entry points which might terminate R nor
write to stdout/stderr instead of to the console, nor use Fortran I/O
nor system RNGs. The detected symbols are linked into the code but
might come from libraries and not actually be called.
See 'Writing portable packages' in the 'Writing R Extensions' manual.
* checking sizes of PDF files under 'inst/doc' ... OK
* checking files in 'vignettes' ... OK
* checking examples ... OK
Examples with CPU (user + system) or elapsed time > 5s
user system elapsed
alignFeature 8.16 1.33 9.48
BindScore 6.67 0.19 6.86
RLEBindScore-class 6.12 0.17 6.29
simpleNucCall 5.02 0.14 5.16
* checking for unstated dependencies in vignettes ... OK
* checking package vignettes in 'inst/doc' ... OK
* checking running R code from vignettes ... SKIPPED
* checking re-building of vignette outputs ... SKIPPED
* checking PDF version of manual ... OK
* DONE
Status: 2 NOTEs
See
'F:/biocbuild/bbs-3.16-bioc/meat/ChIPseqR.Rcheck/00check.log'
for details.
ChIPseqR.Rcheck/00install.out
##############################################################################
##############################################################################
###
### Running command:
###
### F:\biocbuild\bbs-3.16-bioc\R\bin\R.exe CMD INSTALL ChIPseqR
###
##############################################################################
##############################################################################
* installing to library 'F:/biocbuild/bbs-3.16-bioc/R/library'
* installing *source* package 'ChIPseqR' ...
** using staged installation
** libs
gcc -I"F:/biocbuild/bbs-3.16-bioc/R/include" -DNDEBUG -I"C:/rtools42/x86_64-w64-mingw32.static.posix/include" -O2 -Wall -std=gnu99 -mfpmath=sse -msse2 -mstackrealign -c startScore.c -o startScore.o
startScore.c: In function '_ratioStat_pois':
startScore.c:66:15: warning: unused variable 'tmp_stat' [-Wunused-variable]
66 | double stat, tmp_stat;
| ^~~~~~~~
gcc -shared -s -static-libgcc -o ChIPseqR.dll tmp.def startScore.o -LC:/rtools42/x86_64-w64-mingw32.static.posix/lib/x64 -LC:/rtools42/x86_64-w64-mingw32.static.posix/lib -LF:/biocbuild/bbs-3.16-bioc/R/bin/x64 -lR
installing to F:/biocbuild/bbs-3.16-bioc/R/library/00LOCK-ChIPseqR/00new/ChIPseqR/libs/x64
** R
** inst
** byte-compile and prepare package for lazy loading
** help
*** installing help indices
** building package indices
** installing vignettes
** testing if installed package can be loaded from temporary location
** testing if installed package can be loaded from final location
** testing if installed package keeps a record of temporary installation path
* DONE (ChIPseqR)
ChIPseqR.Rcheck/ChIPseqR-Ex.timings
| name | user | system | elapsed | |
| BindScore | 6.67 | 0.19 | 6.86 | |
| ChIPseqR-package | 0 | 0 | 0 | |
| RLEBindScore-class | 6.12 | 0.17 | 6.29 | |
| RLEReadCounts-class | 0.02 | 0.00 | 0.02 | |
| ReadCounts | 0.03 | 0.00 | 0.03 | |
| alignFeature | 8.16 | 1.33 | 9.48 | |
| callBindingSites | 4.18 | 0.23 | 4.42 | |
| pos2gff | 0 | 0 | 0 | |
| simpleNucCall | 5.02 | 0.14 | 5.16 | |
| strandPileup | 0.01 | 0.00 | 0.01 | |
| windowCounts | 0.18 | 0.00 | 0.18 | |