| Back to Multiple platform build/check report for BioC 3.16: simplified long |
|
This page was generated on 2023-04-12 11:06:02 -0400 (Wed, 12 Apr 2023).
| Hostname | OS | Arch (*) | R version | Installed pkgs |
|---|---|---|---|---|
| nebbiolo2 | Linux (Ubuntu 20.04.5 LTS) | x86_64 | 4.2.3 (2023-03-15) -- "Shortstop Beagle" | 4502 |
| palomino4 | Windows Server 2022 Datacenter | x64 | 4.2.3 (2023-03-15 ucrt) -- "Shortstop Beagle" | 4282 |
| lconway | macOS 12.5.1 Monterey | x86_64 | 4.2.3 (2023-03-15) -- "Shortstop Beagle" | 4310 |
| Click on any hostname to see more info about the system (e.g. compilers) (*) as reported by 'uname -p', except on Windows and Mac OS X | ||||
|
To the developers/maintainers of the ChIPanalyser package: - Please allow up to 24 hours (and sometimes 48 hours) for your latest push to git@git.bioconductor.org:packages/ChIPanalyser.git to reflect on this report. See How and When does the builder pull? When will my changes propagate? for more information. - Make sure to use the following settings in order to reproduce any error or warning you see on this page. |
| Package 309/2183 | Hostname | OS / Arch | INSTALL | BUILD | CHECK | BUILD BIN | ||||||||
| ChIPanalyser 1.20.0 (landing page) Patrick C.N. Martin
| nebbiolo2 | Linux (Ubuntu 20.04.5 LTS) / x86_64 | OK | OK | OK | |||||||||
| palomino4 | Windows Server 2022 Datacenter / x64 | OK | OK | OK | OK | |||||||||
| lconway | macOS 12.5.1 Monterey / x86_64 | OK | OK | OK | OK | |||||||||
| Package: ChIPanalyser |
| Version: 1.20.0 |
| Command: /Library/Frameworks/R.framework/Resources/bin/R CMD check --install=check:ChIPanalyser.install-out.txt --library=/Library/Frameworks/R.framework/Resources/library --no-vignettes --timings ChIPanalyser_1.20.0.tar.gz |
| StartedAt: 2023-04-10 19:20:45 -0400 (Mon, 10 Apr 2023) |
| EndedAt: 2023-04-10 19:26:20 -0400 (Mon, 10 Apr 2023) |
| EllapsedTime: 335.4 seconds |
| RetCode: 0 |
| Status: OK |
| CheckDir: ChIPanalyser.Rcheck |
| Warnings: 0 |
############################################################################## ############################################################################## ### ### Running command: ### ### /Library/Frameworks/R.framework/Resources/bin/R CMD check --install=check:ChIPanalyser.install-out.txt --library=/Library/Frameworks/R.framework/Resources/library --no-vignettes --timings ChIPanalyser_1.20.0.tar.gz ### ############################################################################## ############################################################################## * using log directory ‘/Users/biocbuild/bbs-3.16-bioc/meat/ChIPanalyser.Rcheck’ * using R version 4.2.3 (2023-03-15) * using platform: x86_64-apple-darwin17.0 (64-bit) * using session charset: UTF-8 * using option ‘--no-vignettes’ * checking for file ‘ChIPanalyser/DESCRIPTION’ ... OK * checking extension type ... Package * this is package ‘ChIPanalyser’ version ‘1.20.0’ * package encoding: UTF-8 * checking package namespace information ... OK * checking package dependencies ... OK * checking if this is a source package ... OK * checking if there is a namespace ... OK * checking for hidden files and directories ... OK * checking for portable file names ... OK * checking for sufficient/correct file permissions ... OK * checking whether package ‘ChIPanalyser’ can be installed ... OK * checking installed package size ... OK * checking package directory ... OK * checking ‘build’ directory ... OK * checking DESCRIPTION meta-information ... OK * checking top-level files ... OK * checking for left-over files ... OK * checking index information ... OK * checking package subdirectories ... OK * checking R files for non-ASCII characters ... OK * checking R files for syntax errors ... OK * checking whether the package can be loaded ... OK * checking whether the package can be loaded with stated dependencies ... OK * checking whether the package can be unloaded cleanly ... OK * checking whether the namespace can be loaded with stated dependencies ... OK * checking whether the namespace can be unloaded cleanly ... OK * checking dependencies in R code ... OK * checking S3 generic/method consistency ... OK * checking replacement functions ... OK * checking foreign function calls ... OK * checking R code for possible problems ... OK * checking Rd files ... OK * checking Rd metadata ... OK * checking Rd cross-references ... OK * checking for missing documentation entries ... OK * checking for code/documentation mismatches ... OK * checking Rd \usage sections ... OK * checking Rd contents ... OK * checking for unstated dependencies in examples ... OK * checking contents of ‘data’ directory ... OK * checking data for non-ASCII characters ... OK * checking LazyData ... OK * checking data for ASCII and uncompressed saves ... OK * checking sizes of PDF files under ‘inst/doc’ ... OK * checking files in ‘vignettes’ ... OK * checking examples ... OK * checking for unstated dependencies in ‘tests’ ... OK * checking tests ... Running ‘runTests.R’ OK * checking for unstated dependencies in vignettes ... OK * checking package vignettes in ‘inst/doc’ ... OK * checking running R code from vignettes ... SKIPPED * checking re-building of vignette outputs ... SKIPPED * checking PDF version of manual ... OK * DONE Status: OK
ChIPanalyser.Rcheck/00install.out
############################################################################## ############################################################################## ### ### Running command: ### ### /Library/Frameworks/R.framework/Resources/bin/R CMD INSTALL ChIPanalyser ### ############################################################################## ############################################################################## * installing to library ‘/Library/Frameworks/R.framework/Versions/4.2/Resources/library’ * installing *source* package ‘ChIPanalyser’ ... ** using staged installation ** R ** data *** moving datasets to lazyload DB ** inst ** byte-compile and prepare package for lazy loading Creating a new generic function for ‘drop’ in package ‘ChIPanalyser’ ** help *** installing help indices ** building package indices ** installing vignettes ** testing if installed package can be loaded from temporary location ** testing if installed package can be loaded from final location ** testing if installed package keeps a record of temporary installation path * DONE (ChIPanalyser)
ChIPanalyser.Rcheck/tests/runTests.Rout
R version 4.2.3 (2023-03-15) -- "Shortstop Beagle"
Copyright (C) 2023 The R Foundation for Statistical Computing
Platform: x86_64-apple-darwin17.0 (64-bit)
R is free software and comes with ABSOLUTELY NO WARRANTY.
You are welcome to redistribute it under certain conditions.
Type 'license()' or 'licence()' for distribution details.
R is a collaborative project with many contributors.
Type 'contributors()' for more information and
'citation()' on how to cite R or R packages in publications.
Type 'demo()' for some demos, 'help()' for on-line help, or
'help.start()' for an HTML browser interface to help.
Type 'q()' to quit R.
> BiocGenerics:::testPackage("ChIPanalyser")
Attaching package: 'BiocGenerics'
The following objects are masked from 'package:stats':
IQR, mad, sd, var, xtabs
The following objects are masked from 'package:base':
Filter, Find, Map, Position, Reduce, anyDuplicated, aperm, append,
as.data.frame, basename, cbind, colnames, dirname, do.call,
duplicated, eval, evalq, get, grep, grepl, intersect, is.unsorted,
lapply, mapply, match, mget, order, paste, pmax, pmax.int, pmin,
pmin.int, rank, rbind, rownames, sapply, setdiff, sort, table,
tapply, union, unique, unsplit, which.max, which.min
Attaching package: 'S4Vectors'
The following objects are masked from 'package:base':
I, expand.grid, unname
Attaching package: 'Biostrings'
The following object is masked from 'package:base':
strsplit
Attaching package: 'ChIPanalyser'
The following object is masked from 'package:IRanges':
drop
The following object is masked from 'package:base':
drop
Loading required package: BSgenome.Dmelanogaster.UCSC.dm6
RUNIT TEST PROTOCOL -- Mon Apr 10 19:25:54 2023
***********************************************
Number of test functions: 0
Number of errors: 0
Number of failures: 0
1 Test Suite :
ChIPanalyser RUnit Tests - 0 test functions, 0 errors, 0 failures
Number of test functions: 0
Number of errors: 0
Number of failures: 0
>
> proc.time()
user system elapsed
72.654 21.994 95.817
ChIPanalyser.Rcheck/ChIPanalyser-Ex.timings
| name | user | system | elapsed | |
| BPFrequency | 0.123 | 0.004 | 0.128 | |
| BPFrequency_- | 0.001 | 0.001 | 0.003 | |
| ChIPScore-class | 0.001 | 0.001 | 0.003 | |
| ChIPanalyser-package | 0 | 0 | 0 | |
| DNASequenceLength | 0.002 | 0.002 | 0.004 | |
| GRList-class | 0.001 | 0.000 | 0.001 | |
| PFMFormat | 0.144 | 0.021 | 0.165 | |
| PFMFormat_ | 0.048 | 0.008 | 0.056 | |
| PWMThreshold | 0.008 | 0.002 | 0.010 | |
| PWMThreshold_- | 0.007 | 0.002 | 0.010 | |
| PWMpseudocount | 0.007 | 0.003 | 0.009 | |
| PWMpseudocount_- | 0.007 | 0.003 | 0.010 | |
| PositionFrequencyMatrix | 0.040 | 0.008 | 0.049 | |
| PositionFrequencyMatrix_- | 0.022 | 0.005 | 0.028 | |
| PositionWeightMatrix | 0.048 | 0.010 | 0.058 | |
| PositionWeightMatrix_- | 0.011 | 0.002 | 0.013 | |
| averageExpPWMScore | 0.047 | 0.010 | 0.057 | |
| backgroundSignal | 0.009 | 0.002 | 0.010 | |
| backgroundSignal_- | 0.010 | 0.007 | 0.017 | |
| boundMolecules | 0.006 | 0.001 | 0.008 | |
| boundMolecules_- | 0.014 | 0.006 | 0.020 | |
| chipMean | 0.008 | 0.001 | 0.008 | |
| chipMean_- | 0.007 | 0.001 | 0.008 | |
| chipSd | 0.008 | 0.002 | 0.010 | |
| chipSd_- | 0.006 | 0.001 | 0.007 | |
| chipSmooth | 0.007 | 0.002 | 0.010 | |
| chipSmooth_- | 0.009 | 0.002 | 0.011 | |
| computeChIPProfile | 0.014 | 0.003 | 0.017 | |
| computeGenomeWideScores | 0 | 0 | 0 | |
| computeOccupancy | 0.001 | 0.001 | 0.003 | |
| computeOptimal | 0.001 | 0.002 | 0.002 | |
| computePWMScore | 0.002 | 0.001 | 0.002 | |
| data | 0.001 | 0.001 | 0.002 | |
| drop | 0.040 | 0.002 | 0.041 | |
| evolve | 0.002 | 0.002 | 0.003 | |
| generateStartingPopulation | 0.018 | 0.001 | 0.018 | |
| genomicProfiles-class | 0.000 | 0.001 | 0.001 | |
| genomicProfiles | 0.047 | 0.005 | 0.052 | |
| genomicProfilesInternal-class | 0.001 | 0.001 | 0.001 | |
| getHighestFitnessSolutions | 0.001 | 0.001 | 0.002 | |
| getTestingData | 3.409 | 0.159 | 3.572 | |
| getTrainingData | 1.067 | 0.172 | 1.240 | |
| lambdaPWM | 0.006 | 0.002 | 0.007 | |
| lambdaPWM_ | 0.006 | 0.001 | 0.008 | |
| loci-class | 0 | 0 | 0 | |
| loci | 1.058 | 0.307 | 1.374 | |
| lociWidth | 0.006 | 0.002 | 0.007 | |
| lociWidth_ | 0.006 | 0.001 | 0.007 | |
| maxPWMScore | 0.001 | 0.002 | 0.004 | |
| maxSignal | 0.005 | 0.000 | 0.005 | |
| maxSignal_- | 0.005 | 0.000 | 0.005 | |
| minPWMScore | 0.002 | 0.001 | 0.003 | |
| naturalLog | 0.006 | 0.001 | 0.007 | |
| naturalLog_- | 0.006 | 0.002 | 0.007 | |
| noOfSites | 0.006 | 0.001 | 0.007 | |
| noOfSites_- | 0.008 | 0.001 | 0.010 | |
| noiseFilter | 0.008 | 0.001 | 0.009 | |
| noiseFilter_ | 0.007 | 0.002 | 0.010 | |
| nos-class | 0 | 0 | 0 | |
| parameterOptions-class | 0.001 | 0.001 | 0.002 | |
| parameterOptions | 0.008 | 0.005 | 0.012 | |
| ploidy | 0.008 | 0.000 | 0.009 | |
| ploidy_- | 0.007 | 0.000 | 0.007 | |
| plotOccupancyProfile | 0.002 | 0.003 | 0.003 | |
| plotOptimalHeatMaps | 0.002 | 0.002 | 0.003 | |
| processingChIP | 1.140 | 0.193 | 1.336 | |
| profileAccuracyEstimate | 0.001 | 0.002 | 0.002 | |
| removeBackground | 0.005 | 0.000 | 0.006 | |
| removeBackground_- | 0.006 | 0.001 | 0.005 | |
| scores | 1.076 | 0.145 | 1.224 | |
| searchSites | 0.001 | 0.001 | 0.002 | |
| setChromatinStates | 1.790 | 0.020 | 1.816 | |
| singleRun | 0.002 | 0.002 | 0.003 | |
| splitData | 1.139 | 0.240 | 1.388 | |
| stepSize | 0.005 | 0.000 | 0.006 | |
| stepSize_- | 0.006 | 0.000 | 0.007 | |
| strandRule | 0.010 | 0.002 | 0.011 | |
| strandRule_- | 0.006 | 0.001 | 0.007 | |
| whichstrand | 0.010 | 0.002 | 0.012 | |
| whichstrand_- | 0.009 | 0.003 | 0.012 | |