| Back to Multiple platform build/check report for BioC 3.16 |
|
This page was generated on 2022-07-07 11:10:53 -0400 (Thu, 07 Jul 2022).
| Hostname | OS | Arch (*) | R version | Installed pkgs |
|---|---|---|---|---|
| nebbiolo2 | Linux (Ubuntu 20.04.4 LTS) | x86_64 | 4.2.0 Patched (2022-06-02 r82447) -- "Vigorous Calisthenics" | 4343 |
| palomino4 | Windows Server 2022 Datacenter | x64 | 4.2.0 Patched (2022-06-02 r82447 ucrt) -- "Vigorous Calisthenics" | 4148 |
| lconway | macOS 12.2.1 Monterey | x86_64 | 4.2.0 Patched (2022-05-29 r82424) -- "Vigorous Calisthenics" | 4160 |
| kjohnson | macOS 12.4 Monterey | arm64 | 4.2.0 Patched (2022-06-09 r82473) -- "Vigorous Calisthenics" | 3115 |
| Click on any hostname to see more info about the system (e.g. compilers) (*) as reported by 'uname -p', except on Windows and Mac OS X | ||||
|
To the developers/maintainers of the ChAMP package: - Please allow up to 24 hours (and sometimes 48 hours) for your latest push to git@git.bioconductor.org:packages/ChAMP.git to reflect on this report. See How and When does the builder pull? When will my changes propagate? for more information. - Make sure to use the following settings in order to reproduce any error or warning you see on this page. |
| Package 296/2124 | Hostname | OS / Arch | INSTALL | BUILD | CHECK | BUILD BIN | ||||||||
| ChAMP 2.27.0 (landing page) Yuan Tian
| nebbiolo2 | Linux (Ubuntu 20.04.4 LTS) / x86_64 | OK | OK | WARNINGS | |||||||||
| palomino4 | Windows Server 2022 Datacenter / x64 | OK | OK | WARNINGS | OK | |||||||||
| lconway | macOS 12.2.1 Monterey / x86_64 | OK | OK | WARNINGS | OK | |||||||||
| kjohnson | macOS 12.4 Monterey / arm64 | ERROR | ERROR | skipped | skipped | |||||||||
| Package: ChAMP |
| Version: 2.27.0 |
| Command: /Library/Frameworks/R.framework/Resources/bin/R CMD build --keep-empty-dirs --no-resave-data ChAMP |
| StartedAt: 2022-07-06 19:16:08 -0400 (Wed, 06 Jul 2022) |
| EndedAt: 2022-07-06 19:16:09 -0400 (Wed, 06 Jul 2022) |
| EllapsedTime: 1.2 seconds |
| RetCode: 1 |
| Status: ERROR |
| PackageFile: None |
| PackageFileSize: NA |
##############################################################################
##############################################################################
###
### Running command:
###
### /Library/Frameworks/R.framework/Resources/bin/R CMD build --keep-empty-dirs --no-resave-data ChAMP
###
##############################################################################
##############################################################################
* checking for file ‘ChAMP/DESCRIPTION’ ... OK
* preparing ‘ChAMP’:
* checking DESCRIPTION meta-information ... OK
* installing the package to build vignettes
-----------------------------------
ERROR: dependencies ‘minfi’, ‘DMRcate’, ‘IlluminaHumanMethylationEPICmanifest’, ‘sva’, ‘IlluminaHumanMethylation450kmanifest’, ‘IlluminaHumanMethylationEPICanno.ilm10b4.hg19’, ‘DNAcopy’, ‘preprocessCore’, ‘impute’, ‘wateRmelon’, ‘goseq’, ‘missMethyl’, ‘bumphunter’ are not available for package ‘ChAMP’
* removing ‘/private/tmp/RtmpOSSrQz/Rinst674165d16ec2/ChAMP’
-----------------------------------
ERROR: package installation failed