| Back to Multiple platform build/check report for BioC 3.16: simplified long |
|
This page was generated on 2023-04-12 11:05:27 -0400 (Wed, 12 Apr 2023).
| Hostname | OS | Arch (*) | R version | Installed pkgs |
|---|---|---|---|---|
| nebbiolo2 | Linux (Ubuntu 20.04.5 LTS) | x86_64 | 4.2.3 (2023-03-15) -- "Shortstop Beagle" | 4502 |
| palomino4 | Windows Server 2022 Datacenter | x64 | 4.2.3 (2023-03-15 ucrt) -- "Shortstop Beagle" | 4282 |
| lconway | macOS 12.5.1 Monterey | x86_64 | 4.2.3 (2023-03-15) -- "Shortstop Beagle" | 4310 |
| Click on any hostname to see more info about the system (e.g. compilers) (*) as reported by 'uname -p', except on Windows and Mac OS X | ||||
|
To the developers/maintainers of the CellaRepertorium package: - Please allow up to 24 hours (and sometimes 48 hours) for your latest push to git@git.bioconductor.org:packages/CellaRepertorium.git to reflect on this report. See How and When does the builder pull? When will my changes propagate? for more information. - Make sure to use the following settings in order to reproduce any error or warning you see on this page. |
| Package 272/2183 | Hostname | OS / Arch | INSTALL | BUILD | CHECK | BUILD BIN | ||||||||
| CellaRepertorium 1.8.0 (landing page) Andrew McDavid
| nebbiolo2 | Linux (Ubuntu 20.04.5 LTS) / x86_64 | OK | OK | OK | |||||||||
| palomino4 | Windows Server 2022 Datacenter / x64 | OK | OK | OK | OK | |||||||||
| lconway | macOS 12.5.1 Monterey / x86_64 | OK | OK | OK | OK | |||||||||
| Package: CellaRepertorium |
| Version: 1.8.0 |
| Command: F:\biocbuild\bbs-3.16-bioc\R\bin\R.exe CMD check --no-multiarch --install=check:CellaRepertorium.install-out.txt --library=F:\biocbuild\bbs-3.16-bioc\R\library --no-vignettes --timings CellaRepertorium_1.8.0.tar.gz |
| StartedAt: 2023-04-10 23:44:26 -0400 (Mon, 10 Apr 2023) |
| EndedAt: 2023-04-10 23:47:20 -0400 (Mon, 10 Apr 2023) |
| EllapsedTime: 174.1 seconds |
| RetCode: 0 |
| Status: OK |
| CheckDir: CellaRepertorium.Rcheck |
| Warnings: 0 |
############################################################################## ############################################################################## ### ### Running command: ### ### F:\biocbuild\bbs-3.16-bioc\R\bin\R.exe CMD check --no-multiarch --install=check:CellaRepertorium.install-out.txt --library=F:\biocbuild\bbs-3.16-bioc\R\library --no-vignettes --timings CellaRepertorium_1.8.0.tar.gz ### ############################################################################## ############################################################################## * using log directory 'F:/biocbuild/bbs-3.16-bioc/meat/CellaRepertorium.Rcheck' * using R version 4.2.3 (2023-03-15 ucrt) * using platform: x86_64-w64-mingw32 (64-bit) * using session charset: UTF-8 * using option '--no-vignettes' * checking for file 'CellaRepertorium/DESCRIPTION' ... OK * checking extension type ... Package * this is package 'CellaRepertorium' version '1.8.0' * package encoding: UTF-8 * checking package namespace information ... OK * checking package dependencies ... OK * checking if this is a source package ... OK * checking if there is a namespace ... OK * checking for hidden files and directories ... OK * checking for portable file names ... OK * checking whether package 'CellaRepertorium' can be installed ... OK * checking installed package size ... OK * checking package directory ... OK * checking 'build' directory ... OK * checking DESCRIPTION meta-information ... OK * checking top-level files ... OK * checking for left-over files ... OK * checking index information ... OK * checking package subdirectories ... OK * checking R files for non-ASCII characters ... OK * checking R files for syntax errors ... OK * checking whether the package can be loaded ... OK * checking whether the package can be loaded with stated dependencies ... OK * checking whether the package can be unloaded cleanly ... OK * checking whether the namespace can be loaded with stated dependencies ... OK * checking whether the namespace can be unloaded cleanly ... OK * checking dependencies in R code ... OK * checking S3 generic/method consistency ... OK * checking replacement functions ... OK * checking foreign function calls ... OK * checking R code for possible problems ... NOTE cross_tab_tbl: no visible binding for global variable '.' cross_tab_tbl: no visible binding for global variable 'x_key__' fancy_name_contigs: no visible binding for global variable '.' pairing_tables: no visible binding for global variable '.' plot_cluster_factors: no visible binding for global variable 'chain' Undefined global functions or variables: . chain x_key__ * checking Rd files ... OK * checking Rd metadata ... OK * checking Rd cross-references ... OK * checking for missing documentation entries ... OK * checking for code/documentation mismatches ... OK * checking Rd \usage sections ... OK * checking Rd contents ... OK * checking for unstated dependencies in examples ... OK * checking contents of 'data' directory ... OK * checking data for non-ASCII characters ... OK * checking data for ASCII and uncompressed saves ... OK * checking line endings in C/C++/Fortran sources/headers ... OK * checking compiled code ... NOTE Note: information on .o files for x64 is not available File 'F:/biocbuild/bbs-3.16-bioc/R/library/CellaRepertorium/libs/x64/CellaRepertorium.dll': Found 'abort', possibly from 'abort' (C), 'runtime' (Fortran) Found 'exit', possibly from 'exit' (C), 'stop' (Fortran) Compiled code should not call entry points which might terminate R nor write to stdout/stderr instead of to the console, nor use Fortran I/O nor system RNGs. The detected symbols are linked into the code but might come from libraries and not actually be called. See 'Writing portable packages' in the 'Writing R Extensions' manual. * checking files in 'vignettes' ... OK * checking examples ... OK * checking for unstated dependencies in 'tests' ... OK * checking tests ... Running 'testthat.R' OK * checking for unstated dependencies in vignettes ... OK * checking package vignettes in 'inst/doc' ... OK * checking running R code from vignettes ... SKIPPED * checking re-building of vignette outputs ... SKIPPED * checking PDF version of manual ... OK * DONE Status: 2 NOTEs See 'F:/biocbuild/bbs-3.16-bioc/meat/CellaRepertorium.Rcheck/00check.log' for details.
CellaRepertorium.Rcheck/00install.out
##############################################################################
##############################################################################
###
### Running command:
###
### F:\biocbuild\bbs-3.16-bioc\R\bin\R.exe CMD INSTALL CellaRepertorium
###
##############################################################################
##############################################################################
* installing to library 'F:/biocbuild/bbs-3.16-bioc/R/library'
* installing *source* package 'CellaRepertorium' ...
** using staged installation
** libs
g++ -std=gnu++14 -I"F:/biocbuild/bbs-3.16-bioc/R/include" -DNDEBUG -I'F:/biocbuild/bbs-3.16-bioc/R/library/Rcpp/include' -I"C:/rtools42/x86_64-w64-mingw32.static.posix/include" -O2 -Wall -mfpmath=sse -msse2 -mstackrealign -c RcppExports.cpp -o RcppExports.o
g++ -std=gnu++14 -I"F:/biocbuild/bbs-3.16-bioc/R/include" -DNDEBUG -I'F:/biocbuild/bbs-3.16-bioc/R/library/Rcpp/include' -I"C:/rtools42/x86_64-w64-mingw32.static.posix/include" -O2 -Wall -mfpmath=sse -msse2 -mstackrealign -c cdhit-bombs.cpp -o cdhit-bombs.o
In file included from cdhit-bombs.cpp:2:
cdhit-common.h: In member function 'void WorkingBuffer::Set(size_t, size_t, const Options&)':
cdhit-common.h:494:12: warning: comparison of integer expressions of different signedness: 'size_t' {aka 'long long unsigned int'} and 'const int' [-Wsign-compare]
494 | if( band > options.band_width ) band = options.band_width;
| ~~~~~^~~~~~~~~~~~~~~~~~~~
g++ -std=gnu++14 -I"F:/biocbuild/bbs-3.16-bioc/R/include" -DNDEBUG -I'F:/biocbuild/bbs-3.16-bioc/R/library/Rcpp/include' -I"C:/rtools42/x86_64-w64-mingw32.static.posix/include" -O2 -Wall -mfpmath=sse -msse2 -mstackrealign -c cdhit-common.cpp -o cdhit-common.o
cdhit-common.cpp:160: warning: ignoring '#pragma omp critical' [-Wunknown-pragmas]
160 | #pragma omp critical
|
cdhit-common.cpp:174: warning: ignoring '#pragma omp critical' [-Wunknown-pragmas]
174 | #pragma omp critical
|
cdhit-common.cpp:2418: warning: ignoring '#pragma omp parallel' [-Wunknown-pragmas]
2418 | #pragma omp parallel for schedule( dynamic, 1 )
|
cdhit-common.cpp:2435: warning: ignoring '#pragma omp parallel' [-Wunknown-pragmas]
2435 | #pragma omp parallel for schedule( dynamic, 1 )
|
cdhit-common.cpp:2437: warning: ignoring '#pragma omp flush' [-Wunknown-pragmas]
2437 | #pragma omp flush (stop)
|
cdhit-common.cpp:2458: warning: ignoring '#pragma omp critical' [-Wunknown-pragmas]
2458 | #pragma omp critical
|
cdhit-common.cpp:2467: warning: ignoring '#pragma omp flush' [-Wunknown-pragmas]
2467 | #pragma omp flush (stop)
|
cdhit-common.cpp:2492: warning: ignoring '#pragma omp parallel' [-Wunknown-pragmas]
2492 | #pragma omp parallel for schedule( dynamic, 1 )
|
cdhit-common.cpp:3151: warning: ignoring '#pragma omp parallel' [-Wunknown-pragmas]
3151 | #pragma omp parallel for schedule( dynamic, 1 )
|
In file included from cdhit-common.cpp:37:
cdhit-common.h: In member function 'void WorkingBuffer::Set(size_t, size_t, const Options&)':
cdhit-common.h:494:12: warning: comparison of integer expressions of different signedness: 'size_t' {aka 'long long unsigned int'} and 'const int' [-Wsign-compare]
494 | if( band > options.band_width ) band = options.band_width;
| ~~~~~^~~~~~~~~~~~~~~~~~~~
cdhit-common.cpp: In function 'int diag_test_aapn(int, char*, int, int, WorkingBuffer&, int&, int, int&, int&, int&, int)':
cdhit-common.cpp:545:6: warning: variable 'max_diag' set but not used [-Wunused-but-set-variable]
545 | int max_diag = 0;
| ^~~~~~~~
cdhit-common.cpp: In function 'int diag_test_aapn_est(int, char*, int, int, WorkingBuffer&, int&, int, int&, int&, int&, int)':
cdhit-common.cpp:669:6: warning: variable 'max_diag' set but not used [-Wunused-but-set-variable]
669 | int max_diag = 0;
| ^~~~~~~~
cdhit-common.cpp: In member function 'void SequenceDB::SortDivide(Options&, bool)':
cdhit-common.cpp:1774:11: warning: comparison of integer expressions of different signedness: 'int' and 'size_t' {aka 'long long unsigned int'} [-Wsign-compare]
1774 | if (len > max_len) max_len = len;
| ~~~~^~~~~~~~~
cdhit-common.cpp:1775:11: warning: comparison of integer expressions of different signedness: 'int' and 'size_t' {aka 'long long unsigned int'} [-Wsign-compare]
1775 | if (len < min_len) min_len = len;
| ~~~~^~~~~~~~~
cdhit-common.cpp: In member function 'void SequenceDB::DoClustering(int, const Options&)':
cdhit-common.cpp:2379:9: warning: variable 'mem' set but not used [-Wunused-but-set-variable]
2379 | size_t mem, mega = 1000000;
| ^~~
In file included from cdhit-common.cpp:37:
In member function 'void NVector<TYPE>::Resize(int, const TYPE&) [with TYPE = long long int]',
inlined from 'NVector<TYPE>::NVector(int, const TYPE&) [with TYPE = long long int]' at cdhit-common.h:124:10,
inlined from 'int local_band_align(char*, char*, int, int, ScoreMatrix&, int&, int&, int&, float&, int*, int, int, int, WorkingBuffer&)' at cdhit-common.cpp:802:36:
cdhit-common.h:149:27: warning: argument 1 range [18446744056529682448, 18446744073709551608] exceeds maximum object size 9223372036854775807 [-Walloc-size-larger-than=]
149 | items = (TYPE*)realloc( items, capacity*sizeof(TYPE) );
| ~~~~~~~^~~~~~~~~~~~~~~~~~~~~~~~~~~~~~~~
cdhit-common.h: In function 'int local_band_align(char*, char*, int, int, ScoreMatrix&, int&, int&, int&, float&, int*, int, int, int, WorkingBuffer&)':
cdhit-common.h:149:27: note: in a call to built-in allocation function 'void* __builtin_malloc(long long unsigned int)'
g++ -std=gnu++14 -I"F:/biocbuild/bbs-3.16-bioc/R/include" -DNDEBUG -I'F:/biocbuild/bbs-3.16-bioc/R/library/Rcpp/include' -I"C:/rtools42/x86_64-w64-mingw32.static.posix/include" -O2 -Wall -mfpmath=sse -msse2 -mstackrealign -c cdhit-est.cpp -o cdhit-est.o
In file included from cdhit-est.cpp:32:
cdhit-common.h: In member function 'void WorkingBuffer::Set(size_t, size_t, const Options&)':
cdhit-common.h:494:12: warning: comparison of integer expressions of different signedness: 'size_t' {aka 'long long unsigned int'} and 'const int' [-Wsign-compare]
494 | if( band > options.band_width ) band = options.band_width;
| ~~~~~^~~~~~~~~~~~~~~~~~~~
g++ -std=gnu++14 -I"F:/biocbuild/bbs-3.16-bioc/R/include" -DNDEBUG -I'F:/biocbuild/bbs-3.16-bioc/R/library/Rcpp/include' -I"C:/rtools42/x86_64-w64-mingw32.static.posix/include" -O2 -Wall -mfpmath=sse -msse2 -mstackrealign -c cdhit.cpp -o cdhit.o
In file included from cdhit.cpp:31:
cdhit-common.h: In member function 'void WorkingBuffer::Set(size_t, size_t, const Options&)':
cdhit-common.h:494:12: warning: comparison of integer expressions of different signedness: 'size_t' {aka 'long long unsigned int'} and 'const int' [-Wsign-compare]
494 | if( band > options.band_width ) band = options.band_width;
| ~~~~~^~~~~~~~~~~~~~~~~~~~
g++ -std=gnu++14 -I"F:/biocbuild/bbs-3.16-bioc/R/include" -DNDEBUG -I'F:/biocbuild/bbs-3.16-bioc/R/library/Rcpp/include' -I"C:/rtools42/x86_64-w64-mingw32.static.posix/include" -O2 -Wall -mfpmath=sse -msse2 -mstackrealign -c progress.cpp -o progress.o
g++ -std=gnu++14 -shared -s -static-libgcc -o CellaRepertorium.dll tmp.def RcppExports.o cdhit-bombs.o cdhit-common.o cdhit-est.o cdhit.o progress.o -LC:/rtools42/x86_64-w64-mingw32.static.posix/lib/x64 -LC:/rtools42/x86_64-w64-mingw32.static.posix/lib -LF:/biocbuild/bbs-3.16-bioc/R/bin/x64 -lR
installing to F:/biocbuild/bbs-3.16-bioc/R/library/00LOCK-CellaRepertorium/00new/CellaRepertorium/libs/x64
** R
** data
** inst
** byte-compile and prepare package for lazy loading
** help
*** installing help indices
*** copying figures
** building package indices
** installing vignettes
** testing if installed package can be loaded from temporary location
** testing if installed package can be loaded from final location
** testing if installed package keeps a record of temporary installation path
* DONE (CellaRepertorium)
CellaRepertorium.Rcheck/tests/testthat.Rout
R version 4.2.3 (2023-03-15 ucrt) -- "Shortstop Beagle"
Copyright (C) 2023 The R Foundation for Statistical Computing
Platform: x86_64-w64-mingw32/x64 (64-bit)
R is free software and comes with ABSOLUTELY NO WARRANTY.
You are welcome to redistribute it under certain conditions.
Type 'license()' or 'licence()' for distribution details.
R is a collaborative project with many contributors.
Type 'contributors()' for more information and
'citation()' on how to cite R or R packages in publications.
Type 'demo()' for some demos, 'help()' for on-line help, or
'help.start()' for an HTML browser interface to help.
Type 'q()' to quit R.
> library(testthat)
> library(CellaRepertorium)
>
> test_check("CellaRepertorium")
[ FAIL 0 | WARN 4 | SKIP 0 | PASS 81 ]
[ FAIL 0 | WARN 4 | SKIP 0 | PASS 81 ]
>
> proc.time()
user system elapsed
23.42 1.75 25.21
CellaRepertorium.Rcheck/CellaRepertorium-Ex.timings
| name | user | system | elapsed | |
| ContigCellDB-fun | 0.17 | 0.13 | 0.29 | |
| canonicalize_cell | 0.34 | 0.09 | 0.44 | |
| canonicalize_cluster | 2.88 | 0.21 | 3.09 | |
| cash-ContigCellDB-method | 0.22 | 0.29 | 0.52 | |
| ccdb_join | 0.09 | 0.10 | 0.19 | |
| cdhit | 0.14 | 0.14 | 0.28 | |
| cdhit_ccdb | 0.22 | 0.08 | 0.30 | |
| cland | 3.20 | 0.20 | 3.42 | |
| cluster_filterset | 0 | 0 | 0 | |
| cluster_germline | 0.09 | 0.11 | 0.20 | |
| cluster_logistic_test | 3.78 | 0.47 | 4.74 | |
| cluster_permute_test | 0.85 | 0.02 | 0.86 | |
| cluster_plot | 2.00 | 0.19 | 2.18 | |
| cross_tab_tbl | 0.14 | 0.00 | 0.16 | |
| crosstab_by_celltype | 0.19 | 0.14 | 0.33 | |
| entropy | 0 | 0 | 0 | |
| enumerate_pairing | 0.45 | 0.15 | 0.61 | |
| equalize_ccdb | 0.06 | 0.00 | 0.06 | |
| fancy_name_contigs | 0.53 | 0.05 | 0.58 | |
| fine_cluster_seqs | 0.03 | 0.00 | 0.03 | |
| fine_clustering | 1.68 | 0.11 | 1.80 | |
| generate_pseudobulk | 0.14 | 0.14 | 0.28 | |
| guess_celltype | 0.09 | 0.08 | 0.17 | |
| hushWarning | 0 | 0 | 0 | |
| left_join_warn | 0.02 | 0.00 | 0.02 | |
| map_axis_labels | 0.17 | 0.03 | 0.22 | |
| mutate_cdb | 0.13 | 0.27 | 0.40 | |
| pairing_tables | 0.73 | 0.00 | 0.73 | |
| plot_cluster_factors | 4.06 | 0.30 | 4.36 | |
| purity | 0 | 0 | 0 | |
| rank_prevalence_ccdb | 0.33 | 0.09 | 0.43 | |
| rbind-ContigCellDB-method | 0.15 | 0.09 | 0.25 | |
| split_cdb | 0.08 | 0.13 | 0.21 | |
| sub-sub-ContigCellDB-character-missing-method | 0.07 | 0.10 | 0.17 | |