| Back to Multiple platform build/check report for BioC 3.16: simplified long |
|
This page was generated on 2023-04-12 11:06:03 -0400 (Wed, 12 Apr 2023).
| Hostname | OS | Arch (*) | R version | Installed pkgs |
|---|---|---|---|---|
| nebbiolo2 | Linux (Ubuntu 20.04.5 LTS) | x86_64 | 4.2.3 (2023-03-15) -- "Shortstop Beagle" | 4502 |
| palomino4 | Windows Server 2022 Datacenter | x64 | 4.2.3 (2023-03-15 ucrt) -- "Shortstop Beagle" | 4282 |
| lconway | macOS 12.5.1 Monterey | x86_64 | 4.2.3 (2023-03-15) -- "Shortstop Beagle" | 4310 |
| Click on any hostname to see more info about the system (e.g. compilers) (*) as reported by 'uname -p', except on Windows and Mac OS X | ||||
|
To the developers/maintainers of the COSNet package: - Please allow up to 24 hours (and sometimes 48 hours) for your latest push to git@git.bioconductor.org:packages/COSNet.git to reflect on this report. See How and When does the builder pull? When will my changes propagate? for more information. - Make sure to use the following settings in order to reproduce any error or warning you see on this page. |
| Package 424/2183 | Hostname | OS / Arch | INSTALL | BUILD | CHECK | BUILD BIN | ||||||||
| COSNet 1.32.0 (landing page) Marco Frasca
| nebbiolo2 | Linux (Ubuntu 20.04.5 LTS) / x86_64 | OK | OK | OK | |||||||||
| palomino4 | Windows Server 2022 Datacenter / x64 | OK | OK | OK | OK | |||||||||
| lconway | macOS 12.5.1 Monterey / x86_64 | OK | OK | OK | OK | |||||||||
| Package: COSNet |
| Version: 1.32.0 |
| Command: rm -rf COSNet.buildbin-libdir && mkdir COSNet.buildbin-libdir && /Users/biocbuild/BBS/utils/build-universal.sh COSNet_1.32.0.tar.gz /Library/Frameworks/R.framework/Resources/bin/R COSNet.buildbin-libdir |
| StartedAt: 2023-04-10 23:38:38 -0400 (Mon, 10 Apr 2023) |
| EndedAt: 2023-04-10 23:38:42 -0400 (Mon, 10 Apr 2023) |
| EllapsedTime: 4.6 seconds |
| RetCode: 0 |
| Status: OK |
| PackageFile: COSNet_1.32.0.tgz |
| PackageFileSize: 559.4 KiB |
##############################################################################
##############################################################################
###
### Running command:
###
### rm -rf COSNet.buildbin-libdir && mkdir COSNet.buildbin-libdir && /Users/biocbuild/BBS/utils/build-universal.sh COSNet_1.32.0.tar.gz /Library/Frameworks/R.framework/Resources/bin/R COSNet.buildbin-libdir
###
##############################################################################
##############################################################################
>>>>>>>
>>>>>>> INSTALLATION WITH 'R CMD INSTALL --preclean --no-multiarch --library=COSNet.buildbin-libdir COSNet_1.32.0.tar.gz'
>>>>>>>
* installing *source* package ‘COSNet’ ...
** using staged installation
** libs
clang -mmacosx-version-min=10.13 -I"/Library/Frameworks/R.framework/Resources/include" -DNDEBUG -I/usr/local/include -fPIC -Wall -g -O2 -c COSNet.c -o COSNet.o
COSNet.c:403:61: warning: variable 'tn_o' set but not used [-Wunused-but-set-variable]
int N_pos = 0, pos_halfplane = 0, N_neg, tp_o, fn_o, fp_o, tn_o, tp_u, fn_u, fp_u, tn_u,
^
1 warning generated.
clang -mmacosx-version-min=10.13 -dynamiclib -Wl,-headerpad_max_install_names -undefined dynamic_lookup -single_module -multiply_defined suppress -L/Library/Frameworks/R.framework/Resources/lib -L/usr/local/lib -o COSNet.so COSNet.o -F/Library/Frameworks/R.framework/.. -framework R -Wl,-framework -Wl,CoreFoundation
installing to /Users/biocbuild/bbs-3.16-bioc/meat/COSNet.buildbin-libdir/00LOCK-COSNet/00new/COSNet/libs
** R
** inst
** byte-compile and prepare package for lazy loading
** help
*** installing help indices
** building package indices
** installing vignettes
** testing if installed package can be loaded from temporary location
COSNet: Cost-Sensitive algorithm for binary classification in graphs.
** checking absolute paths in shared objects and dynamic libraries
** testing if installed package can be loaded from final location
COSNet: Cost-Sensitive algorithm for binary classification in graphs.
** testing if installed package keeps a record of temporary installation path
* DONE (COSNet)
>>>>>>>
>>>>>>> FIXING LINKS FOR COSNet.buildbin-libdir/COSNet/libs/COSNet.so
>>>>>>>
install_name_tool -change "/usr/local/lib/libgcc_s.1.dylib" "/Library/Frameworks/R.framework/Versions/4.2/Resources/lib/libgcc_s.1.dylib" "COSNet.buildbin-libdir/COSNet/libs/COSNet.so"
install_name_tool -change "/usr/local/lib/libgfortran.5.dylib" "/Library/Frameworks/R.framework/Versions/4.2/Resources/lib/libgfortran.5.dylib" "COSNet.buildbin-libdir/COSNet/libs/COSNet.so"
install_name_tool -change "/usr/local/lib/libquadmath.0.dylib" "/Library/Frameworks/R.framework/Versions/4.2/Resources/lib/libquadmath.0.dylib" "COSNet.buildbin-libdir/COSNet/libs/COSNet.so"