| Back to Multiple platform build/check report for BioC 3.16: simplified long |
|
This page was generated on 2023-04-12 11:05:29 -0400 (Wed, 12 Apr 2023).
| Hostname | OS | Arch (*) | R version | Installed pkgs |
|---|---|---|---|---|
| nebbiolo2 | Linux (Ubuntu 20.04.5 LTS) | x86_64 | 4.2.3 (2023-03-15) -- "Shortstop Beagle" | 4502 |
| palomino4 | Windows Server 2022 Datacenter | x64 | 4.2.3 (2023-03-15 ucrt) -- "Shortstop Beagle" | 4282 |
| lconway | macOS 12.5.1 Monterey | x86_64 | 4.2.3 (2023-03-15) -- "Shortstop Beagle" | 4310 |
| Click on any hostname to see more info about the system (e.g. compilers) (*) as reported by 'uname -p', except on Windows and Mac OS X | ||||
|
To the developers/maintainers of the COHCAP package: - Please allow up to 24 hours (and sometimes 48 hours) for your latest push to git@git.bioconductor.org:packages/COHCAP.git to reflect on this report. See How and When does the builder pull? When will my changes propagate? for more information. - Make sure to use the following settings in order to reproduce any error or warning you see on this page. |
| Package 385/2183 | Hostname | OS / Arch | INSTALL | BUILD | CHECK | BUILD BIN | ||||||||
| COHCAP 1.44.0 (landing page) Charles Warden
| nebbiolo2 | Linux (Ubuntu 20.04.5 LTS) / x86_64 | OK | OK | OK | |||||||||
| palomino4 | Windows Server 2022 Datacenter / x64 | OK | OK | OK | OK | |||||||||
| lconway | macOS 12.5.1 Monterey / x86_64 | OK | OK | OK | OK | |||||||||
| Package: COHCAP |
| Version: 1.44.0 |
| Command: rm -rf COHCAP.buildbin-libdir && mkdir COHCAP.buildbin-libdir && F:\biocbuild\bbs-3.16-bioc\R\bin\R.exe CMD INSTALL --build --library=COHCAP.buildbin-libdir COHCAP_1.44.0.tar.gz |
| StartedAt: 2023-04-11 07:47:38 -0400 (Tue, 11 Apr 2023) |
| EndedAt: 2023-04-11 07:48:22 -0400 (Tue, 11 Apr 2023) |
| EllapsedTime: 43.5 seconds |
| RetCode: 0 |
| Status: OK |
| PackageFile: COHCAP_1.44.0.zip |
| PackageFileSize: 691 KiB |
##############################################################################
##############################################################################
###
### Running command:
###
### rm -rf COHCAP.buildbin-libdir && mkdir COHCAP.buildbin-libdir && F:\biocbuild\bbs-3.16-bioc\R\bin\R.exe CMD INSTALL --build --library=COHCAP.buildbin-libdir COHCAP_1.44.0.tar.gz
###
##############################################################################
##############################################################################
* installing *source* package 'COHCAP' ...
** using staged installation
** libs
g++ -std=gnu++14 -I"F:/biocbuild/bbs-3.16-bioc/R/include" -DNDEBUG -I'F:/biocbuild/bbs-3.16-bioc/R/library/Rcpp/include' -I'F:/biocbuild/bbs-3.16-bioc/R/library/BH/include' -I"C:/rtools42/x86_64-w64-mingw32.static.posix/include" -O2 -Wall -mfpmath=sse -msse2 -mstackrealign -c RcppExports.cpp -o RcppExports.o
g++ -std=gnu++14 -I"F:/biocbuild/bbs-3.16-bioc/R/include" -DNDEBUG -I'F:/biocbuild/bbs-3.16-bioc/R/library/Rcpp/include' -I'F:/biocbuild/bbs-3.16-bioc/R/library/BH/include' -I"C:/rtools42/x86_64-w64-mingw32.static.posix/include" -O2 -Wall -mfpmath=sse -msse2 -mstackrealign -c Rcpp_BH_ANOVA.cpp -o Rcpp_BH_ANOVA.o
In file included from F:/biocbuild/bbs-3.16-bioc/R/library/BH/include/boost/mpl/aux_/na_assert.hpp:23,
from F:/biocbuild/bbs-3.16-bioc/R/library/BH/include/boost/mpl/arg.hpp:25,
from F:/biocbuild/bbs-3.16-bioc/R/library/BH/include/boost/mpl/placeholders.hpp:24,
from F:/biocbuild/bbs-3.16-bioc/R/library/BH/include/boost/iterator/iterator_categories.hpp:16,
from F:/biocbuild/bbs-3.16-bioc/R/library/BH/include/boost/iterator/iterator_facade.hpp:13,
from F:/biocbuild/bbs-3.16-bioc/R/library/BH/include/boost/range/iterator_range_core.hpp:27,
from F:/biocbuild/bbs-3.16-bioc/R/library/BH/include/boost/lexical_cast.hpp:30,
from F:/biocbuild/bbs-3.16-bioc/R/library/BH/include/boost/math/tools/convert_from_string.hpp:15,
from F:/biocbuild/bbs-3.16-bioc/R/library/BH/include/boost/math/constants/constants.hpp:14,
from F:/biocbuild/bbs-3.16-bioc/R/library/BH/include/boost/math/special_functions/gamma.hpp:24,
from F:/biocbuild/bbs-3.16-bioc/R/library/BH/include/boost/math/special_functions/beta.hpp:15,
from F:/biocbuild/bbs-3.16-bioc/R/library/BH/include/boost/math/distributions/fisher_f.hpp:12,
from Rcpp_BH_ANOVA.cpp:4:
F:/biocbuild/bbs-3.16-bioc/R/library/BH/include/boost/mpl/assert.hpp:194:21: warning: unnecessary parentheses in declaration of 'assert_arg' [-Wparentheses]
194 | failed ************ (Pred::************
| ^
F:/biocbuild/bbs-3.16-bioc/R/library/BH/include/boost/mpl/assert.hpp:199:21: warning: unnecessary parentheses in declaration of 'assert_not_arg' [-Wparentheses]
199 | failed ************ (boost::mpl::not_<Pred>::************
| ^
g++ -std=gnu++14 -I"F:/biocbuild/bbs-3.16-bioc/R/include" -DNDEBUG -I'F:/biocbuild/bbs-3.16-bioc/R/library/Rcpp/include' -I'F:/biocbuild/bbs-3.16-bioc/R/library/BH/include' -I"C:/rtools42/x86_64-w64-mingw32.static.posix/include" -O2 -Wall -mfpmath=sse -msse2 -mstackrealign -c Rcpp_BH_linear_regression.cpp -o Rcpp_BH_linear_regression.o
In file included from F:/biocbuild/bbs-3.16-bioc/R/library/BH/include/boost/mpl/aux_/na_assert.hpp:23,
from F:/biocbuild/bbs-3.16-bioc/R/library/BH/include/boost/mpl/arg.hpp:25,
from F:/biocbuild/bbs-3.16-bioc/R/library/BH/include/boost/mpl/placeholders.hpp:24,
from F:/biocbuild/bbs-3.16-bioc/R/library/BH/include/boost/iterator/iterator_categories.hpp:16,
from F:/biocbuild/bbs-3.16-bioc/R/library/BH/include/boost/iterator/iterator_facade.hpp:13,
from F:/biocbuild/bbs-3.16-bioc/R/library/BH/include/boost/range/iterator_range_core.hpp:27,
from F:/biocbuild/bbs-3.16-bioc/R/library/BH/include/boost/lexical_cast.hpp:30,
from F:/biocbuild/bbs-3.16-bioc/R/library/BH/include/boost/math/tools/convert_from_string.hpp:15,
from F:/biocbuild/bbs-3.16-bioc/R/library/BH/include/boost/math/constants/constants.hpp:14,
from F:/biocbuild/bbs-3.16-bioc/R/library/BH/include/boost/math/special_functions/gamma.hpp:24,
from F:/biocbuild/bbs-3.16-bioc/R/library/BH/include/boost/math/special_functions/beta.hpp:15,
from F:/biocbuild/bbs-3.16-bioc/R/library/BH/include/boost/math/distributions/students_t.hpp:16,
from Rcpp_BH_linear_regression.cpp:4:
F:/biocbuild/bbs-3.16-bioc/R/library/BH/include/boost/mpl/assert.hpp:194:21: warning: unnecessary parentheses in declaration of 'assert_arg' [-Wparentheses]
194 | failed ************ (Pred::************
| ^
F:/biocbuild/bbs-3.16-bioc/R/library/BH/include/boost/mpl/assert.hpp:199:21: warning: unnecessary parentheses in declaration of 'assert_not_arg' [-Wparentheses]
199 | failed ************ (boost::mpl::not_<Pred>::************
| ^
g++ -std=gnu++14 -I"F:/biocbuild/bbs-3.16-bioc/R/include" -DNDEBUG -I'F:/biocbuild/bbs-3.16-bioc/R/library/Rcpp/include' -I'F:/biocbuild/bbs-3.16-bioc/R/library/BH/include' -I"C:/rtools42/x86_64-w64-mingw32.static.posix/include" -O2 -Wall -mfpmath=sse -msse2 -mstackrealign -c Rcpp_BH_ttest.cpp -o Rcpp_BH_ttest.o
In file included from F:/biocbuild/bbs-3.16-bioc/R/library/BH/include/boost/mpl/aux_/na_assert.hpp:23,
from F:/biocbuild/bbs-3.16-bioc/R/library/BH/include/boost/mpl/arg.hpp:25,
from F:/biocbuild/bbs-3.16-bioc/R/library/BH/include/boost/mpl/placeholders.hpp:24,
from F:/biocbuild/bbs-3.16-bioc/R/library/BH/include/boost/iterator/iterator_categories.hpp:16,
from F:/biocbuild/bbs-3.16-bioc/R/library/BH/include/boost/iterator/iterator_facade.hpp:13,
from F:/biocbuild/bbs-3.16-bioc/R/library/BH/include/boost/range/iterator_range_core.hpp:27,
from F:/biocbuild/bbs-3.16-bioc/R/library/BH/include/boost/lexical_cast.hpp:30,
from F:/biocbuild/bbs-3.16-bioc/R/library/BH/include/boost/math/tools/convert_from_string.hpp:15,
from F:/biocbuild/bbs-3.16-bioc/R/library/BH/include/boost/math/constants/constants.hpp:14,
from F:/biocbuild/bbs-3.16-bioc/R/library/BH/include/boost/math/special_functions/gamma.hpp:24,
from F:/biocbuild/bbs-3.16-bioc/R/library/BH/include/boost/math/special_functions/beta.hpp:15,
from F:/biocbuild/bbs-3.16-bioc/R/library/BH/include/boost/math/distributions/students_t.hpp:16,
from Rcpp_BH_ttest.cpp:4:
F:/biocbuild/bbs-3.16-bioc/R/library/BH/include/boost/mpl/assert.hpp:194:21: warning: unnecessary parentheses in declaration of 'assert_arg' [-Wparentheses]
194 | failed ************ (Pred::************
| ^
F:/biocbuild/bbs-3.16-bioc/R/library/BH/include/boost/mpl/assert.hpp:199:21: warning: unnecessary parentheses in declaration of 'assert_not_arg' [-Wparentheses]
199 | failed ************ (boost::mpl::not_<Pred>::************
| ^
g++ -std=gnu++14 -shared -s -static-libgcc -o COHCAP.dll tmp.def RcppExports.o Rcpp_BH_ANOVA.o Rcpp_BH_linear_regression.o Rcpp_BH_ttest.o -LC:/rtools42/x86_64-w64-mingw32.static.posix/lib/x64 -LC:/rtools42/x86_64-w64-mingw32.static.posix/lib -LF:/biocbuild/bbs-3.16-bioc/R/bin/x64 -lR
installing to F:/biocbuild/bbs-3.16-bioc/meat/COHCAP.buildbin-libdir/00LOCK-COHCAP/00new/COHCAP/libs/x64
** R
** inst
** byte-compile and prepare package for lazy loading
** help
*** installing help indices
** building package indices
** installing vignettes
** testing if installed package can be loaded from temporary location
** testing if installed package can be loaded from final location
** testing if installed package keeps a record of temporary installation path
* MD5 sums
packaged installation of 'COHCAP' as COHCAP_1.44.0.zip
* DONE (COHCAP)