| Back to Multiple platform build/check report for BioC 3.16 |
|
This page was generated on 2022-07-07 11:10:55 -0400 (Thu, 07 Jul 2022).
| Hostname | OS | Arch (*) | R version | Installed pkgs |
|---|---|---|---|---|
| nebbiolo2 | Linux (Ubuntu 20.04.4 LTS) | x86_64 | 4.2.0 Patched (2022-06-02 r82447) -- "Vigorous Calisthenics" | 4343 |
| palomino4 | Windows Server 2022 Datacenter | x64 | 4.2.0 Patched (2022-06-02 r82447 ucrt) -- "Vigorous Calisthenics" | 4148 |
| lconway | macOS 12.2.1 Monterey | x86_64 | 4.2.0 Patched (2022-05-29 r82424) -- "Vigorous Calisthenics" | 4160 |
| kjohnson | macOS 12.4 Monterey | arm64 | 4.2.0 Patched (2022-06-09 r82473) -- "Vigorous Calisthenics" | 3115 |
| Click on any hostname to see more info about the system (e.g. compilers) (*) as reported by 'uname -p', except on Windows and Mac OS X | ||||
|
To the developers/maintainers of the CNVrd2 package: - Please allow up to 24 hours (and sometimes 48 hours) for your latest push to git@git.bioconductor.org:packages/CNVrd2.git to reflect on this report. See How and When does the builder pull? When will my changes propagate? for more information. - Make sure to use the following settings in order to reproduce any error or warning you see on this page. |
| Package 366/2124 | Hostname | OS / Arch | INSTALL | BUILD | CHECK | BUILD BIN | ||||||||
| CNVrd2 1.35.0 (landing page) Hoang Tan Nguyen
| nebbiolo2 | Linux (Ubuntu 20.04.4 LTS) / x86_64 | OK | OK | OK | |||||||||
| palomino4 | Windows Server 2022 Datacenter / x64 | OK | OK | OK | OK | |||||||||
| lconway | macOS 12.2.1 Monterey / x86_64 | ERROR | ERROR | skipped | skipped | |||||||||
| kjohnson | macOS 12.4 Monterey / arm64 | ERROR | ERROR | skipped | skipped | |||||||||
| Package: CNVrd2 |
| Version: 1.35.0 |
| Command: /Library/Frameworks/R.framework/Resources/bin/R CMD build --keep-empty-dirs --no-resave-data CNVrd2 |
| StartedAt: 2022-07-06 19:38:17 -0400 (Wed, 06 Jul 2022) |
| EndedAt: 2022-07-06 19:38:18 -0400 (Wed, 06 Jul 2022) |
| EllapsedTime: 1.1 seconds |
| RetCode: 1 |
| Status: ERROR |
| PackageFile: None |
| PackageFileSize: NA |
##############################################################################
##############################################################################
###
### Running command:
###
### /Library/Frameworks/R.framework/Resources/bin/R CMD build --keep-empty-dirs --no-resave-data CNVrd2
###
##############################################################################
##############################################################################
* checking for file ‘CNVrd2/DESCRIPTION’ ... OK
* preparing ‘CNVrd2’:
* checking DESCRIPTION meta-information ... OK
* installing the package to build vignettes
-----------------------------------
ERROR: dependencies ‘VariantAnnotation’, ‘DNAcopy’ are not available for package ‘CNVrd2’
* removing ‘/private/tmp/Rtmpg2rs5o/Rinst98031c02b5af/CNVrd2’
-----------------------------------
ERROR: package installation failed