| Back to Multiple platform build/check report for BioC 3.16: simplified long |
|
This page was generated on 2023-04-12 11:05:28 -0400 (Wed, 12 Apr 2023).
| Hostname | OS | Arch (*) | R version | Installed pkgs |
|---|---|---|---|---|
| nebbiolo2 | Linux (Ubuntu 20.04.5 LTS) | x86_64 | 4.2.3 (2023-03-15) -- "Shortstop Beagle" | 4502 |
| palomino4 | Windows Server 2022 Datacenter | x64 | 4.2.3 (2023-03-15 ucrt) -- "Shortstop Beagle" | 4282 |
| lconway | macOS 12.5.1 Monterey | x86_64 | 4.2.3 (2023-03-15) -- "Shortstop Beagle" | 4310 |
| Click on any hostname to see more info about the system (e.g. compilers) (*) as reported by 'uname -p', except on Windows and Mac OS X | ||||
|
To the developers/maintainers of the CNORdt package: - Please allow up to 24 hours (and sometimes 48 hours) for your latest push to git@git.bioconductor.org:packages/CNORdt.git to reflect on this report. See How and When does the builder pull? When will my changes propagate? for more information. - Make sure to use the following settings in order to reproduce any error or warning you see on this page. |
| Package 362/2183 | Hostname | OS / Arch | INSTALL | BUILD | CHECK | BUILD BIN | ||||||||
| CNORdt 1.40.0 (landing page) A. MacNamara
| nebbiolo2 | Linux (Ubuntu 20.04.5 LTS) / x86_64 | OK | OK | OK | |||||||||
| palomino4 | Windows Server 2022 Datacenter / x64 | OK | OK | OK | OK | |||||||||
| lconway | macOS 12.5.1 Monterey / x86_64 | OK | OK | OK | OK | |||||||||
| Package: CNORdt |
| Version: 1.40.0 |
| Command: rm -rf CNORdt.buildbin-libdir && mkdir CNORdt.buildbin-libdir && F:\biocbuild\bbs-3.16-bioc\R\bin\R.exe CMD INSTALL --build --library=CNORdt.buildbin-libdir CNORdt_1.40.0.tar.gz |
| StartedAt: 2023-04-11 07:45:56 -0400 (Tue, 11 Apr 2023) |
| EndedAt: 2023-04-11 07:46:21 -0400 (Tue, 11 Apr 2023) |
| EllapsedTime: 25.7 seconds |
| RetCode: 0 |
| Status: OK |
| PackageFile: CNORdt_1.40.0.zip |
| PackageFileSize: 214.6 KiB |
##############################################################################
##############################################################################
###
### Running command:
###
### rm -rf CNORdt.buildbin-libdir && mkdir CNORdt.buildbin-libdir && F:\biocbuild\bbs-3.16-bioc\R\bin\R.exe CMD INSTALL --build --library=CNORdt.buildbin-libdir CNORdt_1.40.0.tar.gz
###
##############################################################################
##############################################################################
* installing *source* package 'CNORdt' ...
** using staged installation
** libs
gcc -I"F:/biocbuild/bbs-3.16-bioc/R/include" -DNDEBUG -I"C:/rtools42/x86_64-w64-mingw32.static.posix/include" -O2 -Wall -std=gnu99 -mfpmath=sse -msse2 -mstackrealign -c simulatorDT.c -o simulatorDT.o
simulatorDT.c: In function 'simulatorDT':
simulatorDT.c:55:6: warning: unused variable 'nTimes' [-Wunused-variable]
55 | int nTimes = INTEGER(nTimes_in)[0];
| ^~~~~~
simulatorDT.c:53:6: warning: unused variable 'nSignals' [-Wunused-variable]
53 | int nSignals = INTEGER(nSignals_in)[0];
| ^~~~~~~~
gcc -shared -s -static-libgcc -o CNORdt.dll tmp.def simulatorDT.o -LC:/rtools42/x86_64-w64-mingw32.static.posix/lib/x64 -LC:/rtools42/x86_64-w64-mingw32.static.posix/lib -LF:/biocbuild/bbs-3.16-bioc/R/bin/x64 -lR
installing to F:/biocbuild/bbs-3.16-bioc/meat/CNORdt.buildbin-libdir/00LOCK-CNORdt/00new/CNORdt/libs/x64
** R
** data
** inst
** byte-compile and prepare package for lazy loading
** help
*** installing help indices
** building package indices
** installing vignettes
** testing if installed package can be loaded from temporary location
** testing if installed package can be loaded from final location
** testing if installed package keeps a record of temporary installation path
* MD5 sums
packaged installation of 'CNORdt' as CNORdt_1.40.0.zip
* DONE (CNORdt)