| Back to Multiple platform build/check report for BioC 3.16: simplified long |
|
This page was generated on 2023-04-12 11:06:02 -0400 (Wed, 12 Apr 2023).
| Hostname | OS | Arch (*) | R version | Installed pkgs |
|---|---|---|---|---|
| nebbiolo2 | Linux (Ubuntu 20.04.5 LTS) | x86_64 | 4.2.3 (2023-03-15) -- "Shortstop Beagle" | 4502 |
| palomino4 | Windows Server 2022 Datacenter | x64 | 4.2.3 (2023-03-15 ucrt) -- "Shortstop Beagle" | 4282 |
| lconway | macOS 12.5.1 Monterey | x86_64 | 4.2.3 (2023-03-15) -- "Shortstop Beagle" | 4310 |
| Click on any hostname to see more info about the system (e.g. compilers) (*) as reported by 'uname -p', except on Windows and Mac OS X | ||||
|
To the developers/maintainers of the CGHnormaliter package: - Please allow up to 24 hours (and sometimes 48 hours) for your latest push to git@git.bioconductor.org:packages/CGHnormaliter.git to reflect on this report. See How and When does the builder pull? When will my changes propagate? for more information. - Make sure to use the following settings in order to reproduce any error or warning you see on this page. |
| Package 300/2183 | Hostname | OS / Arch | INSTALL | BUILD | CHECK | BUILD BIN | ||||||||
| CGHnormaliter 1.52.0 (landing page) Bart P.P. van Houte
| nebbiolo2 | Linux (Ubuntu 20.04.5 LTS) / x86_64 | OK | OK | OK | |||||||||
| palomino4 | Windows Server 2022 Datacenter / x64 | OK | OK | OK | OK | |||||||||
| lconway | macOS 12.5.1 Monterey / x86_64 | OK | OK | OK | OK | |||||||||
| Package: CGHnormaliter |
| Version: 1.52.0 |
| Command: /Library/Frameworks/R.framework/Resources/bin/R CMD check --install=check:CGHnormaliter.install-out.txt --library=/Library/Frameworks/R.framework/Resources/library --no-vignettes --timings CGHnormaliter_1.52.0.tar.gz |
| StartedAt: 2023-04-10 19:20:01 -0400 (Mon, 10 Apr 2023) |
| EndedAt: 2023-04-10 19:21:23 -0400 (Mon, 10 Apr 2023) |
| EllapsedTime: 82.5 seconds |
| RetCode: 0 |
| Status: OK |
| CheckDir: CGHnormaliter.Rcheck |
| Warnings: 0 |
##############################################################################
##############################################################################
###
### Running command:
###
### /Library/Frameworks/R.framework/Resources/bin/R CMD check --install=check:CGHnormaliter.install-out.txt --library=/Library/Frameworks/R.framework/Resources/library --no-vignettes --timings CGHnormaliter_1.52.0.tar.gz
###
##############################################################################
##############################################################################
* using log directory ‘/Users/biocbuild/bbs-3.16-bioc/meat/CGHnormaliter.Rcheck’
* using R version 4.2.3 (2023-03-15)
* using platform: x86_64-apple-darwin17.0 (64-bit)
* using session charset: UTF-8
* using option ‘--no-vignettes’
* checking for file ‘CGHnormaliter/DESCRIPTION’ ... OK
* checking extension type ... Package
* this is package ‘CGHnormaliter’ version ‘1.52.0’
* checking package namespace information ... OK
* checking package dependencies ... OK
* checking if this is a source package ... OK
* checking if there is a namespace ... OK
* checking for hidden files and directories ... OK
* checking for portable file names ... OK
* checking for sufficient/correct file permissions ... OK
* checking whether package ‘CGHnormaliter’ can be installed ... OK
* checking installed package size ... OK
* checking package directory ... OK
* checking ‘build’ directory ... OK
* checking DESCRIPTION meta-information ... NOTE
Malformed Title field: should not end in a period.
Packages listed in more than one of Depends, Imports, Suggests, Enhances:
‘CGHbase’ ‘CGHcall’
A package should be listed in only one of these fields.
* checking top-level files ... OK
* checking for left-over files ... OK
* checking index information ... OK
* checking package subdirectories ... OK
* checking R files for non-ASCII characters ... OK
* checking R files for syntax errors ... OK
* checking whether the package can be loaded ... OK
* checking whether the package can be loaded with stated dependencies ... OK
* checking whether the package can be unloaded cleanly ... OK
* checking whether the namespace can be loaded with stated dependencies ... OK
* checking whether the namespace can be unloaded cleanly ... OK
* checking dependencies in R code ... OK
* checking S3 generic/method consistency ... OK
* checking replacement functions ... OK
* checking foreign function calls ... OK
* checking R code for possible problems ... NOTE
.plotMA: no visible global function definition for ‘pdf’
.plotMA: no visible global function definition for ‘palette’
.plotMA: no visible global function definition for ‘par’
.plotMA: no visible global function definition for ‘title’
.plotMA: no visible global function definition for ‘abline’
.plotMA: no visible global function definition for ‘dev.off’
.readCghRaw: no visible global function definition for ‘read.table’
.readCghRaw: no visible global function definition for ‘make_cghRaw’
.runCGHcall: no visible global function definition for ‘capture.output’
.runCGHcall: no visible global function definition for ‘ExpandCGHcall’
CGHnormaliter: no visible binding for global variable ‘segment’
CGHnormaliter: no visible global function definition for
‘capture.output’
CGHnormaliter: no visible global function definition for ‘normalize’
CGHnormaliter: no visible global function definition for
‘postsegnormalize’
CGHnormaliter.write.table: no visible global function definition for
‘segmented’
CGHnormaliter.write.table: no visible global function definition for
‘calls’
Undefined global functions or variables:
ExpandCGHcall abline calls capture.output dev.off make_cghRaw
normalize palette par pdf postsegnormalize read.table segment
segmented title
Consider adding
importFrom("grDevices", "dev.off", "palette", "pdf")
importFrom("graphics", "abline", "par", "title")
importFrom("utils", "capture.output", "read.table")
to your NAMESPACE file.
* checking Rd files ... OK
* checking Rd metadata ... OK
* checking Rd cross-references ... OK
* checking for missing documentation entries ... OK
* checking for code/documentation mismatches ... OK
* checking Rd \usage sections ... OK
* checking Rd contents ... OK
* checking for unstated dependencies in examples ... OK
* checking contents of ‘data’ directory ... OK
* checking data for non-ASCII characters ... OK
* checking data for ASCII and uncompressed saves ... OK
* checking sizes of PDF files under ‘inst/doc’ ... OK
* checking files in ‘vignettes’ ... OK
* checking examples ... OK
Examples with CPU (user + system) or elapsed time > 5s
user system elapsed
CGHnormaliter 41.646 0.436 42.302
* checking for unstated dependencies in vignettes ... OK
* checking package vignettes in ‘inst/doc’ ... OK
* checking running R code from vignettes ... SKIPPED
* checking re-building of vignette outputs ... SKIPPED
* checking PDF version of manual ... OK
* DONE
Status: 2 NOTEs
See
‘/Users/biocbuild/bbs-3.16-bioc/meat/CGHnormaliter.Rcheck/00check.log’
for details.
CGHnormaliter.Rcheck/00install.out
############################################################################## ############################################################################## ### ### Running command: ### ### /Library/Frameworks/R.framework/Resources/bin/R CMD INSTALL CGHnormaliter ### ############################################################################## ############################################################################## * installing to library ‘/Library/Frameworks/R.framework/Versions/4.2/Resources/library’ * installing *source* package ‘CGHnormaliter’ ... ** using staged installation ** R ** data ** byte-compile and prepare package for lazy loading ** help *** installing help indices ** building package indices ** installing vignettes ** testing if installed package can be loaded from temporary location ** testing if installed package can be loaded from final location ** testing if installed package keeps a record of temporary installation path * DONE (CGHnormaliter)
CGHnormaliter.Rcheck/CGHnormaliter-Ex.timings
| name | user | system | elapsed | |
| CGHnormaliter | 41.646 | 0.436 | 42.302 | |
| CGHnormaliter.write.table | 0.199 | 0.005 | 0.207 | |