| Back to Multiple platform build/check report for BioC 3.16: simplified long |
|
This page was generated on 2023-04-12 11:05:00 -0400 (Wed, 12 Apr 2023).
| Hostname | OS | Arch (*) | R version | Installed pkgs |
|---|---|---|---|---|
| nebbiolo2 | Linux (Ubuntu 20.04.5 LTS) | x86_64 | 4.2.3 (2023-03-15) -- "Shortstop Beagle" | 4502 |
| palomino4 | Windows Server 2022 Datacenter | x64 | 4.2.3 (2023-03-15 ucrt) -- "Shortstop Beagle" | 4282 |
| lconway | macOS 12.5.1 Monterey | x86_64 | 4.2.3 (2023-03-15) -- "Shortstop Beagle" | 4310 |
| Click on any hostname to see more info about the system (e.g. compilers) (*) as reported by 'uname -p', except on Windows and Mac OS X | ||||
|
To the developers/maintainers of the CAGEr package: - Please allow up to 24 hours (and sometimes 48 hours) for your latest push to git@git.bioconductor.org:packages/CAGEr.git to reflect on this report. See How and When does the builder pull? When will my changes propagate? for more information. - Make sure to use the following settings in order to reproduce any error or warning you see on this page. |
| Package 246/2183 | Hostname | OS / Arch | INSTALL | BUILD | CHECK | BUILD BIN | ||||||||
| CAGEr 2.4.0 (landing page) Charles Plessy
| nebbiolo2 | Linux (Ubuntu 20.04.5 LTS) / x86_64 | OK | OK | OK | |||||||||
| palomino4 | Windows Server 2022 Datacenter / x64 | OK | OK | OK | OK | |||||||||
| lconway | macOS 12.5.1 Monterey / x86_64 | OK | OK | OK | OK | |||||||||
| Package: CAGEr |
| Version: 2.4.0 |
| Command: /home/biocbuild/bbs-3.16-bioc/R/bin/R CMD check --install=check:CAGEr.install-out.txt --library=/home/biocbuild/bbs-3.16-bioc/R/site-library --timings CAGEr_2.4.0.tar.gz |
| StartedAt: 2023-04-10 19:28:49 -0400 (Mon, 10 Apr 2023) |
| EndedAt: 2023-04-10 19:38:46 -0400 (Mon, 10 Apr 2023) |
| EllapsedTime: 597.0 seconds |
| RetCode: 0 |
| Status: OK |
| CheckDir: CAGEr.Rcheck |
| Warnings: 0 |
##############################################################################
##############################################################################
###
### Running command:
###
### /home/biocbuild/bbs-3.16-bioc/R/bin/R CMD check --install=check:CAGEr.install-out.txt --library=/home/biocbuild/bbs-3.16-bioc/R/site-library --timings CAGEr_2.4.0.tar.gz
###
##############################################################################
##############################################################################
* using log directory ‘/home/biocbuild/bbs-3.16-bioc/meat/CAGEr.Rcheck’
* using R version 4.2.3 (2023-03-15)
* using platform: x86_64-pc-linux-gnu (64-bit)
* using session charset: UTF-8
* checking for file ‘CAGEr/DESCRIPTION’ ... OK
* this is package ‘CAGEr’ version ‘2.4.0’
* package encoding: UTF-8
* checking package namespace information ... OK
* checking package dependencies ... OK
* checking if this is a source package ... OK
* checking if there is a namespace ... OK
* checking for hidden files and directories ... OK
* checking for portable file names ... OK
* checking for sufficient/correct file permissions ... OK
* checking whether package ‘CAGEr’ can be installed ... OK
* checking installed package size ... OK
* checking package directory ... OK
* checking ‘build’ directory ... OK
* checking DESCRIPTION meta-information ... OK
* checking top-level files ... OK
* checking for left-over files ... OK
* checking index information ... OK
* checking package subdirectories ... OK
* checking R files for non-ASCII characters ... OK
* checking R files for syntax errors ... OK
* checking whether the package can be loaded ... OK
* checking whether the package can be loaded with stated dependencies ... OK
* checking whether the package can be unloaded cleanly ... OK
* checking whether the namespace can be loaded with stated dependencies ... OK
* checking whether the namespace can be unloaded cleanly ... OK
* checking loading without being on the library search path ... OK
* checking dependencies in R code ... OK
* checking S3 generic/method consistency ... OK
* checking replacement functions ... OK
* checking foreign function calls ... OK
* checking R code for possible problems ... OK
* checking Rd files ... OK
* checking Rd metadata ... OK
* checking Rd cross-references ... OK
* checking for missing documentation entries ... OK
* checking for code/documentation mismatches ... OK
* checking Rd \usage sections ... OK
* checking Rd contents ... OK
* checking for unstated dependencies in examples ... OK
* checking contents of ‘data’ directory ... OK
* checking data for non-ASCII characters ... OK
* checking LazyData ... OK
* checking data for ASCII and uncompressed saves ... OK
* checking files in ‘vignettes’ ... OK
* checking examples ... OK
Examples with CPU (user + system) or elapsed time > 5s
user system elapsed
cumulativeCTSSdistribution 35.081 6.563 41.626
clusterCTSS 28.369 0.780 29.130
exportToTrack 26.587 0.036 26.623
quantilePositions 16.759 0.040 16.799
aggregateTagClusters 6.782 0.156 6.900
* checking for unstated dependencies in vignettes ... OK
* checking package vignettes in ‘inst/doc’ ... OK
* checking running R code from vignettes ...
‘CAGE_Resources.Rmd’ using ‘UTF-8’... OK
‘CAGEexp.Rmd’ using ‘UTF-8’... OK
NONE
* checking re-building of vignette outputs ... OK
* checking PDF version of manual ... OK
* DONE
Status: OK
CAGEr.Rcheck/00install.out
############################################################################## ############################################################################## ### ### Running command: ### ### /home/biocbuild/bbs-3.16-bioc/R/bin/R CMD INSTALL CAGEr ### ############################################################################## ############################################################################## * installing to library ‘/home/biocbuild/bbs-3.16-bioc/R/site-library’ * installing *source* package ‘CAGEr’ ... ** using staged installation ** R ** data *** moving datasets to lazyload DB ** inst ** byte-compile and prepare package for lazy loading ** help *** installing help indices ** building package indices ** installing vignettes ** testing if installed package can be loaded from temporary location ** testing if installed package can be loaded from final location ** testing if installed package keeps a record of temporary installation path * DONE (CAGEr)
CAGEr.Rcheck/CAGEr-Ex.timings
| name | user | system | elapsed | |
| CAGEexp-class | 2.900 | 0.200 | 3.103 | |
| CAGEr_Multicore | 1.061 | 0.092 | 1.154 | |
| CTSS-class | 0.242 | 0.000 | 0.242 | |
| CTSSclusteringMethod | 0.001 | 0.000 | 0.001 | |
| CTSScoordinates | 0.060 | 0.000 | 0.061 | |
| CTSSnormalizedTpm | 0.617 | 0.040 | 0.658 | |
| CTSStagCount | 0.726 | 0.072 | 0.798 | |
| CTSStoGenes | 0.341 | 0.000 | 0.341 | |
| CustomConsensusClusters | 0.896 | 0.004 | 0.899 | |
| GeneExpDESeq2 | 1.017 | 0.040 | 1.058 | |
| GeneExpSE | 0.004 | 0.000 | 0.003 | |
| QuantileWidthFunctions | 0.114 | 0.000 | 0.114 | |
| aggregateTagClusters | 6.782 | 0.156 | 6.900 | |
| annotateCTSS | 1.508 | 0.028 | 1.536 | |
| byCtss | 0.005 | 0.000 | 0.005 | |
| clusterCTSS | 28.369 | 0.780 | 29.130 | |
| consensusClusters | 0.106 | 0.003 | 0.110 | |
| consensusClustersDESeq2 | 0.149 | 0.004 | 0.152 | |
| consensusClustersTpm | 0.005 | 0.000 | 0.005 | |
| coverage-functions | 3.814 | 0.532 | 4.347 | |
| cumulativeCTSSdistribution | 35.081 | 6.563 | 41.626 | |
| distclu-functions | 3.737 | 0.640 | 4.331 | |
| exampleCAGEexp | 0 | 0 | 0 | |
| exportToTrack | 26.587 | 0.036 | 26.623 | |
| expressionClasses | 0.013 | 0.000 | 0.013 | |
| genomeName | 0 | 0 | 0 | |
| getCTSS | 1.030 | 0.016 | 1.046 | |
| getExpressionProfiles | 1.666 | 0.028 | 1.694 | |
| getShiftingPromoters | 0 | 0 | 0 | |
| hanabi | 0.253 | 0.008 | 0.260 | |
| hanabiPlot | 0.282 | 0.024 | 0.307 | |
| import.CAGEscanMolecule | 0 | 0 | 0 | |
| import.CTSS | 0.077 | 0.000 | 0.076 | |
| import.bam | 0.001 | 0.000 | 0.000 | |
| import.bedCTSS | 0 | 0 | 0 | |
| import.bedScore | 0 | 0 | 0 | |
| import.bedmolecule | 0 | 0 | 0 | |
| inputFiles | 0.002 | 0.000 | 0.001 | |
| inputFilesType | 0.001 | 0.000 | 0.002 | |
| librarySizes | 0.001 | 0.000 | 0.001 | |
| mapStats | 0.05 | 0.00 | 0.05 | |
| mergeCAGEsets | 2.190 | 0.012 | 2.202 | |
| mergeSamples | 0.586 | 0.000 | 0.585 | |
| moleculesGR2CTSS | 0.119 | 0.000 | 0.119 | |
| normalizeTagCount | 0.486 | 0.000 | 0.464 | |
| parseCAGEscanBlocksToGrangeTSS | 0.021 | 0.000 | 0.021 | |
| plotAnnot | 2.504 | 0.004 | 2.508 | |
| plotCorrelation | 0.268 | 0.000 | 0.268 | |
| plotExpressionProfiles | 4.496 | 0.152 | 4.648 | |
| plotInterquantileWidth | 2.073 | 0.000 | 2.074 | |
| plotReverseCumulatives | 0.359 | 0.000 | 0.314 | |
| quantilePositions | 16.759 | 0.040 | 16.799 | |
| ranges2annot | 0.393 | 0.000 | 0.393 | |
| ranges2genes | 0.053 | 0.000 | 0.053 | |
| ranges2names | 0.053 | 0.000 | 0.053 | |
| sampleLabels | 0.004 | 0.000 | 0.004 | |
| scoreShift | 0.001 | 0.000 | 0.000 | |
| seqNameTotalsSE | 0.000 | 0.003 | 0.004 | |
| setColors | 0.427 | 0.004 | 0.431 | |
| strandInvaders | 0.713 | 0.016 | 0.700 | |
| summariseChrExpr | 0.540 | 0.000 | 0.539 | |
| tagClusters | 0.098 | 0.000 | 0.098 | |