| Back to Multiple platform build/check report for BioC 3.16: simplified long |
|
This page was generated on 2023-04-12 11:05:27 -0400 (Wed, 12 Apr 2023).
| Hostname | OS | Arch (*) | R version | Installed pkgs |
|---|---|---|---|---|
| nebbiolo2 | Linux (Ubuntu 20.04.5 LTS) | x86_64 | 4.2.3 (2023-03-15) -- "Shortstop Beagle" | 4502 |
| palomino4 | Windows Server 2022 Datacenter | x64 | 4.2.3 (2023-03-15 ucrt) -- "Shortstop Beagle" | 4282 |
| lconway | macOS 12.5.1 Monterey | x86_64 | 4.2.3 (2023-03-15) -- "Shortstop Beagle" | 4310 |
| Click on any hostname to see more info about the system (e.g. compilers) (*) as reported by 'uname -p', except on Windows and Mac OS X | ||||
|
To the developers/maintainers of the BubbleTree package: - Please allow up to 24 hours (and sometimes 48 hours) for your latest push to git@git.bioconductor.org:packages/BubbleTree.git to reflect on this report. See How and When does the builder pull? When will my changes propagate? for more information. - Make sure to use the following settings in order to reproduce any error or warning you see on this page. |
| Package 231/2183 | Hostname | OS / Arch | INSTALL | BUILD | CHECK | BUILD BIN | ||||||||
| BubbleTree 2.28.0 (landing page) Todd Creasy
| nebbiolo2 | Linux (Ubuntu 20.04.5 LTS) / x86_64 | OK | OK | OK | |||||||||
| palomino4 | Windows Server 2022 Datacenter / x64 | OK | OK | OK | OK | |||||||||
| lconway | macOS 12.5.1 Monterey / x86_64 | OK | OK | OK | OK | |||||||||
| Package: BubbleTree |
| Version: 2.28.0 |
| Command: F:\biocbuild\bbs-3.16-bioc\R\bin\R.exe CMD check --no-multiarch --install=check:BubbleTree.install-out.txt --library=F:\biocbuild\bbs-3.16-bioc\R\library --no-vignettes --timings BubbleTree_2.28.0.tar.gz |
| StartedAt: 2023-04-10 23:33:15 -0400 (Mon, 10 Apr 2023) |
| EndedAt: 2023-04-10 23:39:00 -0400 (Mon, 10 Apr 2023) |
| EllapsedTime: 344.9 seconds |
| RetCode: 0 |
| Status: OK |
| CheckDir: BubbleTree.Rcheck |
| Warnings: 0 |
##############################################################################
##############################################################################
###
### Running command:
###
### F:\biocbuild\bbs-3.16-bioc\R\bin\R.exe CMD check --no-multiarch --install=check:BubbleTree.install-out.txt --library=F:\biocbuild\bbs-3.16-bioc\R\library --no-vignettes --timings BubbleTree_2.28.0.tar.gz
###
##############################################################################
##############################################################################
* using log directory 'F:/biocbuild/bbs-3.16-bioc/meat/BubbleTree.Rcheck'
* using R version 4.2.3 (2023-03-15 ucrt)
* using platform: x86_64-w64-mingw32 (64-bit)
* using session charset: UTF-8
* using option '--no-vignettes'
* checking for file 'BubbleTree/DESCRIPTION' ... OK
* checking extension type ... Package
* this is package 'BubbleTree' version '2.28.0'
* checking package namespace information ... OK
* checking package dependencies ... OK
* checking if this is a source package ... OK
* checking if there is a namespace ... OK
* checking for hidden files and directories ... OK
* checking for portable file names ... OK
* checking whether package 'BubbleTree' can be installed ... OK
* checking installed package size ... NOTE
installed size is 23.8Mb
sub-directories of 1Mb or more:
data 23.4Mb
* checking package directory ... OK
* checking 'build' directory ... OK
* checking DESCRIPTION meta-information ...Warning in person1(given = given[[i]], family = family[[i]], middle = middle[[i]], :
It is recommended to use 'given' instead of 'middle'.
OK
* checking top-level files ... OK
* checking for left-over files ... OK
* checking index information ... OK
* checking package subdirectories ... OK
* checking R files for non-ASCII characters ... OK
* checking R files for syntax errors ... OK
* checking whether the package can be loaded ... OK
* checking whether the package can be loaded with stated dependencies ... OK
* checking whether the package can be unloaded cleanly ... OK
* checking whether the namespace can be loaded with stated dependencies ... OK
* checking whether the namespace can be unloaded cleanly ... OK
* checking dependencies in R code ... OK
* checking S3 generic/method consistency ... OK
* checking replacement functions ... OK
* checking foreign function calls ... OK
* checking R code for possible problems ... NOTE
annoByOverlap,Annotate: no visible binding for global variable
'queryHits'
Undefined global functions or variables:
queryHits
* checking Rd files ... OK
* checking Rd metadata ... OK
* checking Rd cross-references ... OK
* checking for missing documentation entries ... OK
* checking for code/documentation mismatches ... OK
* checking Rd \usage sections ... OK
* checking Rd contents ... OK
* checking for unstated dependencies in examples ... OK
* checking contents of 'data' directory ... OK
* checking data for non-ASCII characters ... OK
* checking data for ASCII and uncompressed saves ... OK
* checking files in 'vignettes' ... OK
* checking examples ... OK
Examples with CPU (user + system) or elapsed time > 5s
user system elapsed
makeRBD 13.90 0.23 14.20
heteroLociTrack 6.98 0.06 7.05
* checking for unstated dependencies in vignettes ... OK
* checking package vignettes in 'inst/doc' ... OK
* checking running R code from vignettes ... SKIPPED
* checking re-building of vignette outputs ... SKIPPED
* checking PDF version of manual ... OK
* DONE
Status: 2 NOTEs
See
'F:/biocbuild/bbs-3.16-bioc/meat/BubbleTree.Rcheck/00check.log'
for details.
BubbleTree.Rcheck/00install.out
############################################################################## ############################################################################## ### ### Running command: ### ### F:\biocbuild\bbs-3.16-bioc\R\bin\R.exe CMD INSTALL BubbleTree ### ############################################################################## ############################################################################## * installing to library 'F:/biocbuild/bbs-3.16-bioc/R/library' * installing *source* package 'BubbleTree' ... ** using staged installation Warning in person1(given = given[[i]], family = family[[i]], middle = middle[[i]], : It is recommended to use 'given' instead of 'middle'. ** R ** data ** inst ** byte-compile and prepare package for lazy loading ** help *** installing help indices ** building package indices ** installing vignettes ** testing if installed package can be loaded from temporary location ** testing if installed package can be loaded from final location ** testing if installed package keeps a record of temporary installation path * DONE (BubbleTree)
BubbleTree.Rcheck/BubbleTree-Ex.timings
| name | user | system | elapsed | |
| Annotate | 0 | 0 | 0 | |
| BTreePlotter | 0.22 | 0.03 | 0.25 | |
| BTreePredictor | 0 | 0 | 0 | |
| RBD | 0 | 0 | 0 | |
| RscoreTrack | 0.45 | 0.03 | 0.48 | |
| TrackPlotter | 0 | 0 | 0 | |
| annoByGenesAndCyto | 0.50 | 0.02 | 0.52 | |
| bafTrack | 0.25 | 0.00 | 0.25 | |
| btcompare | 0 | 0 | 0 | |
| btpredict | 2.54 | 0.08 | 2.61 | |
| drawBTree | 0.27 | 0.00 | 0.27 | |
| drawBubbles | 0.40 | 0.01 | 0.42 | |
| drawFeatures | 1.32 | 0.08 | 1.39 | |
| getTracks | 0.64 | 0.00 | 0.64 | |
| heteroLociTrack | 6.98 | 0.06 | 7.05 | |
| info | 2.20 | 0.02 | 2.22 | |
| loadRBD | 0.03 | 0.00 | 0.03 | |
| makeRBD | 13.90 | 0.23 | 14.20 | |
| saveXLS | 0.17 | 0.04 | 2.35 | |
| trackBTree | 0.29 | 0.03 | 0.32 | |
| xyTrack | 0.25 | 0.01 | 0.28 | |