| Back to Multiple platform build/check report for BioC 3.16: simplified long |
|
This page was generated on 2023-04-12 11:05:26 -0400 (Wed, 12 Apr 2023).
| Hostname | OS | Arch (*) | R version | Installed pkgs |
|---|---|---|---|---|
| nebbiolo2 | Linux (Ubuntu 20.04.5 LTS) | x86_64 | 4.2.3 (2023-03-15) -- "Shortstop Beagle" | 4502 |
| palomino4 | Windows Server 2022 Datacenter | x64 | 4.2.3 (2023-03-15 ucrt) -- "Shortstop Beagle" | 4282 |
| lconway | macOS 12.5.1 Monterey | x86_64 | 4.2.3 (2023-03-15) -- "Shortstop Beagle" | 4310 |
| Click on any hostname to see more info about the system (e.g. compilers) (*) as reported by 'uname -p', except on Windows and Mac OS X | ||||
|
To the developers/maintainers of the BiocStyle package: - Please allow up to 24 hours (and sometimes 48 hours) for your latest push to git@git.bioconductor.org:packages/BiocStyle.git to reflect on this report. See How and When does the builder pull? When will my changes propagate? for more information. - Make sure to use the following settings in order to reproduce any error or warning you see on this page. |
| Package 174/2183 | Hostname | OS / Arch | INSTALL | BUILD | CHECK | BUILD BIN | ||||||||
| BiocStyle 2.26.0 (landing page) Bioconductor Package
| nebbiolo2 | Linux (Ubuntu 20.04.5 LTS) / x86_64 | OK | OK | OK | |||||||||
| palomino4 | Windows Server 2022 Datacenter / x64 | OK | OK | OK | OK | |||||||||
| lconway | macOS 12.5.1 Monterey / x86_64 | OK | OK | OK | OK | |||||||||
| Package: BiocStyle |
| Version: 2.26.0 |
| Command: F:\biocbuild\bbs-3.16-bioc\R\bin\R.exe CMD check --no-multiarch --install=check:BiocStyle.install-out.txt --library=F:\biocbuild\bbs-3.16-bioc\R\library --no-vignettes --timings BiocStyle_2.26.0.tar.gz |
| StartedAt: 2023-04-10 23:18:59 -0400 (Mon, 10 Apr 2023) |
| EndedAt: 2023-04-10 23:20:50 -0400 (Mon, 10 Apr 2023) |
| EllapsedTime: 111.3 seconds |
| RetCode: 0 |
| Status: OK |
| CheckDir: BiocStyle.Rcheck |
| Warnings: 0 |
############################################################################## ############################################################################## ### ### Running command: ### ### F:\biocbuild\bbs-3.16-bioc\R\bin\R.exe CMD check --no-multiarch --install=check:BiocStyle.install-out.txt --library=F:\biocbuild\bbs-3.16-bioc\R\library --no-vignettes --timings BiocStyle_2.26.0.tar.gz ### ############################################################################## ############################################################################## * using log directory 'F:/biocbuild/bbs-3.16-bioc/meat/BiocStyle.Rcheck' * using R version 4.2.3 (2023-03-15 ucrt) * using platform: x86_64-w64-mingw32 (64-bit) * using session charset: UTF-8 * using option '--no-vignettes' * checking for file 'BiocStyle/DESCRIPTION' ... OK * this is package 'BiocStyle' version '2.26.0' * package encoding: UTF-8 * checking package namespace information ... OK * checking package dependencies ... OK * checking if this is a source package ... OK * checking if there is a namespace ... OK * checking for hidden files and directories ... OK * checking for portable file names ... OK * checking whether package 'BiocStyle' can be installed ... OK * checking installed package size ... OK * checking package directory ... OK * checking 'build' directory ... OK * checking DESCRIPTION meta-information ... OK * checking top-level files ... OK * checking for left-over files ... OK * checking index information ... OK * checking package subdirectories ... OK * checking R files for non-ASCII characters ... OK * checking R files for syntax errors ... OK * checking whether the package can be loaded ... OK * checking whether the package can be loaded with stated dependencies ... OK * checking whether the package can be unloaded cleanly ... OK * checking whether the namespace can be loaded with stated dependencies ... OK * checking whether the namespace can be unloaded cleanly ... OK * checking dependencies in R code ... NOTE Unexported object imported by a ':::' call: 'rmarkdown:::partition_yaml_front_matter' See the note in ?`:::` about the use of this operator. * checking S3 generic/method consistency ... OK * checking replacement functions ... OK * checking foreign function calls ... OK * checking R code for possible problems ... OK * checking Rd files ... OK * checking Rd metadata ... OK * checking Rd cross-references ... OK * checking for missing documentation entries ... OK * checking for code/documentation mismatches ... OK * checking Rd \usage sections ... OK * checking Rd contents ... OK * checking for unstated dependencies in examples ... OK * checking sizes of PDF files under 'inst/doc' ... OK * checking files in 'vignettes' ... OK * checking examples ... OK * checking for unstated dependencies in 'tests' ... OK * checking tests ... Running 'run_tests.R' OK * checking for unstated dependencies in vignettes ... OK * checking package vignettes in 'inst/doc' ... OK * checking running R code from vignettes ... SKIPPED * checking re-building of vignette outputs ... SKIPPED * checking PDF version of manual ... OK * DONE Status: 1 NOTE See 'F:/biocbuild/bbs-3.16-bioc/meat/BiocStyle.Rcheck/00check.log' for details.
BiocStyle.Rcheck/00install.out
############################################################################## ############################################################################## ### ### Running command: ### ### F:\biocbuild\bbs-3.16-bioc\R\bin\R.exe CMD INSTALL BiocStyle ### ############################################################################## ############################################################################## * installing to library 'F:/biocbuild/bbs-3.16-bioc/R/library' * installing *source* package 'BiocStyle' ... ** using staged installation ** R ** inst ** byte-compile and prepare package for lazy loading ** help *** installing help indices ** building package indices ** installing vignettes ** testing if installed package can be loaded from temporary location ** testing if installed package can be loaded from final location ** testing if installed package keeps a record of temporary installation path * DONE (BiocStyle)
BiocStyle.Rcheck/tests/run_tests.Rout
R version 4.2.3 (2023-03-15 ucrt) -- "Shortstop Beagle"
Copyright (C) 2023 The R Foundation for Statistical Computing
Platform: x86_64-w64-mingw32/x64 (64-bit)
R is free software and comes with ABSOLUTELY NO WARRANTY.
You are welcome to redistribute it under certain conditions.
Type 'license()' or 'licence()' for distribution details.
R is a collaborative project with many contributors.
Type 'contributors()' for more information and
'citation()' on how to cite R or R packages in publications.
Type 'demo()' for some demos, 'help()' for on-line help, or
'help.start()' for an HTML browser interface to help.
Type 'q()' to quit R.
> BiocGenerics:::testPackage("BiocStyle")
Writing to file maketitle_test_1.tex
Processing code chunks with options ...
1 : keep.source term tex (label = style, maketitle_test_1.Rnw:5)
You can now run (pdf)latex on 'maketitle_test_1.tex'
texify: major issue: So far, you have not checked for updates as a MiKTeX user.
Writing to file maketitle_test_2.tex
Processing code chunks with options ...
1 : keep.source term tex (label = style, maketitle_test_2.Rnw:5)
You can now run (pdf)latex on 'maketitle_test_2.tex'
texify: major issue: So far, you have not checked for updates as a MiKTeX user.
Writing to file maketitle_test_3.tex
Processing code chunks with options ...
1 : keep.source term tex (label = style, maketitle_test_3.Rnw:5)
You can now run (pdf)latex on 'maketitle_test_3.tex'
texify: major issue: So far, you have not checked for updates as a MiKTeX user.
Writing to file maketitle_test_4.tex
Processing code chunks with options ...
1 : keep.source term tex (label = style, maketitle_test_4.Rnw:5)
You can now run (pdf)latex on 'maketitle_test_4.tex'
texify: major issue: So far, you have not checked for updates as a MiKTeX user.
Writing to file maketitle_test_5.tex
Processing code chunks with options ...
1 : keep.source term tex (label = style, maketitle_test_5.Rnw:5)
You can now run (pdf)latex on 'maketitle_test_5.tex'
texify: major issue: So far, you have not checked for updates as a MiKTeX user.
processing file: file14a44ccc1161.Rmd
!!! Error: Cannot call ghostscript `mgs' (No such file or directory/The system cannot find the file specified)!
pdfcrop: major issue: So far, you have not checked for updates as a MiKTeX user.
!!! Error: Cannot call ghostscript `mgs' (No such file or directory/The system cannot find the file specified)!
pdfcrop: major issue: So far, you have not checked for updates as a MiKTeX user.
!!! Error: Cannot call ghostscript `mgs' (No such file or directory/The system cannot find the file specified)!
pdfcrop: major issue: So far, you have not checked for updates as a MiKTeX user.
output file: file14a44ccc1161.knit.md
"C:/PROGRA~1/Pandoc/pandoc" +RTS -K512m -RTS file14a44ccc1161.knit.md --to latex --from markdown+autolink_bare_uris+tex_math_single_backslash --output file14a44ccc1161.tex --lua-filter "F:\biocbuild\bbs-3.16-bioc\R\library\bookdown\rmarkdown\lua\custom-environment.lua" --lua-filter "F:\biocbuild\bbs-3.16-bioc\R\library\rmarkdown\rmarkdown\lua\pagebreak.lua" --lua-filter "F:\biocbuild\bbs-3.16-bioc\R\library\rmarkdown\rmarkdown\lua\latex-div.lua" --self-contained --table-of-contents --toc-depth 2 --number-sections --highlight-style tango --pdf-engine pdflatex --include-in-header "F:\biocbuild\bbs-3.16-bioc\tmpdir\Rtmp6zZMMl\14a489421ac.tex" --variable graphics --wrap preserve --variable subparagraph --template "F:\biocbuild\bbs-3.16-bioc\tmpdir\Rtmp6zZMMl/BiocStyle/template.tex" --variable tables=yes --standalone --variable "compact-title:yes"
Warning: LaTeX Warning: You have requested package `F:/biocbuild/bbs-3.16-bioc/R/library
Warning: /BiocStyle/resources/tex/Bioconductor',
Warning: but the package provides `Bioconductor'.
Warning: Package geometry Warning: Over-specification in `h'-direction.
Warning: `width' (384.1122pt) is ignored.
Warning: Package fancyhdr Warning: \fancyhead's `E' option without twoside option is use
Warning: less.
Warning: (fancyhdr) Please consider using the `twoside' option on input l
Warning: ine 162.
Warning: Package fancyhdr Warning: \headheight is too small (42.67912pt):
Warning: (fancyhdr) Make it at least 46.27916pt, for example:
Warning: (fancyhdr) \setlength{\headheight}{46.27916pt}.
Warning: (fancyhdr) You might also make \topmargin smaller to compensate:
Warning: Package fancyhdr Warning: \headheight is too small (42.67912pt):
Warning: (fancyhdr) Make it at least 46.27916pt, for example:
Warning: (fancyhdr) \setlength{\headheight}{46.27916pt}.
Warning: (fancyhdr) You might also make \topmargin smaller to compensate:
Warning: Package fancyhdr Warning: \headheight is too small (42.67912pt):
Warning: (fancyhdr) Make it at least 46.27916pt, for example:
Warning: (fancyhdr) \setlength{\headheight}{46.27916pt}.
Warning: (fancyhdr) You might also make \topmargin smaller to compensate:
Warning: Package fancyhdr Warning: \headheight is too small (42.67912pt):
Warning: (fancyhdr) Make it at least 46.27916pt, for example:
Warning: (fancyhdr) \setlength{\headheight}{46.27916pt}.
Warning: (fancyhdr) You might also make \topmargin smaller to compensate:
Output created: file14a44ccc1161.pdf
RUNIT TEST PROTOCOL -- Mon Apr 10 23:20:36 2023
***********************************************
Number of test functions: 3
Number of errors: 0
Number of failures: 0
1 Test Suite :
BiocStyle RUnit Tests - 3 test functions, 0 errors, 0 failures
Number of test functions: 3
Number of errors: 0
Number of failures: 0
>
> proc.time()
user system elapsed
3.54 0.76 67.57
BiocStyle.Rcheck/BiocStyle-Ex.timings
| name | user | system | elapsed | |
| helpers | 0 | 0 | 0 | |
| html_document | 0 | 0 | 0 | |
| latex | 0 | 0 | 0 | |
| macros | 0.01 | 0.00 | 0.01 | |
| markdown | 0 | 0 | 0 | |
| md_document | 0 | 0 | 0 | |
| output | 0 | 0 | 0 | |
| pdf_document | 0 | 0 | 0 | |
| use_vignette | 0.00 | 0.02 | 0.13 | |