| Back to Multiple platform build/check report for BioC 3.16: simplified long |
|
This page was generated on 2023-04-12 11:04:59 -0400 (Wed, 12 Apr 2023).
| Hostname | OS | Arch (*) | R version | Installed pkgs |
|---|---|---|---|---|
| nebbiolo2 | Linux (Ubuntu 20.04.5 LTS) | x86_64 | 4.2.3 (2023-03-15) -- "Shortstop Beagle" | 4502 |
| palomino4 | Windows Server 2022 Datacenter | x64 | 4.2.3 (2023-03-15 ucrt) -- "Shortstop Beagle" | 4282 |
| lconway | macOS 12.5.1 Monterey | x86_64 | 4.2.3 (2023-03-15) -- "Shortstop Beagle" | 4310 |
| Click on any hostname to see more info about the system (e.g. compilers) (*) as reported by 'uname -p', except on Windows and Mac OS X | ||||
|
To the developers/maintainers of the BiocNeighbors package: - Please allow up to 24 hours (and sometimes 48 hours) for your latest push to git@git.bioconductor.org:packages/BiocNeighbors.git to reflect on this report. See How and When does the builder pull? When will my changes propagate? for more information. - Make sure to use the following settings in order to reproduce any error or warning you see on this page. |
| Package 166/2183 | Hostname | OS / Arch | INSTALL | BUILD | CHECK | BUILD BIN | ||||||||
| BiocNeighbors 1.16.0 (landing page) Aaron Lun
| nebbiolo2 | Linux (Ubuntu 20.04.5 LTS) / x86_64 | OK | OK | OK | |||||||||
| palomino4 | Windows Server 2022 Datacenter / x64 | OK | OK | OK | OK | |||||||||
| lconway | macOS 12.5.1 Monterey / x86_64 | OK | OK | OK | OK | |||||||||
| Package: BiocNeighbors |
| Version: 1.16.0 |
| Command: /home/biocbuild/bbs-3.16-bioc/R/bin/R CMD check --install=check:BiocNeighbors.install-out.txt --library=/home/biocbuild/bbs-3.16-bioc/R/site-library --timings BiocNeighbors_1.16.0.tar.gz |
| StartedAt: 2023-04-10 19:16:53 -0400 (Mon, 10 Apr 2023) |
| EndedAt: 2023-04-10 19:22:13 -0400 (Mon, 10 Apr 2023) |
| EllapsedTime: 319.9 seconds |
| RetCode: 0 |
| Status: OK |
| CheckDir: BiocNeighbors.Rcheck |
| Warnings: 0 |
##############################################################################
##############################################################################
###
### Running command:
###
### /home/biocbuild/bbs-3.16-bioc/R/bin/R CMD check --install=check:BiocNeighbors.install-out.txt --library=/home/biocbuild/bbs-3.16-bioc/R/site-library --timings BiocNeighbors_1.16.0.tar.gz
###
##############################################################################
##############################################################################
* using log directory ‘/home/biocbuild/bbs-3.16-bioc/meat/BiocNeighbors.Rcheck’
* using R version 4.2.3 (2023-03-15)
* using platform: x86_64-pc-linux-gnu (64-bit)
* using session charset: UTF-8
* checking for file ‘BiocNeighbors/DESCRIPTION’ ... OK
* this is package ‘BiocNeighbors’ version ‘1.16.0’
* checking package namespace information ... OK
* checking package dependencies ... OK
* checking if this is a source package ... OK
* checking if there is a namespace ... OK
* checking for hidden files and directories ... OK
* checking for portable file names ... OK
* checking for sufficient/correct file permissions ... OK
* checking whether package ‘BiocNeighbors’ can be installed ... OK
* checking installed package size ... NOTE
installed size is 22.1Mb
sub-directories of 1Mb or more:
libs 21.2Mb
* checking package directory ... OK
* checking ‘build’ directory ... OK
* checking DESCRIPTION meta-information ... OK
* checking top-level files ... OK
* checking for left-over files ... OK
* checking index information ... OK
* checking package subdirectories ... OK
* checking R files for non-ASCII characters ... OK
* checking R files for syntax errors ... OK
* checking whether the package can be loaded ... OK
* checking whether the package can be loaded with stated dependencies ... OK
* checking whether the package can be unloaded cleanly ... OK
* checking whether the namespace can be loaded with stated dependencies ... OK
* checking whether the namespace can be unloaded cleanly ... OK
* checking loading without being on the library search path ... OK
* checking dependencies in R code ... OK
* checking S3 generic/method consistency ... OK
* checking replacement functions ... OK
* checking foreign function calls ... OK
* checking R code for possible problems ... OK
* checking Rd files ... OK
* checking Rd metadata ... OK
* checking Rd cross-references ... OK
* checking for missing documentation entries ... OK
* checking for code/documentation mismatches ... OK
* checking Rd \usage sections ... OK
* checking Rd contents ... OK
* checking for unstated dependencies in examples ... OK
* checking line endings in C/C++/Fortran sources/headers ... OK
* checking line endings in Makefiles ... OK
* checking compilation flags in Makevars ... OK
* checking for GNU extensions in Makefiles ... OK
* checking for portable use of $(BLAS_LIBS) and $(LAPACK_LIBS) ... OK
* checking use of PKG_*FLAGS in Makefiles ... OK
* checking compiled code ... NOTE
Note: information on .o files is not available
* checking files in ‘vignettes’ ... OK
* checking examples ... OK
Examples with CPU (user + system) or elapsed time > 5s
user system elapsed
findNeighbors-functions 6.325 0.460 6.785
findKNN-methods 5.545 0.023 5.569
findNeighbors-methods 5.421 0.076 5.496
* checking for unstated dependencies in ‘tests’ ... OK
* checking tests ...
Running ‘testthat.R’
OK
* checking for unstated dependencies in vignettes ... OK
* checking package vignettes in ‘inst/doc’ ... OK
* checking running R code from vignettes ...
‘approx.Rmd’ using ‘UTF-8’... OK
‘exact.Rmd’ using ‘UTF-8’... OK
‘range.Rmd’ using ‘UTF-8’... OK
NONE
* checking re-building of vignette outputs ... OK
* checking PDF version of manual ... OK
* DONE
Status: 2 NOTEs
See
‘/home/biocbuild/bbs-3.16-bioc/meat/BiocNeighbors.Rcheck/00check.log’
for details.
BiocNeighbors.Rcheck/00install.out
############################################################################## ############################################################################## ### ### Running command: ### ### /home/biocbuild/bbs-3.16-bioc/R/bin/R CMD INSTALL BiocNeighbors ### ############################################################################## ############################################################################## * installing to library ‘/home/biocbuild/bbs-3.16-bioc/R/site-library’ * installing *source* package ‘BiocNeighbors’ ... ** using staged installation ** libs g++ -std=gnu++11 -I"/home/biocbuild/bbs-3.16-bioc/R/include" -DNDEBUG -I../inst/include/ -I'/home/biocbuild/bbs-3.16-bioc/R/site-library/Rcpp/include' -I'/home/biocbuild/bbs-3.16-bioc/R/site-library/RcppHNSW/include' -I/usr/local/include -fpic -g -O2 -Wall -c RcppExports.cpp -o RcppExports.o g++ -std=gnu++11 -I"/home/biocbuild/bbs-3.16-bioc/R/include" -DNDEBUG -I../inst/include/ -I'/home/biocbuild/bbs-3.16-bioc/R/site-library/Rcpp/include' -I'/home/biocbuild/bbs-3.16-bioc/R/site-library/RcppHNSW/include' -I/usr/local/include -fpic -g -O2 -Wall -c annoy.cpp -o annoy.o g++ -std=gnu++11 -I"/home/biocbuild/bbs-3.16-bioc/R/include" -DNDEBUG -I../inst/include/ -I'/home/biocbuild/bbs-3.16-bioc/R/site-library/Rcpp/include' -I'/home/biocbuild/bbs-3.16-bioc/R/site-library/RcppHNSW/include' -I/usr/local/include -fpic -g -O2 -Wall -c build_annoy.cpp -o build_annoy.o g++ -std=gnu++11 -I"/home/biocbuild/bbs-3.16-bioc/R/include" -DNDEBUG -I../inst/include/ -I'/home/biocbuild/bbs-3.16-bioc/R/site-library/Rcpp/include' -I'/home/biocbuild/bbs-3.16-bioc/R/site-library/RcppHNSW/include' -I/usr/local/include -fpic -g -O2 -Wall -c build_hnsw.cpp -o build_hnsw.o g++ -std=gnu++11 -I"/home/biocbuild/bbs-3.16-bioc/R/include" -DNDEBUG -I../inst/include/ -I'/home/biocbuild/bbs-3.16-bioc/R/site-library/Rcpp/include' -I'/home/biocbuild/bbs-3.16-bioc/R/site-library/RcppHNSW/include' -I/usr/local/include -fpic -g -O2 -Wall -c build_vptree.cpp -o build_vptree.o g++ -std=gnu++11 -I"/home/biocbuild/bbs-3.16-bioc/R/include" -DNDEBUG -I../inst/include/ -I'/home/biocbuild/bbs-3.16-bioc/R/site-library/Rcpp/include' -I'/home/biocbuild/bbs-3.16-bioc/R/site-library/RcppHNSW/include' -I/usr/local/include -fpic -g -O2 -Wall -c distances.cpp -o distances.o g++ -std=gnu++11 -I"/home/biocbuild/bbs-3.16-bioc/R/include" -DNDEBUG -I../inst/include/ -I'/home/biocbuild/bbs-3.16-bioc/R/site-library/Rcpp/include' -I'/home/biocbuild/bbs-3.16-bioc/R/site-library/RcppHNSW/include' -I/usr/local/include -fpic -g -O2 -Wall -c exhaustive.cpp -o exhaustive.o g++ -std=gnu++11 -I"/home/biocbuild/bbs-3.16-bioc/R/include" -DNDEBUG -I../inst/include/ -I'/home/biocbuild/bbs-3.16-bioc/R/site-library/Rcpp/include' -I'/home/biocbuild/bbs-3.16-bioc/R/site-library/RcppHNSW/include' -I/usr/local/include -fpic -g -O2 -Wall -c find_annoy.cpp -o find_annoy.o g++ -std=gnu++11 -I"/home/biocbuild/bbs-3.16-bioc/R/include" -DNDEBUG -I../inst/include/ -I'/home/biocbuild/bbs-3.16-bioc/R/site-library/Rcpp/include' -I'/home/biocbuild/bbs-3.16-bioc/R/site-library/RcppHNSW/include' -I/usr/local/include -fpic -g -O2 -Wall -c find_exhaustive.cpp -o find_exhaustive.o g++ -std=gnu++11 -I"/home/biocbuild/bbs-3.16-bioc/R/include" -DNDEBUG -I../inst/include/ -I'/home/biocbuild/bbs-3.16-bioc/R/site-library/Rcpp/include' -I'/home/biocbuild/bbs-3.16-bioc/R/site-library/RcppHNSW/include' -I/usr/local/include -fpic -g -O2 -Wall -c find_hnsw.cpp -o find_hnsw.o g++ -std=gnu++11 -I"/home/biocbuild/bbs-3.16-bioc/R/include" -DNDEBUG -I../inst/include/ -I'/home/biocbuild/bbs-3.16-bioc/R/site-library/Rcpp/include' -I'/home/biocbuild/bbs-3.16-bioc/R/site-library/RcppHNSW/include' -I/usr/local/include -fpic -g -O2 -Wall -c find_kmknn.cpp -o find_kmknn.o g++ -std=gnu++11 -I"/home/biocbuild/bbs-3.16-bioc/R/include" -DNDEBUG -I../inst/include/ -I'/home/biocbuild/bbs-3.16-bioc/R/site-library/Rcpp/include' -I'/home/biocbuild/bbs-3.16-bioc/R/site-library/RcppHNSW/include' -I/usr/local/include -fpic -g -O2 -Wall -c find_mutual_nns.cpp -o find_mutual_nns.o g++ -std=gnu++11 -I"/home/biocbuild/bbs-3.16-bioc/R/include" -DNDEBUG -I../inst/include/ -I'/home/biocbuild/bbs-3.16-bioc/R/site-library/Rcpp/include' -I'/home/biocbuild/bbs-3.16-bioc/R/site-library/RcppHNSW/include' -I/usr/local/include -fpic -g -O2 -Wall -c find_vptree.cpp -o find_vptree.o g++ -std=gnu++11 -I"/home/biocbuild/bbs-3.16-bioc/R/include" -DNDEBUG -I../inst/include/ -I'/home/biocbuild/bbs-3.16-bioc/R/site-library/Rcpp/include' -I'/home/biocbuild/bbs-3.16-bioc/R/site-library/RcppHNSW/include' -I/usr/local/include -fpic -g -O2 -Wall -c hnsw.cpp -o hnsw.o g++ -std=gnu++11 -I"/home/biocbuild/bbs-3.16-bioc/R/include" -DNDEBUG -I../inst/include/ -I'/home/biocbuild/bbs-3.16-bioc/R/site-library/Rcpp/include' -I'/home/biocbuild/bbs-3.16-bioc/R/site-library/RcppHNSW/include' -I/usr/local/include -fpic -g -O2 -Wall -c kmknn.cpp -o kmknn.o g++ -std=gnu++11 -I"/home/biocbuild/bbs-3.16-bioc/R/include" -DNDEBUG -I../inst/include/ -I'/home/biocbuild/bbs-3.16-bioc/R/site-library/Rcpp/include' -I'/home/biocbuild/bbs-3.16-bioc/R/site-library/RcppHNSW/include' -I/usr/local/include -fpic -g -O2 -Wall -c query_annoy.cpp -o query_annoy.o g++ -std=gnu++11 -I"/home/biocbuild/bbs-3.16-bioc/R/include" -DNDEBUG -I../inst/include/ -I'/home/biocbuild/bbs-3.16-bioc/R/site-library/Rcpp/include' -I'/home/biocbuild/bbs-3.16-bioc/R/site-library/RcppHNSW/include' -I/usr/local/include -fpic -g -O2 -Wall -c query_exhaustive.cpp -o query_exhaustive.o g++ -std=gnu++11 -I"/home/biocbuild/bbs-3.16-bioc/R/include" -DNDEBUG -I../inst/include/ -I'/home/biocbuild/bbs-3.16-bioc/R/site-library/Rcpp/include' -I'/home/biocbuild/bbs-3.16-bioc/R/site-library/RcppHNSW/include' -I/usr/local/include -fpic -g -O2 -Wall -c query_hnsw.cpp -o query_hnsw.o g++ -std=gnu++11 -I"/home/biocbuild/bbs-3.16-bioc/R/include" -DNDEBUG -I../inst/include/ -I'/home/biocbuild/bbs-3.16-bioc/R/site-library/Rcpp/include' -I'/home/biocbuild/bbs-3.16-bioc/R/site-library/RcppHNSW/include' -I/usr/local/include -fpic -g -O2 -Wall -c query_kmknn.cpp -o query_kmknn.o g++ -std=gnu++11 -I"/home/biocbuild/bbs-3.16-bioc/R/include" -DNDEBUG -I../inst/include/ -I'/home/biocbuild/bbs-3.16-bioc/R/site-library/Rcpp/include' -I'/home/biocbuild/bbs-3.16-bioc/R/site-library/RcppHNSW/include' -I/usr/local/include -fpic -g -O2 -Wall -c query_vptree.cpp -o query_vptree.o g++ -std=gnu++11 -I"/home/biocbuild/bbs-3.16-bioc/R/include" -DNDEBUG -I../inst/include/ -I'/home/biocbuild/bbs-3.16-bioc/R/site-library/Rcpp/include' -I'/home/biocbuild/bbs-3.16-bioc/R/site-library/RcppHNSW/include' -I/usr/local/include -fpic -g -O2 -Wall -c utils.cpp -o utils.o g++ -std=gnu++11 -I"/home/biocbuild/bbs-3.16-bioc/R/include" -DNDEBUG -I../inst/include/ -I'/home/biocbuild/bbs-3.16-bioc/R/site-library/Rcpp/include' -I'/home/biocbuild/bbs-3.16-bioc/R/site-library/RcppHNSW/include' -I/usr/local/include -fpic -g -O2 -Wall -c vptree.cpp -o vptree.o g++ -std=gnu++11 -shared -L/home/biocbuild/bbs-3.16-bioc/R/lib -L/usr/local/lib -o BiocNeighbors.so RcppExports.o annoy.o build_annoy.o build_hnsw.o build_vptree.o distances.o exhaustive.o find_annoy.o find_exhaustive.o find_hnsw.o find_kmknn.o find_mutual_nns.o find_vptree.o hnsw.o kmknn.o query_annoy.o query_exhaustive.o query_hnsw.o query_kmknn.o query_vptree.o utils.o vptree.o -L/home/biocbuild/bbs-3.16-bioc/R/lib -lR installing to /home/biocbuild/bbs-3.16-bioc/R/site-library/00LOCK-BiocNeighbors/00new/BiocNeighbors/libs ** R ** inst ** byte-compile and prepare package for lazy loading ** help *** installing help indices ** building package indices ** installing vignettes ** testing if installed package can be loaded from temporary location ** checking absolute paths in shared objects and dynamic libraries ** testing if installed package can be loaded from final location ** testing if installed package keeps a record of temporary installation path * DONE (BiocNeighbors)
BiocNeighbors.Rcheck/tests/testthat.Rout
R version 4.2.3 (2023-03-15) -- "Shortstop Beagle"
Copyright (C) 2023 The R Foundation for Statistical Computing
Platform: x86_64-pc-linux-gnu (64-bit)
R is free software and comes with ABSOLUTELY NO WARRANTY.
You are welcome to redistribute it under certain conditions.
Type 'license()' or 'licence()' for distribution details.
R is a collaborative project with many contributors.
Type 'contributors()' for more information and
'citation()' on how to cite R or R packages in publications.
Type 'demo()' for some demos, 'help()' for on-line help, or
'help.start()' for an HTML browser interface to help.
Type 'q()' to quit R.
> library(testthat)
> library(BiocNeighbors)
> test_check("BiocNeighbors")
[ FAIL 0 | WARN 488 | SKIP 0 | PASS 3516 ]
[ FAIL 0 | WARN 488 | SKIP 0 | PASS 3516 ]
>
> proc.time()
user system elapsed
112.774 8.071 186.511
BiocNeighbors.Rcheck/BiocNeighbors-Ex.timings
| name | user | system | elapsed | |
| AnnoyIndex | 0.405 | 0.017 | 0.422 | |
| AnnoyParam | 0.014 | 0.000 | 0.015 | |
| BiocNeighbors-raw-index | 1.586 | 0.011 | 1.599 | |
| BiocNeighbors-ties | 0.015 | 0.000 | 0.015 | |
| ExhaustiveIndex | 0.016 | 0.000 | 0.016 | |
| ExhaustiveParam | 0.002 | 0.000 | 0.002 | |
| HnswIndex | 0.825 | 0.003 | 0.829 | |
| HnswParam | 0.009 | 0.001 | 0.008 | |
| KmknnIndex | 0.202 | 0.015 | 0.218 | |
| KmknnParam | 0.004 | 0.000 | 0.004 | |
| VptreeIndex | 0.032 | 0.004 | 0.036 | |
| VptreeParam | 0.003 | 0.000 | 0.003 | |
| buildAnnoy | 0.383 | 0.000 | 0.382 | |
| buildExhaustive | 0.008 | 0.000 | 0.008 | |
| buildHnsw | 0.805 | 0.004 | 0.808 | |
| buildIndex | 0.550 | 0.003 | 0.554 | |
| buildKmknn | 0.189 | 0.000 | 0.189 | |
| buildVptree | 0.022 | 0.000 | 0.022 | |
| findKNN-functions | 4.187 | 0.013 | 4.200 | |
| findKNN-methods | 5.545 | 0.023 | 5.569 | |
| findMutualNN | 0.037 | 0.000 | 0.037 | |
| findNeighbors-functions | 6.325 | 0.460 | 6.785 | |
| findNeighbors-methods | 5.421 | 0.076 | 5.496 | |
| queryKNN-functions | 1.963 | 0.080 | 2.043 | |
| queryKNN-methods | 1.593 | 0.072 | 1.666 | |
| queryNeighbors-functions | 0.437 | 0.024 | 0.461 | |
| queryNeighbors-methods | 0.954 | 0.156 | 1.109 | |