| Back to Multiple platform build/check report for BioC 3.16: simplified long |
|
This page was generated on 2023-04-12 11:06:00 -0400 (Wed, 12 Apr 2023).
| Hostname | OS | Arch (*) | R version | Installed pkgs |
|---|---|---|---|---|
| nebbiolo2 | Linux (Ubuntu 20.04.5 LTS) | x86_64 | 4.2.3 (2023-03-15) -- "Shortstop Beagle" | 4502 |
| palomino4 | Windows Server 2022 Datacenter | x64 | 4.2.3 (2023-03-15 ucrt) -- "Shortstop Beagle" | 4282 |
| lconway | macOS 12.5.1 Monterey | x86_64 | 4.2.3 (2023-03-15) -- "Shortstop Beagle" | 4310 |
| Click on any hostname to see more info about the system (e.g. compilers) (*) as reported by 'uname -p', except on Windows and Mac OS X | ||||
|
To the developers/maintainers of the BiocDockerManager package: - Please allow up to 24 hours (and sometimes 48 hours) for your latest push to git@git.bioconductor.org:packages/BiocDockerManager.git to reflect on this report. See How and When does the builder pull? When will my changes propagate? for more information. - Make sure to use the following settings in order to reproduce any error or warning you see on this page. |
| Package 160/2183 | Hostname | OS / Arch | INSTALL | BUILD | CHECK | BUILD BIN | ||||||||
| BiocDockerManager 1.10.0 (landing page) Bioconductor Package Maintainer
| nebbiolo2 | Linux (Ubuntu 20.04.5 LTS) / x86_64 | OK | OK | ERROR | |||||||||
| palomino4 | Windows Server 2022 Datacenter / x64 | OK | OK | ERROR | OK | |||||||||
| lconway | macOS 12.5.1 Monterey / x86_64 | OK | OK | ERROR | OK | |||||||||
| Package: BiocDockerManager |
| Version: 1.10.0 |
| Command: /Library/Frameworks/R.framework/Resources/bin/R CMD check --install=check:BiocDockerManager.install-out.txt --library=/Library/Frameworks/R.framework/Resources/library --no-vignettes --timings BiocDockerManager_1.10.0.tar.gz |
| StartedAt: 2023-04-10 19:00:54 -0400 (Mon, 10 Apr 2023) |
| EndedAt: 2023-04-10 19:01:44 -0400 (Mon, 10 Apr 2023) |
| EllapsedTime: 50.1 seconds |
| RetCode: 1 |
| Status: ERROR |
| CheckDir: BiocDockerManager.Rcheck |
| Warnings: NA |
##############################################################################
##############################################################################
###
### Running command:
###
### /Library/Frameworks/R.framework/Resources/bin/R CMD check --install=check:BiocDockerManager.install-out.txt --library=/Library/Frameworks/R.framework/Resources/library --no-vignettes --timings BiocDockerManager_1.10.0.tar.gz
###
##############################################################################
##############################################################################
* using log directory ‘/Users/biocbuild/bbs-3.16-bioc/meat/BiocDockerManager.Rcheck’
* using R version 4.2.3 (2023-03-15)
* using platform: x86_64-apple-darwin17.0 (64-bit)
* using session charset: UTF-8
* using option ‘--no-vignettes’
* checking for file ‘BiocDockerManager/DESCRIPTION’ ... OK
* checking extension type ... Package
* this is package ‘BiocDockerManager’ version ‘1.10.0’
* package encoding: UTF-8
* checking package namespace information ... OK
* checking package dependencies ... OK
* checking if this is a source package ... OK
* checking if there is a namespace ... OK
* checking for hidden files and directories ... OK
* checking for portable file names ... OK
* checking for sufficient/correct file permissions ... OK
* checking whether package ‘BiocDockerManager’ can be installed ... OK
* checking installed package size ... OK
* checking package directory ... OK
* checking ‘build’ directory ... OK
* checking DESCRIPTION meta-information ... OK
* checking top-level files ... OK
* checking for left-over files ... OK
* checking index information ... OK
* checking package subdirectories ... OK
* checking R files for non-ASCII characters ... OK
* checking R files for syntax errors ... OK
* checking whether the package can be loaded ... OK
* checking whether the package can be loaded with stated dependencies ... OK
* checking whether the package can be unloaded cleanly ... OK
* checking whether the namespace can be loaded with stated dependencies ... OK
* checking whether the namespace can be unloaded cleanly ... OK
* checking dependencies in R code ... OK
* checking S3 generic/method consistency ... OK
* checking replacement functions ... OK
* checking foreign function calls ... OK
* checking R code for possible problems ... OK
* checking Rd files ... OK
* checking Rd metadata ... OK
* checking Rd cross-references ... OK
* checking for missing documentation entries ... OK
* checking for code/documentation mismatches ... OK
* checking Rd \usage sections ... OK
* checking Rd contents ... OK
* checking for unstated dependencies in examples ... OK
* checking files in ‘vignettes’ ... OK
* checking examples ... OK
Examples with CPU (user + system) or elapsed time > 5s
user system elapsed
available 0.436 0.037 11.91
* checking for unstated dependencies in ‘tests’ ... OK
* checking tests ...
Running ‘testthat.R’
ERROR
Running the tests in ‘tests/testthat.R’ failed.
Last 13 lines of output:
Error in `vapply(tags, `[[`, list(1), "images")`: values must be length 1,
but FUN(X[[1]]) result is length 2
Backtrace:
▆
1. └─BiocDockerManager:::.docker_image_digests("bioconductor/bioconductor_docker") at test-dockerhub_api.R:34:4
2. └─base::vapply(tags, `[[`, list(1), "images")
── Failure ('test-manager.R:24:5'): 'available()' works as expected ────────────
grepl(...) is not TRUE
`actual`: FALSE
`expected`: TRUE
[ FAIL 4 | WARN 0 | SKIP 9 | PASS 16 ]
Error: Test failures
Execution halted
* checking for unstated dependencies in vignettes ... OK
* checking package vignettes in ‘inst/doc’ ... OK
* checking running R code from vignettes ... SKIPPED
* checking re-building of vignette outputs ... SKIPPED
* checking PDF version of manual ... OK
* DONE
Status: 1 ERROR
See
‘/Users/biocbuild/bbs-3.16-bioc/meat/BiocDockerManager.Rcheck/00check.log’
for details.
BiocDockerManager.Rcheck/00install.out
############################################################################## ############################################################################## ### ### Running command: ### ### /Library/Frameworks/R.framework/Resources/bin/R CMD INSTALL BiocDockerManager ### ############################################################################## ############################################################################## * installing to library ‘/Library/Frameworks/R.framework/Versions/4.2/Resources/library’ * installing *source* package ‘BiocDockerManager’ ... ** using staged installation ** R ** inst ** byte-compile and prepare package for lazy loading ** help *** installing help indices ** building package indices ** installing vignettes ** testing if installed package can be loaded from temporary location ** testing if installed package can be loaded from final location ** testing if installed package keeps a record of temporary installation path * DONE (BiocDockerManager)
BiocDockerManager.Rcheck/tests/testthat.Rout.fail
R version 4.2.3 (2023-03-15) -- "Shortstop Beagle"
Copyright (C) 2023 The R Foundation for Statistical Computing
Platform: x86_64-apple-darwin17.0 (64-bit)
R is free software and comes with ABSOLUTELY NO WARRANTY.
You are welcome to redistribute it under certain conditions.
Type 'license()' or 'licence()' for distribution details.
R is a collaborative project with many contributors.
Type 'contributors()' for more information and
'citation()' on how to cite R or R packages in publications.
Type 'demo()' for some demos, 'help()' for on-line help, or
'help.start()' for an HTML browser interface to help.
Type 'q()' to quit R.
> library(testthat)
> library(BiocDockerManager)
Attaching package: 'BiocDockerManager'
The following objects are masked from 'package:utils':
help, maintainer
>
> test_check("BiocDockerManager")
[ FAIL 4 | WARN 0 | SKIP 9 | PASS 16 ]
══ Skipped tests ═══════════════════════════════════════════════════════════════
• 'docker' engine not installed on machine. (9)
══ Failed tests ════════════════════════════════════════════════════════════════
── Failure ('test-dockerhub_api.R:27:5'): .docker_image_tags_list is as expected ──
"latest" %in% res is not TRUE
`actual`: FALSE
`expected`: TRUE
── Failure ('test-dockerhub_api.R:28:5'): .docker_image_tags_list is as expected ──
"RELEASE_3_10" %in% res is not TRUE
`actual`: FALSE
`expected`: TRUE
── Error ('test-dockerhub_api.R:34:5'): .docker_image_digests is as expected ───
Error in `vapply(tags, `[[`, list(1), "images")`: values must be length 1,
but FUN(X[[1]]) result is length 2
Backtrace:
▆
1. └─BiocDockerManager:::.docker_image_digests("bioconductor/bioconductor_docker") at test-dockerhub_api.R:34:4
2. └─base::vapply(tags, `[[`, list(1), "images")
── Failure ('test-manager.R:24:5'): 'available()' works as expected ────────────
grepl(...) is not TRUE
`actual`: FALSE
`expected`: TRUE
[ FAIL 4 | WARN 0 | SKIP 9 | PASS 16 ]
Error: Test failures
Execution halted
BiocDockerManager.Rcheck/BiocDockerManager-Ex.timings
| name | user | system | elapsed | |
| available | 0.436 | 0.037 | 11.910 | |
| help | 0.004 | 0.007 | 0.015 | |
| install | 0.002 | 0.005 | 0.013 | |
| installed | 0.002 | 0.006 | 0.014 | |
| maintainer | 0.002 | 0.004 | 0.012 | |
| use_dockerfile | 0.011 | 0.003 | 0.015 | |
| valid | 0.003 | 0.006 | 0.015 | |
| version | 0.002 | 0.006 | 0.014 | |