| Back to Multiple platform build/check report for BioC 3.16: simplified long |
|
This page was generated on 2023-04-12 11:05:26 -0400 (Wed, 12 Apr 2023).
| Hostname | OS | Arch (*) | R version | Installed pkgs |
|---|---|---|---|---|
| nebbiolo2 | Linux (Ubuntu 20.04.5 LTS) | x86_64 | 4.2.3 (2023-03-15) -- "Shortstop Beagle" | 4502 |
| palomino4 | Windows Server 2022 Datacenter | x64 | 4.2.3 (2023-03-15 ucrt) -- "Shortstop Beagle" | 4282 |
| lconway | macOS 12.5.1 Monterey | x86_64 | 4.2.3 (2023-03-15) -- "Shortstop Beagle" | 4310 |
| Click on any hostname to see more info about the system (e.g. compilers) (*) as reported by 'uname -p', except on Windows and Mac OS X | ||||
|
To the developers/maintainers of the BioQC package: - Please allow up to 24 hours (and sometimes 48 hours) for your latest push to git@git.bioconductor.org:packages/BioQC.git to reflect on this report. See How and When does the builder pull? When will my changes propagate? for more information. - Make sure to use the following settings in order to reproduce any error or warning you see on this page. |
| Package 199/2183 | Hostname | OS / Arch | INSTALL | BUILD | CHECK | BUILD BIN | ||||||||
| BioQC 1.26.0 (landing page) Jitao David Zhang
| nebbiolo2 | Linux (Ubuntu 20.04.5 LTS) / x86_64 | OK | OK | OK | |||||||||
| palomino4 | Windows Server 2022 Datacenter / x64 | OK | OK | OK | OK | |||||||||
| lconway | macOS 12.5.1 Monterey / x86_64 | OK | OK | OK | OK | |||||||||
| Package: BioQC |
| Version: 1.26.0 |
| Command: F:\biocbuild\bbs-3.16-bioc\R\bin\R.exe CMD INSTALL BioQC |
| StartedAt: 2023-04-10 15:37:03 -0400 (Mon, 10 Apr 2023) |
| EndedAt: 2023-04-10 15:37:45 -0400 (Mon, 10 Apr 2023) |
| EllapsedTime: 41.3 seconds |
| RetCode: 0 |
| Status: OK |
##############################################################################
##############################################################################
###
### Running command:
###
### F:\biocbuild\bbs-3.16-bioc\R\bin\R.exe CMD INSTALL BioQC
###
##############################################################################
##############################################################################
* installing to library 'F:/biocbuild/bbs-3.16-bioc/R/library'
* installing *source* package 'BioQC' ...
** using staged installation
** libs
gcc -I"F:/biocbuild/bbs-3.16-bioc/R/include" -DNDEBUG `F:/biocbuild/bbs-3.16-bioc/R/bin/Rscript -e 'Rcpp:::CxxFlags()'` -I'F:/biocbuild/bbs-3.16-bioc/R/library/Rcpp/include' -I"C:/rtools42/x86_64-w64-mingw32.static.posix/include" -O2 -Wall -std=gnu99 -mfpmath=sse -msse2 -mstackrealign -c gini.c -o gini.o
gcc -I"F:/biocbuild/bbs-3.16-bioc/R/include" -DNDEBUG `F:/biocbuild/bbs-3.16-bioc/R/bin/Rscript -e 'Rcpp:::CxxFlags()'` -I'F:/biocbuild/bbs-3.16-bioc/R/library/Rcpp/include' -I"C:/rtools42/x86_64-w64-mingw32.static.posix/include" -O2 -Wall -std=gnu99 -mfpmath=sse -msse2 -mstackrealign -c init.c -o init.o
g++ -std=gnu++14 -I"F:/biocbuild/bbs-3.16-bioc/R/include" -DNDEBUG `F:/biocbuild/bbs-3.16-bioc/R/bin/Rscript -e 'Rcpp:::CxxFlags()'` -I'F:/biocbuild/bbs-3.16-bioc/R/library/Rcpp/include' -I"C:/rtools42/x86_64-w64-mingw32.static.posix/include" -O2 -Wall -mfpmath=sse -msse2 -mstackrealign -c read_gmt.cpp -o read_gmt.o
gcc -I"F:/biocbuild/bbs-3.16-bioc/R/include" -DNDEBUG `F:/biocbuild/bbs-3.16-bioc/R/bin/Rscript -e 'Rcpp:::CxxFlags()'` -I'F:/biocbuild/bbs-3.16-bioc/R/library/Rcpp/include' -I"C:/rtools42/x86_64-w64-mingw32.static.posix/include" -O2 -Wall -std=gnu99 -mfpmath=sse -msse2 -mstackrealign -c stat_rank.c -o stat_rank.o
gcc -I"F:/biocbuild/bbs-3.16-bioc/R/include" -DNDEBUG `F:/biocbuild/bbs-3.16-bioc/R/bin/Rscript -e 'Rcpp:::CxxFlags()'` -I'F:/biocbuild/bbs-3.16-bioc/R/library/Rcpp/include' -I"C:/rtools42/x86_64-w64-mingw32.static.posix/include" -O2 -Wall -std=gnu99 -mfpmath=sse -msse2 -mstackrealign -c wmw_test.c -o wmw_test.o
wmw_test.c: In function 'wmw_test_list':
wmw_test.c:118: warning: ignoring '#pragma omp parallel' [-Wunknown-pragmas]
118 | #pragma omp parallel for
|
wmw_test.c: In function 'wmw_test':
wmw_test.c:168: warning: ignoring '#pragma omp parallel' [-Wunknown-pragmas]
168 | #pragma omp parallel for
|
wmw_test.c: In function 'signed_wmw_test_list':
wmw_test.c:201: warning: ignoring '#pragma omp parallel' [-Wunknown-pragmas]
201 | #pragma omp parallel for
|
wmw_test.c: In function 'signed_wmw_test':
wmw_test.c:270: warning: ignoring '#pragma omp parallel' [-Wunknown-pragmas]
270 | #pragma omp parallel for
|
g++ -std=gnu++14 -shared -s -static-libgcc -o BioQC.dll tmp.def gini.o init.o read_gmt.o stat_rank.o wmw_test.o -LC:/rtools42/x86_64-w64-mingw32.static.posix/lib/x64 -LC:/rtools42/x86_64-w64-mingw32.static.posix/lib -LF:/biocbuild/bbs-3.16-bioc/R/bin/x64 -lR
installing to F:/biocbuild/bbs-3.16-bioc/R/library/00LOCK-BioQC/00new/BioQC/libs/x64
** R
** inst
** byte-compile and prepare package for lazy loading
** help
*** installing help indices
*** copying figures
** building package indices
** installing vignettes
** testing if installed package can be loaded from temporary location
** testing if installed package can be loaded from final location
** testing if installed package keeps a record of temporary installation path
* DONE (BioQC)