| Back to Multiple platform build/check report for BioC 3.16: simplified long |
|
This page was generated on 2023-04-12 11:04:59 -0400 (Wed, 12 Apr 2023).
| Hostname | OS | Arch (*) | R version | Installed pkgs |
|---|---|---|---|---|
| nebbiolo2 | Linux (Ubuntu 20.04.5 LTS) | x86_64 | 4.2.3 (2023-03-15) -- "Shortstop Beagle" | 4502 |
| palomino4 | Windows Server 2022 Datacenter | x64 | 4.2.3 (2023-03-15 ucrt) -- "Shortstop Beagle" | 4282 |
| lconway | macOS 12.5.1 Monterey | x86_64 | 4.2.3 (2023-03-15) -- "Shortstop Beagle" | 4310 |
| Click on any hostname to see more info about the system (e.g. compilers) (*) as reported by 'uname -p', except on Windows and Mac OS X | ||||
|
To the developers/maintainers of the BioNAR package: - Please allow up to 24 hours (and sometimes 48 hours) for your latest push to git@git.bioconductor.org:packages/BioNAR.git to reflect on this report. See How and When does the builder pull? When will my changes propagate? for more information. - Make sure to use the following settings in order to reproduce any error or warning you see on this page. |
| Package 195/2183 | Hostname | OS / Arch | INSTALL | BUILD | CHECK | BUILD BIN | ||||||||
| BioNAR 1.0.0 (landing page) Anatoly Sorokin
| nebbiolo2 | Linux (Ubuntu 20.04.5 LTS) / x86_64 | OK | OK | OK | |||||||||
| palomino4 | Windows Server 2022 Datacenter / x64 | OK | OK | OK | OK | |||||||||
| lconway | macOS 12.5.1 Monterey / x86_64 | OK | OK | OK | OK | |||||||||
| Package: BioNAR |
| Version: 1.0.0 |
| Command: /home/biocbuild/bbs-3.16-bioc/R/bin/R CMD check --install=check:BioNAR.install-out.txt --library=/home/biocbuild/bbs-3.16-bioc/R/site-library --timings BioNAR_1.0.0.tar.gz |
| StartedAt: 2023-04-10 19:20:05 -0400 (Mon, 10 Apr 2023) |
| EndedAt: 2023-04-10 19:28:43 -0400 (Mon, 10 Apr 2023) |
| EllapsedTime: 518.0 seconds |
| RetCode: 0 |
| Status: OK |
| CheckDir: BioNAR.Rcheck |
| Warnings: 0 |
##############################################################################
##############################################################################
###
### Running command:
###
### /home/biocbuild/bbs-3.16-bioc/R/bin/R CMD check --install=check:BioNAR.install-out.txt --library=/home/biocbuild/bbs-3.16-bioc/R/site-library --timings BioNAR_1.0.0.tar.gz
###
##############################################################################
##############################################################################
* using log directory ‘/home/biocbuild/bbs-3.16-bioc/meat/BioNAR.Rcheck’
* using R version 4.2.3 (2023-03-15)
* using platform: x86_64-pc-linux-gnu (64-bit)
* using session charset: UTF-8
* checking for file ‘BioNAR/DESCRIPTION’ ... OK
* this is package ‘BioNAR’ version ‘1.0.0’
* package encoding: UTF-8
* checking package namespace information ... OK
* checking package dependencies ... OK
* checking if this is a source package ... OK
* checking if there is a namespace ... OK
* checking for hidden files and directories ... OK
* checking for portable file names ... OK
* checking for sufficient/correct file permissions ... OK
* checking whether package ‘BioNAR’ can be installed ... OK
* checking installed package size ... OK
* checking package directory ... OK
* checking ‘build’ directory ... OK
* checking DESCRIPTION meta-information ... OK
* checking top-level files ... OK
* checking for left-over files ... OK
* checking index information ... OK
* checking package subdirectories ... OK
* checking R files for non-ASCII characters ... OK
* checking R files for syntax errors ... OK
* checking whether the package can be loaded ... OK
* checking whether the package can be loaded with stated dependencies ... OK
* checking whether the package can be unloaded cleanly ... OK
* checking whether the namespace can be loaded with stated dependencies ... OK
* checking whether the namespace can be unloaded cleanly ... OK
* checking loading without being on the library search path ... OK
* checking dependencies in R code ... NOTE
Package in Depends field not imported from: ‘Rdpack’
These packages need to be imported from (in the NAMESPACE file)
for when this namespace is loaded but not attached.
* checking S3 generic/method consistency ... OK
* checking replacement functions ... OK
* checking foreign function calls ... OK
* checking R code for possible problems ... OK
* checking Rd files ... OK
* checking Rd metadata ... OK
* checking Rd cross-references ... OK
* checking for missing documentation entries ... OK
* checking for code/documentation mismatches ... OK
* checking Rd \usage sections ... OK
* checking Rd contents ... OK
* checking for unstated dependencies in examples ... OK
* checking files in ‘vignettes’ ... OK
* checking examples ... OK
Examples with CPU (user + system) or elapsed time > 5s
user system elapsed
clusteringSummary 11.475 0.012 11.487
plotEntropy 7.915 0.128 8.044
calcEntropy 7.154 0.140 7.294
getEntropy 6.903 0.116 7.020
getGraphCentralityECDF 5.836 0.068 5.904
runPermDisease 5.793 0.020 5.813
getCentralityMatrix 5.364 0.104 5.468
FitDegree 1.470 0.119 5.763
getRandomGraphCentrality 0.314 0.000 11.352
* checking for unstated dependencies in ‘tests’ ... OK
* checking tests ...
Running ‘testthat.R’
OK
* checking for unstated dependencies in vignettes ... OK
* checking package vignettes in ‘inst/doc’ ... OK
* checking running R code from vignettes ...
‘BioNAR_overview.Rmd’ using ‘UTF-8’... OK
NONE
* checking re-building of vignette outputs ... OK
* checking PDF version of manual ... OK
* DONE
Status: 1 NOTE
See
‘/home/biocbuild/bbs-3.16-bioc/meat/BioNAR.Rcheck/00check.log’
for details.
BioNAR.Rcheck/00install.out
############################################################################## ############################################################################## ### ### Running command: ### ### /home/biocbuild/bbs-3.16-bioc/R/bin/R CMD INSTALL BioNAR ### ############################################################################## ############################################################################## * installing to library ‘/home/biocbuild/bbs-3.16-bioc/R/site-library’ * installing *source* package ‘BioNAR’ ... ** using staged installation ** R ** inst ** byte-compile and prepare package for lazy loading Using 'localHub=TRUE' If offline, please also see BiocManager vignette section on offline use snapshotDate(): 2023-04-06 loading from cache ** help *** installing help indices ** building package indices ** installing vignettes ** testing if installed package can be loaded from temporary location Using 'localHub=TRUE' If offline, please also see BiocManager vignette section on offline use snapshotDate(): 2023-04-06 loading from cache ** testing if installed package can be loaded from final location Using 'localHub=TRUE' If offline, please also see BiocManager vignette section on offline use snapshotDate(): 2023-04-06 loading from cache ** testing if installed package keeps a record of temporary installation path * DONE (BioNAR)
BioNAR.Rcheck/tests/testthat.Rout
R version 4.2.3 (2023-03-15) -- "Shortstop Beagle"
Copyright (C) 2023 The R Foundation for Statistical Computing
Platform: x86_64-pc-linux-gnu (64-bit)
R is free software and comes with ABSOLUTELY NO WARRANTY.
You are welcome to redistribute it under certain conditions.
Type 'license()' or 'licence()' for distribution details.
R is a collaborative project with many contributors.
Type 'contributors()' for more information and
'citation()' on how to cite R or R packages in publications.
Type 'demo()' for some demos, 'help()' for on-line help, or
'help.start()' for an HTML browser interface to help.
Type 'q()' to quit R.
> library(testthat)
> library(BioNAR)
Loading required package: igraph
Attaching package: 'igraph'
The following object is masked from 'package:testthat':
compare
The following objects are masked from 'package:stats':
decompose, spectrum
The following object is masked from 'package:base':
union
Loading required package: poweRlaw
Loading required package: latex2exp
Loading required package: RSpectra
Loading required package: Rdpack
Using 'localHub=TRUE'
If offline, please also see BiocManager vignette section on offline use
snapshotDate(): 2023-04-06
loading from cache
Attaching package: 'BioNAR'
The following object is masked from 'package:igraph':
permute
>
> test_check("BioNAR")
Loading required package: synaptome.data
Loading required package: AnnotationHub
Loading required package: BiocGenerics
Attaching package: 'BiocGenerics'
The following objects are masked from 'package:igraph':
normalize, path, union
The following objects are masked from 'package:stats':
IQR, mad, sd, var, xtabs
The following objects are masked from 'package:base':
Filter, Find, Map, Position, Reduce, anyDuplicated, aperm, append,
as.data.frame, basename, cbind, colnames, dirname, do.call,
duplicated, eval, evalq, get, grep, grepl, intersect, is.unsorted,
lapply, mapply, match, mget, order, paste, pmax, pmax.int, pmin,
pmin.int, rank, rbind, rownames, sapply, setdiff, sort, table,
tapply, union, unique, unsplit, which.max, which.min
Loading required package: BiocFileCache
Loading required package: dbplyr
An object of class "law"
Slot "fit":
Reference class object of class "displ"
Field "xmin":
[1] 11
Field "pars":
[1] 2.634402
Field "no_pars":
[1] 1
Slot "p":
[1] 0.8
Slot "alpha":
[1] 2.634402
Slot "SDxmin":
[1] 0.8944272
Slot "SDalpha":
[1] 0.1479363
[ FAIL 0 | WARN 15 | SKIP 4 | PASS 104 ]
══ Skipped tests ═══════════════════════════════════════════════════════════════
• On CRAN (4)
[ FAIL 0 | WARN 15 | SKIP 4 | PASS 104 ]
>
> proc.time()
user system elapsed
36.486 1.157 51.756
BioNAR.Rcheck/BioNAR-Ex.timings
| name | user | system | elapsed | |
| FitDegree | 1.470 | 0.119 | 5.763 | |
| addEdgeAtts | 0.067 | 0.000 | 0.067 | |
| annotateGOont | 3.813 | 0.184 | 3.998 | |
| annotateGeneNames | 0.152 | 0.016 | 0.167 | |
| annotateGoBP | 3.747 | 0.151 | 3.900 | |
| annotateGoCC | 2.708 | 0.040 | 2.748 | |
| annotateGoMF | 3.340 | 0.124 | 3.464 | |
| annotatePresynaptic | 1.387 | 0.016 | 1.403 | |
| annotateSCHanno | 1.541 | 0.012 | 1.582 | |
| annotateTopOntoOVG | 4.708 | 0.052 | 4.761 | |
| annotateVertex | 0.004 | 0.000 | 0.003 | |
| applpMatrixToGraph | 0.002 | 0.000 | 0.001 | |
| buildFromSynaptomeByEntrez | 0.484 | 0.024 | 0.508 | |
| buildFromSynaptomeGeneTable | 0.338 | 0.008 | 0.345 | |
| buildNetwork | 0.003 | 0.000 | 0.002 | |
| calcAllClustering | 4.955 | 0.016 | 4.971 | |
| calcBridgeness | 0.058 | 0.012 | 0.070 | |
| calcCentrality | 0.047 | 0.004 | 0.051 | |
| calcCentralityExternalDistances | 0.332 | 0.056 | 0.388 | |
| calcCentralityInternalDistances | 0.318 | 0.004 | 0.322 | |
| calcClustering | 0.003 | 0.000 | 0.003 | |
| calcDiseasePairs | 0.430 | 0.008 | 0.438 | |
| calcEntropy | 7.154 | 0.140 | 7.294 | |
| calcMembership | 0.006 | 0.006 | 0.013 | |
| calcReclusterMatrix | 0.008 | 0.001 | 0.009 | |
| calcSparsness | 0.499 | 0.016 | 0.514 | |
| clusterORA | 0.162 | 0.000 | 0.162 | |
| clusteringSummary | 11.475 | 0.012 | 11.487 | |
| degreeBinnedGDAs | 0.180 | 0.016 | 0.196 | |
| escapeAnnotation | 0.000 | 0.000 | 0.001 | |
| evalCentralitySignificance | 0.312 | 0.032 | 0.345 | |
| findLCC | 0.004 | 0.000 | 0.004 | |
| getAnnotationList | 0.057 | 0.004 | 0.061 | |
| getAnnotationVertexList | 0.064 | 0.007 | 0.071 | |
| getBridgeness | 0.041 | 0.015 | 0.057 | |
| getCentralityMatrix | 5.364 | 0.104 | 5.468 | |
| getClusterSubgraphByID | 0.003 | 0.000 | 0.003 | |
| getClustering | 0.005 | 0.006 | 0.010 | |
| getCommunityGraph | 0.003 | 0.001 | 0.005 | |
| getDType | 0.000 | 0.000 | 0.001 | |
| getDiseases | 0.001 | 0.000 | 0.000 | |
| getEntropy | 6.903 | 0.116 | 7.020 | |
| getEntropyRate | 0.005 | 0.000 | 0.004 | |
| getGraphCentralityECDF | 5.836 | 0.068 | 5.904 | |
| getRandomGraphCentrality | 0.314 | 0.000 | 11.352 | |
| getRobustness | 0.32 | 0.00 | 0.32 | |
| layoutByCluster | 0.082 | 0.000 | 0.083 | |
| layoutByRecluster | 0.169 | 0.000 | 0.169 | |
| makeConsensusMatrix | 0.376 | 0.007 | 0.384 | |
| normModularity | 0.832 | 0.020 | 0.852 | |
| permute | 0.001 | 0.000 | 0.000 | |
| plotBridgeness | 0.361 | 0.020 | 0.381 | |
| plotEntropy | 7.915 | 0.128 | 8.044 | |
| prepareGDA | 0.160 | 0.004 | 0.164 | |
| recluster | 0.007 | 0.000 | 0.007 | |
| removeVertexTerm | 0.002 | 0.000 | 0.002 | |
| runPermDisease | 5.793 | 0.020 | 5.813 | |
| sampleDegBinnedGDA | 0.242 | 0.004 | 0.246 | |
| sampleGraphClust | 0.005 | 0.000 | 0.005 | |
| unescapeAnnotation | 0 | 0 | 0 | |
| zeroNA | 0 | 0 | 0 | |