| Back to Multiple platform build/check report for BioC 3.16: simplified long |
|
This page was generated on 2023-04-12 11:04:58 -0400 (Wed, 12 Apr 2023).
| Hostname | OS | Arch (*) | R version | Installed pkgs |
|---|---|---|---|---|
| nebbiolo2 | Linux (Ubuntu 20.04.5 LTS) | x86_64 | 4.2.3 (2023-03-15) -- "Shortstop Beagle" | 4502 |
| palomino4 | Windows Server 2022 Datacenter | x64 | 4.2.3 (2023-03-15 ucrt) -- "Shortstop Beagle" | 4282 |
| lconway | macOS 12.5.1 Monterey | x86_64 | 4.2.3 (2023-03-15) -- "Shortstop Beagle" | 4310 |
| Click on any hostname to see more info about the system (e.g. compilers) (*) as reported by 'uname -p', except on Windows and Mac OS X | ||||
|
To the developers/maintainers of the BiGGR package: - Please allow up to 24 hours (and sometimes 48 hours) for your latest push to git@git.bioconductor.org:packages/BiGGR.git to reflect on this report. See How and When does the builder pull? When will my changes propagate? for more information. - Make sure to use the following settings in order to reproduce any error or warning you see on this page. |
| Package 149/2183 | Hostname | OS / Arch | INSTALL | BUILD | CHECK | BUILD BIN | ||||||||
| BiGGR 1.34.0 (landing page) Anand K. Gavai
| nebbiolo2 | Linux (Ubuntu 20.04.5 LTS) / x86_64 | OK | OK | OK | |||||||||
| palomino4 | Windows Server 2022 Datacenter / x64 | OK | OK | OK | OK | |||||||||
| lconway | macOS 12.5.1 Monterey / x86_64 | ... NOT SUPPORTED ... | ||||||||||||
| Package: BiGGR |
| Version: 1.34.0 |
| Command: /home/biocbuild/bbs-3.16-bioc/R/bin/R CMD check --install=check:BiGGR.install-out.txt --library=/home/biocbuild/bbs-3.16-bioc/R/site-library --timings BiGGR_1.34.0.tar.gz |
| StartedAt: 2023-04-10 19:13:24 -0400 (Mon, 10 Apr 2023) |
| EndedAt: 2023-04-10 19:17:44 -0400 (Mon, 10 Apr 2023) |
| EllapsedTime: 259.8 seconds |
| RetCode: 0 |
| Status: OK |
| CheckDir: BiGGR.Rcheck |
| Warnings: 0 |
##############################################################################
##############################################################################
###
### Running command:
###
### /home/biocbuild/bbs-3.16-bioc/R/bin/R CMD check --install=check:BiGGR.install-out.txt --library=/home/biocbuild/bbs-3.16-bioc/R/site-library --timings BiGGR_1.34.0.tar.gz
###
##############################################################################
##############################################################################
* using log directory ‘/home/biocbuild/bbs-3.16-bioc/meat/BiGGR.Rcheck’
* using R version 4.2.3 (2023-03-15)
* using platform: x86_64-pc-linux-gnu (64-bit)
* using session charset: UTF-8
* checking for file ‘BiGGR/DESCRIPTION’ ... OK
* checking extension type ... Package
* this is package ‘BiGGR’ version ‘1.34.0’
* checking package namespace information ... OK
* checking package dependencies ... OK
* checking if this is a source package ... OK
* checking if there is a namespace ... OK
* checking for hidden files and directories ... NOTE
Found the following hidden files and directories:
.BBSoptions
These were most likely included in error. See section ‘Package
structure’ in the ‘Writing R Extensions’ manual.
* checking for portable file names ... OK
* checking for sufficient/correct file permissions ... OK
* checking whether package ‘BiGGR’ can be installed ... OK
* checking installed package size ... OK
* checking package directory ... OK
* checking ‘build’ directory ... OK
* checking DESCRIPTION meta-information ... OK
* checking top-level files ... OK
* checking for left-over files ... OK
* checking index information ... OK
* checking package subdirectories ... OK
* checking R files for non-ASCII characters ... OK
* checking R files for syntax errors ... OK
* checking whether the package can be loaded ... OK
* checking whether the package can be loaded with stated dependencies ... OK
* checking whether the package can be unloaded cleanly ... OK
* checking whether the namespace can be loaded with stated dependencies ... OK
* checking whether the namespace can be unloaded cleanly ... OK
* checking loading without being on the library search path ... OK
* checking dependencies in R code ... NOTE
Package in Depends field not imported from: ‘stringr’
These packages need to be imported from (in the NAMESPACE file)
for when this namespace is loaded but not attached.
* checking S3 generic/method consistency ... OK
* checking replacement functions ... OK
* checking foreign function calls ... OK
* checking R code for possible problems ... NOTE
.buildSubModel: no visible global function definition for ‘new’
buildSBMLFromBiGG: no visible global function definition for
‘read.delim’
buildSBMLFromBiGG : <anonymous>: no visible global function definition
for ‘new’
buildSBMLFromBiGG: no visible global function definition for ‘new’
createLIMFromSBML: no visible global function definition for ‘hasArg’
gprMapping: no visible global function definition for ‘str_detect’
gprMapping: no visible global function definition for ‘na.omit’
gprMappingAvg: no visible global function definition for ‘na.omit’
sampleFluxEnsemble: no visible global function definition for ‘Xsample’
sbml2hyperdraw : <anonymous>: no visible binding for global variable
‘species’
sbml2hyperdraw: no visible global function definition for ‘hasArg’
sbml2hyperdraw: no visible global function definition for ‘graphLayout’
sbml2hyperdraw: no visible global function definition for
‘nodeDataDefaults<-’
sbml2hyperdraw: no visible global function definition for
‘edgeDataDefaults<-’
sbml2hyperdraw: no visible global function definition for
‘graphDataDefaults<-’
sbml2hyperdraw : <anonymous>: no visible global function definition for
‘edgeData<-’
Undefined global functions or variables:
Xsample edgeData<- edgeDataDefaults<- graphDataDefaults<- graphLayout
hasArg na.omit new nodeDataDefaults<- read.delim species str_detect
Consider adding
importFrom("methods", "hasArg", "new")
importFrom("stats", "na.omit")
importFrom("utils", "read.delim")
to your NAMESPACE file (and ensure that your DESCRIPTION Imports field
contains 'methods').
* checking Rd files ... OK
* checking Rd metadata ... OK
* checking Rd cross-references ... OK
* checking for missing documentation entries ... OK
* checking for code/documentation mismatches ... OK
* checking Rd \usage sections ... OK
* checking Rd contents ... OK
* checking for unstated dependencies in examples ... OK
* checking contents of ‘data’ directory ... OK
* checking data for non-ASCII characters ... OK
* checking data for ASCII and uncompressed saves ... OK
* checking installed files from ‘inst/doc’ ... OK
* checking files in ‘vignettes’ ... OK
* checking examples ... OK
Examples with CPU (user + system) or elapsed time > 5s
user system elapsed
gprMapping 111.672 0.492 112.165
gprMappingAvg 14.373 0.200 14.574
* checking for unstated dependencies in vignettes ... OK
* checking package vignettes in ‘inst/doc’ ... OK
* checking running R code from vignettes ...
‘BiGGR.Rnw’ using ‘UTF-8’... OK
OK
* checking re-building of vignette outputs ... OK
* checking PDF version of manual ... OK
* DONE
Status: 3 NOTEs
See
‘/home/biocbuild/bbs-3.16-bioc/meat/BiGGR.Rcheck/00check.log’
for details.
BiGGR.Rcheck/00install.out
############################################################################## ############################################################################## ### ### Running command: ### ### /home/biocbuild/bbs-3.16-bioc/R/bin/R CMD INSTALL BiGGR ### ############################################################################## ############################################################################## * installing to library ‘/home/biocbuild/bbs-3.16-bioc/R/site-library’ * installing *source* package ‘BiGGR’ ... ** using staged installation ** R ** data ** inst ** byte-compile and prepare package for lazy loading ** help *** installing help indices ** building package indices ** installing vignettes ** testing if installed package can be loaded from temporary location ** testing if installed package can be loaded from final location ** testing if installed package keeps a record of temporary installation path * DONE (BiGGR)
BiGGR.Rcheck/BiGGR-Ex.timings
| name | user | system | elapsed | |
| BiGGR-package | 2.289 | 0.060 | 2.351 | |
| E.coli_iAF1260 | 0.830 | 0.012 | 0.842 | |
| E.coli_iJR904 | 0.369 | 0.000 | 0.370 | |
| E.coli_textbook | 0.023 | 0.000 | 0.023 | |
| H.pylori_ilT341 | 0.172 | 0.000 | 0.173 | |
| H.sapiens_Recon1 | 1.196 | 0.020 | 1.216 | |
| M.barkeri_iAF692 | 0.312 | 0.012 | 0.324 | |
| M.tuberculosis_iNJ661 | 0.324 | 0.000 | 0.324 | |
| P.putida_iJN746 | 0.368 | 0.000 | 0.369 | |
| Recon2 | 1.784 | 0.100 | 1.883 | |
| S.aureus_iSB619 | 0.244 | 0.016 | 0.261 | |
| S.cerevisiae_iND750 | 0.458 | 0.020 | 0.478 | |
| buildSBMLFromBiGG | 0.245 | 0.000 | 0.245 | |
| buildSBMLFromGenes | 4.835 | 0.096 | 4.931 | |
| buildSBMLFromPathways | 3.850 | 0.048 | 3.898 | |
| buildSBMLFromReactionIDs | 1.267 | 0.016 | 1.283 | |
| createLIMFromBiGG | 0.564 | 0.012 | 0.576 | |
| createLIMFromSBML | 1.089 | 0.000 | 1.089 | |
| extractGeneAssociations | 1.614 | 0.024 | 1.639 | |
| extractPathways | 1.753 | 0.020 | 1.772 | |
| getPathwaysForSBML | 2.511 | 0.016 | 2.527 | |
| getRates | 0.003 | 0.000 | 0.003 | |
| gprMapping | 111.672 | 0.492 | 112.165 | |
| gprMappingAvg | 14.373 | 0.200 | 14.574 | |
| lying.tunell.data | 0.001 | 0.000 | 0.002 | |
| rmvSpliceVariant | 2.349 | 0.028 | 2.377 | |
| sampleFluxEnsemble | 2.087 | 0.024 | 2.111 | |
| sbml2hyperdraw | 1.990 | 0.000 | 1.989 | |