| Back to Multiple platform build/check report for BioC 3.16: simplified long |
|
This page was generated on 2023-04-12 11:05:59 -0400 (Wed, 12 Apr 2023).
| Hostname | OS | Arch (*) | R version | Installed pkgs |
|---|---|---|---|---|
| nebbiolo2 | Linux (Ubuntu 20.04.5 LTS) | x86_64 | 4.2.3 (2023-03-15) -- "Shortstop Beagle" | 4502 |
| palomino4 | Windows Server 2022 Datacenter | x64 | 4.2.3 (2023-03-15 ucrt) -- "Shortstop Beagle" | 4282 |
| lconway | macOS 12.5.1 Monterey | x86_64 | 4.2.3 (2023-03-15) -- "Shortstop Beagle" | 4310 |
| Click on any hostname to see more info about the system (e.g. compilers) (*) as reported by 'uname -p', except on Windows and Mac OS X | ||||
|
To the developers/maintainers of the Basic4Cseq package: - Please allow up to 24 hours (and sometimes 48 hours) for your latest push to git@git.bioconductor.org:packages/Basic4Cseq.git to reflect on this report. See How and When does the builder pull? When will my changes propagate? for more information. - Make sure to use the following settings in order to reproduce any error or warning you see on this page. |
| Package 117/2183 | Hostname | OS / Arch | INSTALL | BUILD | CHECK | BUILD BIN | ||||||||
| Basic4Cseq 1.34.0 (landing page) Carolin Walter
| nebbiolo2 | Linux (Ubuntu 20.04.5 LTS) / x86_64 | OK | OK | OK | |||||||||
| palomino4 | Windows Server 2022 Datacenter / x64 | OK | OK | OK | OK | |||||||||
| lconway | macOS 12.5.1 Monterey / x86_64 | OK | OK | OK | OK | |||||||||
| Package: Basic4Cseq |
| Version: 1.34.0 |
| Command: /Library/Frameworks/R.framework/Resources/bin/R CMD check --install=check:Basic4Cseq.install-out.txt --library=/Library/Frameworks/R.framework/Resources/library --no-vignettes --timings Basic4Cseq_1.34.0.tar.gz |
| StartedAt: 2023-04-10 18:53:58 -0400 (Mon, 10 Apr 2023) |
| EndedAt: 2023-04-10 18:57:19 -0400 (Mon, 10 Apr 2023) |
| EllapsedTime: 200.9 seconds |
| RetCode: 0 |
| Status: OK |
| CheckDir: Basic4Cseq.Rcheck |
| Warnings: 0 |
##############################################################################
##############################################################################
###
### Running command:
###
### /Library/Frameworks/R.framework/Resources/bin/R CMD check --install=check:Basic4Cseq.install-out.txt --library=/Library/Frameworks/R.framework/Resources/library --no-vignettes --timings Basic4Cseq_1.34.0.tar.gz
###
##############################################################################
##############################################################################
* using log directory ‘/Users/biocbuild/bbs-3.16-bioc/meat/Basic4Cseq.Rcheck’
* using R version 4.2.3 (2023-03-15)
* using platform: x86_64-apple-darwin17.0 (64-bit)
* using session charset: UTF-8
* using option ‘--no-vignettes’
* checking for file ‘Basic4Cseq/DESCRIPTION’ ... OK
* checking extension type ... Package
* this is package ‘Basic4Cseq’ version ‘1.34.0’
* checking package namespace information ... OK
* checking package dependencies ... OK
* checking if this is a source package ... OK
* checking if there is a namespace ... OK
* checking for hidden files and directories ... OK
* checking for portable file names ... OK
* checking for sufficient/correct file permissions ... OK
* checking whether package ‘Basic4Cseq’ can be installed ... OK
* checking installed package size ... OK
* checking package directory ... OK
* checking ‘build’ directory ... OK
* checking DESCRIPTION meta-information ... OK
* checking top-level files ... OK
* checking for left-over files ... OK
* checking index information ... OK
* checking package subdirectories ... OK
* checking R files for non-ASCII characters ... OK
* checking R files for syntax errors ... OK
* checking whether the package can be loaded ... OK
* checking whether the package can be loaded with stated dependencies ... OK
* checking whether the package can be unloaded cleanly ... OK
* checking whether the namespace can be loaded with stated dependencies ... OK
* checking whether the namespace can be unloaded cleanly ... OK
* checking dependencies in R code ... OK
* checking S3 generic/method consistency ... OK
* checking replacement functions ... OK
* checking foreign function calls ... OK
* checking R code for possible problems ... OK
* checking Rd files ... OK
* checking Rd metadata ... OK
* checking Rd cross-references ... OK
* checking for missing documentation entries ... OK
* checking for code/documentation mismatches ... OK
* checking Rd \usage sections ... OK
* checking Rd contents ... OK
* checking for unstated dependencies in examples ... OK
* checking contents of ‘data’ directory ... OK
* checking data for non-ASCII characters ... OK
* checking data for ASCII and uncompressed saves ... OK
* checking sizes of PDF files under ‘inst/doc’ ... OK
* checking files in ‘vignettes’ ... OK
* checking examples ... OK
Examples with CPU (user + system) or elapsed time > 5s
user system elapsed
readsToFragments 4.846 1.281 6.14
* checking for unstated dependencies in vignettes ... OK
* checking package vignettes in ‘inst/doc’ ... OK
* checking running R code from vignettes ... SKIPPED
* checking re-building of vignette outputs ... SKIPPED
* checking PDF version of manual ... OK
* DONE
Status: OK
Basic4Cseq.Rcheck/00install.out
############################################################################## ############################################################################## ### ### Running command: ### ### /Library/Frameworks/R.framework/Resources/bin/R CMD INSTALL Basic4Cseq ### ############################################################################## ############################################################################## * installing to library ‘/Library/Frameworks/R.framework/Versions/4.2/Resources/library’ * installing *source* package ‘Basic4Cseq’ ... ** using staged installation ** R ** data ** inst ** byte-compile and prepare package for lazy loading ** help *** installing help indices ** building package indices ** installing vignettes ** testing if installed package can be loaded from temporary location ** testing if installed package can be loaded from final location ** testing if installed package keeps a record of temporary installation path * DONE (Basic4Cseq)
Basic4Cseq.Rcheck/Basic4Cseq-Ex.timings
| name | user | system | elapsed | |
| Data4Cseq-class | 0.001 | 0.000 | 0.002 | |
| Data4Cseq | 0.081 | 0.008 | 0.090 | |
| checkRestrictionEnzymeSequence | 0.000 | 0.000 | 0.001 | |
| chooseNearCisFragments | 0.009 | 0.003 | 0.013 | |
| createVirtualFragmentLibrary | 0.000 | 0.000 | 0.001 | |
| drawDigestionFragmentHistogram | 0.005 | 0.000 | 0.006 | |
| drawHeatmap | 0 | 0 | 0 | |
| exportVisualizationFragmentData | 0 | 0 | 0 | |
| getReadDistribution | 0.182 | 0.014 | 0.197 | |
| giveEnzymeSequence | 0.001 | 0.001 | 0.001 | |
| importVisualizationFragmentData | 0.007 | 0.005 | 0.012 | |
| liverData | 0.003 | 0.002 | 0.006 | |
| liverDataRaw | 0.003 | 0.002 | 0.005 | |
| normalizeFragmentData | 0.005 | 0.002 | 0.007 | |
| plotTransInteractions | 0.001 | 0.000 | 0.000 | |
| prepare4CseqData | 0 | 0 | 0 | |
| printBEDFragmentLibrary | 0 | 0 | 0 | |
| printWigFile | 0 | 0 | 0 | |
| readPointsOfInterestFile | 0.002 | 0.000 | 0.002 | |
| readsToFragments | 4.846 | 1.281 | 6.140 | |
| simulateDigestion | 0.001 | 0.000 | 0.002 | |
| visualizeViewpoint | 0.038 | 0.003 | 0.043 | |