| Back to Multiple platform build/check report for BioC 3.16: simplified long | 
 | 
This page was generated on 2023-04-12 11:04:58 -0400 (Wed, 12 Apr 2023).
| Hostname | OS | Arch (*) | R version | Installed pkgs | 
|---|---|---|---|---|
| nebbiolo2 | Linux (Ubuntu 20.04.5 LTS) | x86_64 | 4.2.3 (2023-03-15) -- "Shortstop Beagle" | 4502 | 
| palomino4 | Windows Server 2022 Datacenter | x64 | 4.2.3 (2023-03-15 ucrt) -- "Shortstop Beagle" | 4282 | 
| lconway | macOS 12.5.1 Monterey | x86_64 | 4.2.3 (2023-03-15) -- "Shortstop Beagle" | 4310 | 
| Click on any hostname to see more info about the system (e.g. compilers) (*) as reported by 'uname -p', except on Windows and Mac OS X | ||||
| To the developers/maintainers of the BaseSpaceR package: - Please allow up to 24 hours (and sometimes 48 hours) for your latest push to git@git.bioconductor.org:packages/BaseSpaceR.git to reflect on this report. See How and When does the builder pull? When will my changes propagate? for more information. - Make sure to use the following settings in order to reproduce any error or warning you see on this page. | 
| Package 116/2183 | Hostname | OS / Arch | INSTALL | BUILD | CHECK | BUILD BIN | ||||||||
| BaseSpaceR 1.42.0  (landing page) Jared O'Connell 
 | nebbiolo2 | Linux (Ubuntu 20.04.5 LTS) / x86_64 | OK | OK | OK |  | ||||||||
| palomino4 | Windows Server 2022 Datacenter / x64 | OK | OK | OK | OK |  | ||||||||
| lconway | macOS 12.5.1 Monterey / x86_64 | OK | OK | OK | OK |  | ||||||||
| Package: BaseSpaceR | 
| Version: 1.42.0 | 
| Command: /home/biocbuild/bbs-3.16-bioc/R/bin/R CMD check --install=check:BaseSpaceR.install-out.txt --library=/home/biocbuild/bbs-3.16-bioc/R/site-library --timings BaseSpaceR_1.42.0.tar.gz | 
| StartedAt: 2023-04-10 19:07:02 -0400 (Mon, 10 Apr 2023) | 
| EndedAt: 2023-04-10 19:08:08 -0400 (Mon, 10 Apr 2023) | 
| EllapsedTime: 66.4 seconds | 
| RetCode: 0 | 
| Status: OK | 
| CheckDir: BaseSpaceR.Rcheck | 
| Warnings: 0 | 
##############################################################################
##############################################################################
###
### Running command:
###
###   /home/biocbuild/bbs-3.16-bioc/R/bin/R CMD check --install=check:BaseSpaceR.install-out.txt --library=/home/biocbuild/bbs-3.16-bioc/R/site-library --timings BaseSpaceR_1.42.0.tar.gz
###
##############################################################################
##############################################################################
* using log directory ‘/home/biocbuild/bbs-3.16-bioc/meat/BaseSpaceR.Rcheck’
* using R version 4.2.3 (2023-03-15)
* using platform: x86_64-pc-linux-gnu (64-bit)
* using session charset: UTF-8
* checking for file ‘BaseSpaceR/DESCRIPTION’ ... OK
* this is package ‘BaseSpaceR’ version ‘1.42.0’
* checking package namespace information ... OK
* checking package dependencies ... OK
* checking if this is a source package ... OK
* checking if there is a namespace ... OK
* checking for hidden files and directories ... OK
* checking for portable file names ... OK
* checking for sufficient/correct file permissions ... OK
* checking whether package ‘BaseSpaceR’ can be installed ... OK
* checking installed package size ... OK
* checking package directory ... OK
* checking ‘build’ directory ... OK
* checking DESCRIPTION meta-information ... OK
* checking top-level files ... OK
* checking for left-over files ... OK
* checking index information ... OK
* checking package subdirectories ... OK
* checking R files for non-ASCII characters ... OK
* checking R files for syntax errors ... OK
* checking whether the package can be loaded ... OK
* checking whether the package can be loaded with stated dependencies ... OK
* checking whether the package can be unloaded cleanly ... OK
* checking whether the namespace can be loaded with stated dependencies ... OK
* checking whether the namespace can be unloaded cleanly ... OK
* checking loading without being on the library search path ... OK
* checking dependencies in R code ... NOTE
'library' or 'require' call to ‘Rsamtools’ in package code.
  Please use :: or requireNamespace() instead.
  See section 'Suggested packages' in the 'Writing R Extensions' manual.
* checking S3 generic/method consistency ... OK
* checking replacement functions ... OK
* checking foreign function calls ... OK
* checking R code for possible problems ... NOTE
asBamFile: no visible global function definition for ‘BamFile’
GET,ServiceURI: no visible global function definition for
  ‘basicHeaderGatherer’
GET,ServiceURI: no visible global function definition for
  ‘basicTextGatherer’
GET,ServiceURI: no visible global function definition for ‘getForm’
GET,ServiceURI: no visible global function definition for ‘curlOptions’
POST,ServiceURI: no visible global function definition for
  ‘basicHeaderGatherer’
POST,ServiceURI: no visible global function definition for
  ‘basicTextGatherer’
POST,ServiceURI: no visible global function definition for
  ‘curlPerform’
POSTForm,ServiceURI: no visible global function definition for
  ‘basicHeaderGatherer’
POSTForm,ServiceURI: no visible global function definition for
  ‘basicTextGatherer’
POSTForm,ServiceURI: no visible global function definition for
  ‘postForm’
POSTForm,ServiceURI: no visible global function definition for
  ‘curlOptions’
getBAMs,AppResults: no visible binding for global variable
  ‘BamFileList’
getFiles,AppAuth : .toDisk: no visible global function definition for
  ‘CFILE’
getFiles,AppAuth : .toDisk: no visible global function definition for
  ‘curlPerform’
getFiles,AppAuth : .toMem: no visible global function definition for
  ‘getURLContent’
getFiles,AppAuth : .toMem: no visible binding for global variable
  ‘dsize’
Undefined global functions or variables:
  BamFile BamFileList CFILE basicHeaderGatherer basicTextGatherer
  curlOptions curlPerform dsize getForm getURLContent postForm
* checking Rd files ... OK
* checking Rd metadata ... OK
* checking Rd cross-references ... OK
* checking for missing documentation entries ... OK
* checking for code/documentation mismatches ... OK
* checking Rd \usage sections ... OK
* checking Rd contents ... OK
* checking for unstated dependencies in examples ... OK
* checking contents of ‘data’ directory ... OK
* checking data for non-ASCII characters ... OK
* checking data for ASCII and uncompressed saves ... OK
* checking files in ‘vignettes’ ... OK
* checking examples ... OK
Examples with CPU (user + system) or elapsed time > 5s
            user system elapsed
Runs-class 0.189      0   5.949
* checking for unstated dependencies in vignettes ... OK
* checking package vignettes in ‘inst/doc’ ... OK
* checking running R code from vignettes ...
  ‘BaseSpaceR.Rnw’... OK
 OK
* checking re-building of vignette outputs ... OK
* checking PDF version of manual ... OK
* DONE
Status: 2 NOTEs
See
  ‘/home/biocbuild/bbs-3.16-bioc/meat/BaseSpaceR.Rcheck/00check.log’
for details.
BaseSpaceR.Rcheck/00install.out
############################################################################## ############################################################################## ### ### Running command: ### ### /home/biocbuild/bbs-3.16-bioc/R/bin/R CMD INSTALL BaseSpaceR ### ############################################################################## ############################################################################## * installing to library ‘/home/biocbuild/bbs-3.16-bioc/R/site-library’ * installing *source* package ‘BaseSpaceR’ ... ** using staged installation ** R ** data ** inst ** byte-compile and prepare package for lazy loading ** help *** installing help indices ** building package indices ** installing vignettes ** testing if installed package can be loaded from temporary location ** testing if installed package can be loaded from final location ** testing if installed package keeps a record of temporary installation path * DONE (BaseSpaceR)
BaseSpaceR.Rcheck/BaseSpaceR-Ex.timings
| name | user | system | elapsed | |
| AppAuth-class | 0.117 | 0.016 | 0.829 | |
| AppResults-class | 0.001 | 0.000 | 0.001 | |
| AppSessionAuth | 0.001 | 0.000 | 0.001 | |
| AppSessions-class | 0.001 | 0.000 | 0.001 | |
| Coverage | 0.011 | 0.000 | 0.012 | |
| Error | 0.000 | 0.000 | 0.001 | |
| Files-class | 0.067 | 0.011 | 1.457 | |
| FilesExtra | 0.105 | 0.000 | 1.501 | |
| Genomes-class | 0.131 | 0.000 | 1.224 | |
| Projects-class | 0.145 | 0.003 | 2.779 | |
| Response-class | 0.002 | 0.000 | 0.002 | |
| Runs-class | 0.189 | 0.000 | 5.949 | |
| Samples-class | 0.131 | 0.003 | 2.975 | |
| ServiceURI-class | 0 | 0 | 0 | |
| Users-class | 0.070 | 0.001 | 0.541 | |
| Variants | 0.081 | 0.003 | 1.680 | |
| data-aAuth | 0.028 | 0.003 | 0.145 | |