| Back to Multiple platform build/check report for BioC 3.16: simplified long |
|
This page was generated on 2023-04-12 11:04:59 -0400 (Wed, 12 Apr 2023).
| Hostname | OS | Arch (*) | R version | Installed pkgs |
|---|---|---|---|---|
| nebbiolo2 | Linux (Ubuntu 20.04.5 LTS) | x86_64 | 4.2.3 (2023-03-15) -- "Shortstop Beagle" | 4502 |
| palomino4 | Windows Server 2022 Datacenter | x64 | 4.2.3 (2023-03-15 ucrt) -- "Shortstop Beagle" | 4282 |
| lconway | macOS 12.5.1 Monterey | x86_64 | 4.2.3 (2023-03-15) -- "Shortstop Beagle" | 4310 |
| Click on any hostname to see more info about the system (e.g. compilers) (*) as reported by 'uname -p', except on Windows and Mac OS X | ||||
|
To the developers/maintainers of the BUSseq package: - Please allow up to 24 hours (and sometimes 48 hours) for your latest push to git@git.bioconductor.org:packages/BUSseq.git to reflect on this report. See How and When does the builder pull? When will my changes propagate? for more information. - Make sure to use the following settings in order to reproduce any error or warning you see on this page. |
| Package 241/2183 | Hostname | OS / Arch | INSTALL | BUILD | CHECK | BUILD BIN | ||||||||
| BUSseq 1.4.2 (landing page) Fangda Song
| nebbiolo2 | Linux (Ubuntu 20.04.5 LTS) / x86_64 | OK | OK | OK | |||||||||
| palomino4 | Windows Server 2022 Datacenter / x64 | OK | OK | OK | OK | |||||||||
| lconway | macOS 12.5.1 Monterey / x86_64 | OK | OK | OK | OK | |||||||||
| Package: BUSseq |
| Version: 1.4.2 |
| Command: /home/biocbuild/bbs-3.16-bioc/R/bin/R CMD check --install=check:BUSseq.install-out.txt --library=/home/biocbuild/bbs-3.16-bioc/R/site-library --timings BUSseq_1.4.2.tar.gz |
| StartedAt: 2023-04-10 19:27:42 -0400 (Mon, 10 Apr 2023) |
| EndedAt: 2023-04-10 19:30:59 -0400 (Mon, 10 Apr 2023) |
| EllapsedTime: 197.4 seconds |
| RetCode: 0 |
| Status: OK |
| CheckDir: BUSseq.Rcheck |
| Warnings: 0 |
############################################################################## ############################################################################## ### ### Running command: ### ### /home/biocbuild/bbs-3.16-bioc/R/bin/R CMD check --install=check:BUSseq.install-out.txt --library=/home/biocbuild/bbs-3.16-bioc/R/site-library --timings BUSseq_1.4.2.tar.gz ### ############################################################################## ############################################################################## * using log directory ‘/home/biocbuild/bbs-3.16-bioc/meat/BUSseq.Rcheck’ * using R version 4.2.3 (2023-03-15) * using platform: x86_64-pc-linux-gnu (64-bit) * using session charset: UTF-8 * checking for file ‘BUSseq/DESCRIPTION’ ... OK * checking extension type ... Package * this is package ‘BUSseq’ version ‘1.4.2’ * checking package namespace information ... OK * checking package dependencies ... OK * checking if this is a source package ... OK * checking if there is a namespace ... OK * checking for hidden files and directories ... OK * checking for portable file names ... OK * checking for sufficient/correct file permissions ... OK * checking whether package ‘BUSseq’ can be installed ... OK * checking installed package size ... OK * checking package directory ... OK * checking ‘build’ directory ... OK * checking DESCRIPTION meta-information ... OK * checking top-level files ... OK * checking for left-over files ... OK * checking index information ... OK * checking package subdirectories ... OK * checking R files for non-ASCII characters ... OK * checking R files for syntax errors ... OK * checking whether the package can be loaded ... OK * checking whether the package can be loaded with stated dependencies ... OK * checking whether the package can be unloaded cleanly ... OK * checking whether the namespace can be loaded with stated dependencies ... OK * checking whether the namespace can be unloaded cleanly ... OK * checking loading without being on the library search path ... OK * checking dependencies in R code ... OK * checking S3 generic/method consistency ... OK * checking replacement functions ... OK * checking foreign function calls ... OK * checking R code for possible problems ... OK * checking Rd files ... OK * checking Rd metadata ... OK * checking Rd cross-references ... OK * checking for missing documentation entries ... OK * checking for code/documentation mismatches ... OK * checking Rd \usage sections ... OK * checking Rd contents ... OK * checking for unstated dependencies in examples ... OK * checking contents of ‘data’ directory ... OK * checking data for non-ASCII characters ... OK * checking LazyData ... OK * checking data for ASCII and uncompressed saves ... OK * checking line endings in C/C++/Fortran sources/headers ... OK * checking line endings in Makefiles ... OK * checking compilation flags in Makevars ... OK * checking for GNU extensions in Makefiles ... OK * checking for portable use of $(BLAS_LIBS) and $(LAPACK_LIBS) ... OK * checking use of PKG_*FLAGS in Makefiles ... OK * checking compiled code ... NOTE Note: information on .o files is not available * checking files in ‘vignettes’ ... OK * checking examples ... OK * checking for unstated dependencies in ‘tests’ ... OK * checking tests ... Running ‘BUSseq_example.R’ OK * checking for unstated dependencies in vignettes ... OK * checking package vignettes in ‘inst/doc’ ... OK * checking running R code from vignettes ... ‘BUSseq_user_guide.Rnw’ using ‘UTF-8’... OK NONE * checking re-building of vignette outputs ... OK * checking PDF version of manual ... OK * DONE Status: 1 NOTE See ‘/home/biocbuild/bbs-3.16-bioc/meat/BUSseq.Rcheck/00check.log’ for details.
BUSseq.Rcheck/00install.out
##############################################################################
##############################################################################
###
### Running command:
###
### /home/biocbuild/bbs-3.16-bioc/R/bin/R CMD INSTALL BUSseq
###
##############################################################################
##############################################################################
* installing to library ‘/home/biocbuild/bbs-3.16-bioc/R/site-library’
* installing *source* package ‘BUSseq’ ...
** using staged installation
** libs
/home/biocbuild/bbs-3.16-bioc/R/share/make/shlib.mk:10: warning: overriding recipe for target 'BUSseq.so'
Makevars:9: warning: ignoring old recipe for target 'BUSseq.so'
g++ -std=gnu++14 -I"/home/biocbuild/bbs-3.16-bioc/R/include" -DNDEBUG -I/usr/local/include -fopenmp -fpic -g -O2 -Wall -c BUSseq.cpp -o BUSseq.o
BUSseq.cpp: In function ‘double postprob_DE_thr_fun(double*, double, int, int)’:
BUSseq.cpp:964:69: warning: comparison of integer expressions of different signedness: ‘int’ and ‘unsigned int’ [-Wsign-compare]
964 | while((fdr <= _fdr_threshold) & (kappa <= postprob_DE_thr) & (i < (unsigned)vec_PPI.size())){
| ~~^~~~~~~~~~~~~~~~~~~~~~~~~~
BUSseq.cpp: In function ‘void BUSseq_inference(int*, int*, int*, int*, char**, double*, double*, double*, double*, double*, double*, double*, double*, double*, double*, double*, double*, double*, double*, double*, double*, double*, double*, double*, int*, double*, int*, double*)’:
BUSseq.cpp:2674:7: warning: variable ‘All_Drop’ set but not used [-Wunused-but-set-variable]
2674 | bool All_Drop = true;
| ^~~~~~~~
g++ -std=gnu++14 -I"/home/biocbuild/bbs-3.16-bioc/R/include" -DNDEBUG -I/usr/local/include -fopenmp -fpic -g -O2 -Wall -c rngstream.cpp -o rngstream.o
g++ -std=gnu++14 -shared -L/home/biocbuild/bbs-3.16-bioc/R/lib -L/usr/local/lib -o BUSseq.so BUSseq.o rngstream.o -fopenmp -L/home/biocbuild/bbs-3.16-bioc/R/lib -lRlapack -L/home/biocbuild/bbs-3.16-bioc/R/lib -lRblas -lgfortran -lm -lquadmath -L/home/biocbuild/bbs-3.16-bioc/R/lib -lR
installing to /home/biocbuild/bbs-3.16-bioc/R/site-library/00LOCK-BUSseq/00new/BUSseq/libs
** R
** data
*** moving datasets to lazyload DB
** inst
** byte-compile and prepare package for lazy loading
** help
*** installing help indices
** building package indices
** installing vignettes
** testing if installed package can be loaded from temporary location
** checking absolute paths in shared objects and dynamic libraries
** testing if installed package can be loaded from final location
** testing if installed package keeps a record of temporary installation path
* DONE (BUSseq)
BUSseq.Rcheck/tests/BUSseq_example.Rout
R version 4.2.3 (2023-03-15) -- "Shortstop Beagle"
Copyright (C) 2023 The R Foundation for Statistical Computing
Platform: x86_64-pc-linux-gnu (64-bit)
R is free software and comes with ABSOLUTELY NO WARRANTY.
You are welcome to redistribute it under certain conditions.
Type 'license()' or 'licence()' for distribution details.
R is a collaborative project with many contributors.
Type 'contributors()' for more information and
'citation()' on how to cite R or R packages in publications.
Type 'demo()' for some demos, 'help()' for on-line help, or
'help.start()' for an HTML browser interface to help.
Type 'q()' to quit R.
> #######################################
> # Apply BUSseq to the Simulation Data #
> #######################################
> library(BUSseq)
> library(SingleCellExperiment)
Loading required package: SummarizedExperiment
Loading required package: MatrixGenerics
Loading required package: matrixStats
Attaching package: 'MatrixGenerics'
The following objects are masked from 'package:matrixStats':
colAlls, colAnyNAs, colAnys, colAvgsPerRowSet, colCollapse,
colCounts, colCummaxs, colCummins, colCumprods, colCumsums,
colDiffs, colIQRDiffs, colIQRs, colLogSumExps, colMadDiffs,
colMads, colMaxs, colMeans2, colMedians, colMins, colOrderStats,
colProds, colQuantiles, colRanges, colRanks, colSdDiffs, colSds,
colSums2, colTabulates, colVarDiffs, colVars, colWeightedMads,
colWeightedMeans, colWeightedMedians, colWeightedSds,
colWeightedVars, rowAlls, rowAnyNAs, rowAnys, rowAvgsPerColSet,
rowCollapse, rowCounts, rowCummaxs, rowCummins, rowCumprods,
rowCumsums, rowDiffs, rowIQRDiffs, rowIQRs, rowLogSumExps,
rowMadDiffs, rowMads, rowMaxs, rowMeans2, rowMedians, rowMins,
rowOrderStats, rowProds, rowQuantiles, rowRanges, rowRanks,
rowSdDiffs, rowSds, rowSums2, rowTabulates, rowVarDiffs, rowVars,
rowWeightedMads, rowWeightedMeans, rowWeightedMedians,
rowWeightedSds, rowWeightedVars
Loading required package: GenomicRanges
Loading required package: stats4
Loading required package: BiocGenerics
Attaching package: 'BiocGenerics'
The following objects are masked from 'package:stats':
IQR, mad, sd, var, xtabs
The following objects are masked from 'package:base':
Filter, Find, Map, Position, Reduce, anyDuplicated, aperm, append,
as.data.frame, basename, cbind, colnames, dirname, do.call,
duplicated, eval, evalq, get, grep, grepl, intersect, is.unsorted,
lapply, mapply, match, mget, order, paste, pmax, pmax.int, pmin,
pmin.int, rank, rbind, rownames, sapply, setdiff, sort, table,
tapply, union, unique, unsplit, which.max, which.min
Loading required package: S4Vectors
Attaching package: 'S4Vectors'
The following objects are masked from 'package:base':
I, expand.grid, unname
Loading required package: IRanges
Loading required package: GenomeInfoDb
Loading required package: Biobase
Welcome to Bioconductor
Vignettes contain introductory material; view with
'browseVignettes()'. To cite Bioconductor, see
'citation("Biobase")', and for packages 'citation("pkgname")'.
Attaching package: 'Biobase'
The following object is masked from 'package:MatrixGenerics':
rowMedians
The following objects are masked from 'package:matrixStats':
anyMissing, rowMedians
> RawCountData <- assay(BUSseqfits_example, "counts")
> batch_ind <- unlist(colData(BUSseqfits_example))
> sce <- SingleCellExperiment(assays = list(counts = RawCountData),
+ colData = DataFrame(Batch_ind = batch_ind))
> BUSseqfits_res <- BUSseq_MCMC(ObservedData = sce,
+ seed = 1234, n.cores = 2,
+ n.celltypes = 4, n.iterations = 500)
conducting the posterior sampling...
[> ] Finish 0.00k/0.50k iterations.
[====> ] Finish 0.05k/0.50k iterations.
[========> ] Finish 0.10k/0.50k iterations.
[============> ] Finish 0.15k/0.50k iterations.
[================> ] Finish 0.20k/0.50k iterations.
[====================> ] Finish 0.25k/0.50k iterations.
[========================> ] Finish 0.30k/0.50k iterations.
[============================> ] Finish 0.35k/0.50k iterations.
[================================> ] Finish 0.40k/0.50k iterations.
[====================================> ] Finish 0.45k/0.50k iterations.
[========================================] Finish 0.50k/0.50k iterations.
The MCMC sampling takes: 0.249 mins
conducting the posterior inference...
Posterior inference takes: 0.005 mins
>
> ################################################
> # Extract Estimates from the BUSseqfits Object #
> ################################################
>
> #return cell type indicators
> w.est <- celltypes(BUSseqfits_res)
Batch 1 cells' cell type indicators: 1,1,1... ...
Batch 2 cells' cell type indicators: 1,1,1... ...
The output format is an N-dimensional verctor.
>
> #return the intercept and odds ratio of the logistic regression
> #for dropout events
> gamma.est <- dropout_coefficient_values(BUSseqfits_res)
The output format is a matrix.
Each row represents a batch, the first column corresponds to intercept and the second column is the odd ratio.
>
> #return the log-scale baseline expression values
> alpha.est <- baseline_expression_values(BUSseqfits_res)
The output format is a vector.
>
> #return the cell-type effects
> beta.est <- celltype_effects(BUSseqfits_res)
The output format is a matrix.
Each row represents a gene, and each column corresponds to a cell type.
>
> #return the mean expression levels
> mu.est <- celltype_mean_expression(BUSseqfits_res)
The output format is a matrix.
Each row represents a gene, and each column corresponds to a cell type.
>
> #return the cell-specific global effects
> delta.est <- cell_effect_values(BUSseqfits_res)
The output format is an N-dimensional vector.
>
> #return the location batch effects
> nu.est <- location_batch_effects(BUSseqfits_res)
The output format is a matrix.
Each row represents a gene, and each column corresponds to a batch.
>
> #return the overdispersion parameters
> phi.est <- overdispersions(BUSseqfits_res)
The output format is a matrix.
Each row represents a gene, and each column corresponds to a batch.
>
> #return the intrinsic gene indices
> D.est <- intrinsic_genes_BUSseq(BUSseqfits_res)
>
> #return the BIC value
> BIC <- BIC_BUSseq(BUSseqfits_res)
BIC is 460947.370514477
The output is a scalar.
>
> #return the raw read count matrix
> CountData_raw <- raw_read_counts(BUSseqfits_res)
The output format is a matrix, in which each row represents a gene and each column does a cell.
>
> #return the imputed read count matrix
> CountData_imputed <- imputed_read_counts(BUSseqfits_res)
The output format is a matrix, in which each row represents a gene and each column does a cell.
>
> #return the corrected read count matrix
> BUSseqfits_res <- corrected_read_counts(BUSseqfits_res)
correcting read counts...
The corrected read count matrix is added into the output "SingleCellExperiment" object.
>
> #################
> # Visualization #
> #################
> #generate the heatmap of raw read count data
> heatmap_data_BUSseq(BUSseqfits_res, project_name="Heatmap_raw")
null device
1
>
> #generate the heatmap of imputed read count data
> heatmap_data_BUSseq(BUSseqfits_res, data_type = "Imputed",
+ project_name="Heatmap_imputed")
null device
1
>
> #generate the heatmap of corrected read count data
> heatmap_data_BUSseq(BUSseqfits_res, data_type = "Corrected",
+ project_name="Heatmap_corrected")
null device
1
>
> proc.time()
user system elapsed
37.697 0.585 23.957
BUSseq.Rcheck/BUSseq-Ex.timings
| name | user | system | elapsed | |
| BIC_BUSseq | 0.148 | 0.012 | 0.161 | |
| BUSseq-package | 0 | 0 | 0 | |
| BUSseq_MCMC | 0 | 0 | 0 | |
| BUSseqfits_example | 0 | 0 | 0 | |
| baseline_expression_values | 0.062 | 0.000 | 0.062 | |
| cell_effect_values | 0.059 | 0.000 | 0.059 | |
| celltype_effects | 0.059 | 0.000 | 0.060 | |
| celltype_mean_expression | 0.061 | 0.000 | 0.061 | |
| celltypes | 0.050 | 0.016 | 0.065 | |
| corrected_read_counts | 0.634 | 0.016 | 0.651 | |
| dropout_coefficient_values | 0.062 | 0.000 | 0.062 | |
| heatmap_data_BUSseq | 0.351 | 0.008 | 0.359 | |
| imputed_read_counts | 0.167 | 0.003 | 0.172 | |
| intrinsic_genes_BUSseq | 0.060 | 0.000 | 0.061 | |
| location_batch_effects | 0.059 | 0.000 | 0.060 | |
| overdispersions | 0.06 | 0.00 | 0.06 | |
| raw_read_counts | 0.731 | 0.004 | 0.734 | |