| Back to Multiple platform build/check report for BioC 3.16: simplified long |
|
This page was generated on 2023-04-12 11:04:59 -0400 (Wed, 12 Apr 2023).
| Hostname | OS | Arch (*) | R version | Installed pkgs |
|---|---|---|---|---|
| nebbiolo2 | Linux (Ubuntu 20.04.5 LTS) | x86_64 | 4.2.3 (2023-03-15) -- "Shortstop Beagle" | 4502 |
| palomino4 | Windows Server 2022 Datacenter | x64 | 4.2.3 (2023-03-15 ucrt) -- "Shortstop Beagle" | 4282 |
| lconway | macOS 12.5.1 Monterey | x86_64 | 4.2.3 (2023-03-15) -- "Shortstop Beagle" | 4310 |
| Click on any hostname to see more info about the system (e.g. compilers) (*) as reported by 'uname -p', except on Windows and Mac OS X | ||||
|
To the developers/maintainers of the BUSpaRse package: - Please allow up to 24 hours (and sometimes 48 hours) for your latest push to git@git.bioconductor.org:packages/BUSpaRse.git to reflect on this report. See How and When does the builder pull? When will my changes propagate? for more information. - Make sure to use the following settings in order to reproduce any error or warning you see on this page. |
| Package 240/2183 | Hostname | OS / Arch | INSTALL | BUILD | CHECK | BUILD BIN | ||||||||
| BUSpaRse 1.12.2 (landing page) Lambda Moses
| nebbiolo2 | Linux (Ubuntu 20.04.5 LTS) / x86_64 | OK | OK | OK | |||||||||
| palomino4 | Windows Server 2022 Datacenter / x64 | OK | OK | OK | OK | |||||||||
| lconway | macOS 12.5.1 Monterey / x86_64 | OK | OK | OK | OK | |||||||||
| Package: BUSpaRse |
| Version: 1.12.2 |
| Command: /home/biocbuild/bbs-3.16-bioc/R/bin/R CMD INSTALL BUSpaRse |
| StartedAt: 2023-04-10 15:46:10 -0400 (Mon, 10 Apr 2023) |
| EndedAt: 2023-04-10 15:47:37 -0400 (Mon, 10 Apr 2023) |
| EllapsedTime: 86.9 seconds |
| RetCode: 0 |
| Status: OK |
##############################################################################
##############################################################################
###
### Running command:
###
### /home/biocbuild/bbs-3.16-bioc/R/bin/R CMD INSTALL BUSpaRse
###
##############################################################################
##############################################################################
* installing to library ‘/home/biocbuild/bbs-3.16-bioc/R/site-library’
* installing *source* package ‘BUSpaRse’ ...
** using staged installation
** libs
g++ -std=gnu++11 -I"/home/biocbuild/bbs-3.16-bioc/R/include" -DNDEBUG -I'/home/biocbuild/bbs-3.16-bioc/R/site-library/Rcpp/include' -I'/home/biocbuild/bbs-3.16-bioc/R/site-library/RcppArmadillo/include' -I'/home/biocbuild/bbs-3.16-bioc/R/site-library/RcppProgress/include' -I'/home/biocbuild/bbs-3.16-bioc/R/site-library/BH/include' -I/usr/local/include -fpic -g -O2 -Wall -c RcppExports.cpp -o RcppExports.o
g++ -std=gnu++11 -I"/home/biocbuild/bbs-3.16-bioc/R/include" -DNDEBUG -I'/home/biocbuild/bbs-3.16-bioc/R/site-library/Rcpp/include' -I'/home/biocbuild/bbs-3.16-bioc/R/site-library/RcppArmadillo/include' -I'/home/biocbuild/bbs-3.16-bioc/R/site-library/RcppProgress/include' -I'/home/biocbuild/bbs-3.16-bioc/R/site-library/BH/include' -I/usr/local/include -fpic -g -O2 -Wall -c fill_cell_gene.cpp -o fill_cell_gene.o
In file included from /home/biocbuild/bbs-3.16-bioc/R/site-library/BH/include/boost/mpl/aux_/na_assert.hpp:23,
from /home/biocbuild/bbs-3.16-bioc/R/site-library/BH/include/boost/mpl/arg.hpp:25,
from /home/biocbuild/bbs-3.16-bioc/R/site-library/BH/include/boost/mpl/placeholders.hpp:24,
from /home/biocbuild/bbs-3.16-bioc/R/site-library/BH/include/boost/iterator/iterator_categories.hpp:16,
from /home/biocbuild/bbs-3.16-bioc/R/site-library/BH/include/boost/iterator/iterator_adaptor.hpp:14,
from /home/biocbuild/bbs-3.16-bioc/R/site-library/BH/include/boost/token_iterator.hpp:22,
from /home/biocbuild/bbs-3.16-bioc/R/site-library/BH/include/boost/tokenizer.hpp:20,
from fill_cell_gene.cpp:16:
/home/biocbuild/bbs-3.16-bioc/R/site-library/BH/include/boost/mpl/assert.hpp:194:21: warning: unnecessary parentheses in declaration of ‘assert_arg’ [-Wparentheses]
194 | failed ************ (Pred::************
| ^
/home/biocbuild/bbs-3.16-bioc/R/site-library/BH/include/boost/mpl/assert.hpp:199:21: warning: unnecessary parentheses in declaration of ‘assert_not_arg’ [-Wparentheses]
199 | failed ************ (boost::mpl::not_<Pred>::************
| ^
g++ -std=gnu++11 -shared -L/home/biocbuild/bbs-3.16-bioc/R/lib -L/usr/local/lib -o BUSpaRse.so RcppExports.o fill_cell_gene.o -L/home/biocbuild/bbs-3.16-bioc/R/lib -lRlapack -L/home/biocbuild/bbs-3.16-bioc/R/lib -lRblas -lgfortran -lm -lquadmath -L/home/biocbuild/bbs-3.16-bioc/R/lib -lR
installing to /home/biocbuild/bbs-3.16-bioc/R/site-library/00LOCK-BUSpaRse/00new/BUSpaRse/libs
** R
** data
*** moving datasets to lazyload DB
** inst
** byte-compile and prepare package for lazy loading
** help
*** installing help indices
** building package indices
** installing vignettes
** testing if installed package can be loaded from temporary location
** checking absolute paths in shared objects and dynamic libraries
** testing if installed package can be loaded from final location
** testing if installed package keeps a record of temporary installation path
* DONE (BUSpaRse)