| Back to Multiple platform build/check report for BioC 3.16: simplified long |
|
This page was generated on 2023-04-12 11:04:59 -0400 (Wed, 12 Apr 2023).
| Hostname | OS | Arch (*) | R version | Installed pkgs |
|---|---|---|---|---|
| nebbiolo2 | Linux (Ubuntu 20.04.5 LTS) | x86_64 | 4.2.3 (2023-03-15) -- "Shortstop Beagle" | 4502 |
| palomino4 | Windows Server 2022 Datacenter | x64 | 4.2.3 (2023-03-15 ucrt) -- "Shortstop Beagle" | 4282 |
| lconway | macOS 12.5.1 Monterey | x86_64 | 4.2.3 (2023-03-15) -- "Shortstop Beagle" | 4310 |
| Click on any hostname to see more info about the system (e.g. compilers) (*) as reported by 'uname -p', except on Windows and Mac OS X | ||||
|
To the developers/maintainers of the BUScorrect package: - Please allow up to 24 hours (and sometimes 48 hours) for your latest push to git@git.bioconductor.org:packages/BUScorrect.git to reflect on this report. See How and When does the builder pull? When will my changes propagate? for more information. - Make sure to use the following settings in order to reproduce any error or warning you see on this page. |
| Package 239/2183 | Hostname | OS / Arch | INSTALL | BUILD | CHECK | BUILD BIN | ||||||||
| BUScorrect 1.16.0 (landing page) Xiangyu Luo
| nebbiolo2 | Linux (Ubuntu 20.04.5 LTS) / x86_64 | OK | OK | OK | |||||||||
| palomino4 | Windows Server 2022 Datacenter / x64 | OK | OK | OK | OK | |||||||||
| lconway | macOS 12.5.1 Monterey / x86_64 | OK | OK | OK | OK | |||||||||
| Package: BUScorrect |
| Version: 1.16.0 |
| Command: /home/biocbuild/bbs-3.16-bioc/R/bin/R CMD check --install=check:BUScorrect.install-out.txt --library=/home/biocbuild/bbs-3.16-bioc/R/site-library --timings BUScorrect_1.16.0.tar.gz |
| StartedAt: 2023-04-10 19:27:19 -0400 (Mon, 10 Apr 2023) |
| EndedAt: 2023-04-10 19:31:29 -0400 (Mon, 10 Apr 2023) |
| EllapsedTime: 250.0 seconds |
| RetCode: 0 |
| Status: OK |
| CheckDir: BUScorrect.Rcheck |
| Warnings: 0 |
##############################################################################
##############################################################################
###
### Running command:
###
### /home/biocbuild/bbs-3.16-bioc/R/bin/R CMD check --install=check:BUScorrect.install-out.txt --library=/home/biocbuild/bbs-3.16-bioc/R/site-library --timings BUScorrect_1.16.0.tar.gz
###
##############################################################################
##############################################################################
* using log directory ‘/home/biocbuild/bbs-3.16-bioc/meat/BUScorrect.Rcheck’
* using R version 4.2.3 (2023-03-15)
* using platform: x86_64-pc-linux-gnu (64-bit)
* using session charset: UTF-8
* checking for file ‘BUScorrect/DESCRIPTION’ ... OK
* checking extension type ... Package
* this is package ‘BUScorrect’ version ‘1.16.0’
* checking package namespace information ... OK
* checking package dependencies ... OK
* checking if this is a source package ... OK
* checking if there is a namespace ... OK
* checking for hidden files and directories ... OK
* checking for portable file names ... OK
* checking for sufficient/correct file permissions ... OK
* checking whether package ‘BUScorrect’ can be installed ... OK
* checking installed package size ... OK
* checking package directory ... OK
* checking ‘build’ directory ... OK
* checking DESCRIPTION meta-information ... OK
* checking top-level files ... OK
* checking for left-over files ... OK
* checking index information ... OK
* checking package subdirectories ... OK
* checking R files for non-ASCII characters ... OK
* checking R files for syntax errors ... OK
* checking whether the package can be loaded ... OK
* checking whether the package can be loaded with stated dependencies ... OK
* checking whether the package can be unloaded cleanly ... OK
* checking whether the namespace can be loaded with stated dependencies ... OK
* checking whether the namespace can be unloaded cleanly ... OK
* checking loading without being on the library search path ... OK
* checking dependencies in R code ... OK
* checking S3 generic/method consistency ... OK
* checking replacement functions ... OK
* checking foreign function calls ... OK
* checking R code for possible problems ... OK
* checking Rd files ... OK
* checking Rd metadata ... OK
* checking Rd cross-references ... OK
* checking for missing documentation entries ... OK
* checking for code/documentation mismatches ... OK
* checking Rd \usage sections ... OK
* checking Rd contents ... OK
* checking for unstated dependencies in examples ... OK
* checking contents of ‘data’ directory ... OK
* checking data for non-ASCII characters ... OK
* checking data for ASCII and uncompressed saves ... OK
* checking line endings in C/C++/Fortran sources/headers ... OK
* checking compiled code ... NOTE
Note: information on .o files is not available
* checking files in ‘vignettes’ ... OK
* checking examples ... OK
Examples with CPU (user + system) or elapsed time > 5s
user system elapsed
BUScorrect-package 15.903 0.12 16.023
BUSgibbs 14.230 0.06 14.291
* checking for unstated dependencies in ‘tests’ ... OK
* checking tests ...
Running ‘runTests.R’
OK
* checking for unstated dependencies in vignettes ... OK
* checking package vignettes in ‘inst/doc’ ... OK
* checking running R code from vignettes ...
‘BUScorrect_user_guide.Rnw’... OK
NONE
* checking re-building of vignette outputs ... OK
* checking PDF version of manual ... OK
* DONE
Status: 1 NOTE
See
‘/home/biocbuild/bbs-3.16-bioc/meat/BUScorrect.Rcheck/00check.log’
for details.
BUScorrect.Rcheck/00install.out
############################################################################## ############################################################################## ### ### Running command: ### ### /home/biocbuild/bbs-3.16-bioc/R/bin/R CMD INSTALL BUScorrect ### ############################################################################## ############################################################################## * installing to library ‘/home/biocbuild/bbs-3.16-bioc/R/site-library’ * installing *source* package ‘BUScorrect’ ... ** using staged installation ** libs gcc -I"/home/biocbuild/bbs-3.16-bioc/R/include" -DNDEBUG -I/usr/local/include -fpic -g -O2 -Wall -c BUS_Cfunctions.c -o BUS_Cfunctions.o gcc -shared -L/home/biocbuild/bbs-3.16-bioc/R/lib -L/usr/local/lib -o BUScorrect.so BUS_Cfunctions.o -L/home/biocbuild/bbs-3.16-bioc/R/lib -lR installing to /home/biocbuild/bbs-3.16-bioc/R/site-library/00LOCK-BUScorrect/00new/BUScorrect/libs ** R ** data ** inst ** byte-compile and prepare package for lazy loading ** help *** installing help indices ** building package indices ** installing vignettes ** testing if installed package can be loaded from temporary location ** checking absolute paths in shared objects and dynamic libraries ** testing if installed package can be loaded from final location ** testing if installed package keeps a record of temporary installation path * DONE (BUScorrect)
BUScorrect.Rcheck/tests/runTests.Rout
R version 4.2.3 (2023-03-15) -- "Shortstop Beagle"
Copyright (C) 2023 The R Foundation for Statistical Computing
Platform: x86_64-pc-linux-gnu (64-bit)
R is free software and comes with ABSOLUTELY NO WARRANTY.
You are welcome to redistribute it under certain conditions.
Type 'license()' or 'licence()' for distribution details.
R is a collaborative project with many contributors.
Type 'contributors()' for more information and
'citation()' on how to cite R or R packages in publications.
Type 'demo()' for some demos, 'help()' for on-line help, or
'help.start()' for an HTML browser interface to help.
Type 'q()' to quit R.
> BiocGenerics:::testPackage("BUScorrect")
running the Gibbs sampler ...
The Gibbs sampler takes: 0.001 mins
calculating posterior means and posterior modes...
calculating BIC...
RUNIT TEST PROTOCOL -- Mon Apr 10 19:29:54 2023
***********************************************
Number of test functions: 1
Number of errors: 0
Number of failures: 0
1 Test Suite :
BUScorrect RUnit Tests - 1 test function, 0 errors, 0 failures
Number of test functions: 1
Number of errors: 0
Number of failures: 0
>
> proc.time()
user system elapsed
5.445 0.240 5.671
BUScorrect.Rcheck/BUScorrect-Ex.timings
| name | user | system | elapsed | |
| BIC_BUS | 0.064 | 0.008 | 0.073 | |
| BUScorrect-package | 15.903 | 0.120 | 16.023 | |
| BUSexample_data | 0 | 0 | 0 | |
| BUSgibbs | 14.230 | 0.060 | 14.291 | |
| IG_index | 0.064 | 0.000 | 0.064 | |
| Subtypes | 0.062 | 0.000 | 0.062 | |
| adjusted_values | 0.069 | 0.000 | 0.068 | |
| baseline_expression_values | 0.077 | 0.011 | 0.089 | |
| calculate_EPSR_gamma | 0.002 | 0.000 | 0.002 | |
| calculate_EPSR_mu | 0.003 | 0.000 | 0.002 | |
| calculate_EPSR_sigma_sq | 0.003 | 0.000 | 0.003 | |
| estimate_IG_indicators | 0.062 | 0.000 | 0.063 | |
| location_batch_effects | 0.064 | 0.004 | 0.068 | |
| postprob_DE | 0.066 | 0.000 | 0.066 | |
| postprob_DE_thr_fun | 0.081 | 0.000 | 0.081 | |
| print.BUSfits | 0.063 | 0.000 | 0.063 | |
| scale_batch_effects | 0.060 | 0.004 | 0.064 | |
| subtype_effects | 0.082 | 0.000 | 0.082 | |
| summary.BUSfits | 0.062 | 0.000 | 0.062 | |
| visualize_data | 0.023 | 0.003 | 0.027 | |