| Back to Multiple platform build/check report for BioC 3.16: simplified long |
|
This page was generated on 2023-04-12 11:06:01 -0400 (Wed, 12 Apr 2023).
| Hostname | OS | Arch (*) | R version | Installed pkgs |
|---|---|---|---|---|
| nebbiolo2 | Linux (Ubuntu 20.04.5 LTS) | x86_64 | 4.2.3 (2023-03-15) -- "Shortstop Beagle" | 4502 |
| palomino4 | Windows Server 2022 Datacenter | x64 | 4.2.3 (2023-03-15 ucrt) -- "Shortstop Beagle" | 4282 |
| lconway | macOS 12.5.1 Monterey | x86_64 | 4.2.3 (2023-03-15) -- "Shortstop Beagle" | 4310 |
| Click on any hostname to see more info about the system (e.g. compilers) (*) as reported by 'uname -p', except on Windows and Mac OS X | ||||
|
To the developers/maintainers of the BPRMeth package: - Please allow up to 24 hours (and sometimes 48 hours) for your latest push to git@git.bioconductor.org:packages/BPRMeth.git to reflect on this report. See How and When does the builder pull? When will my changes propagate? for more information. - Make sure to use the following settings in order to reproduce any error or warning you see on this page. |
| Package 218/2183 | Hostname | OS / Arch | INSTALL | BUILD | CHECK | BUILD BIN | ||||||||
| BPRMeth 1.24.2 (landing page) Chantriolnt-Andreas Kapourani
| nebbiolo2 | Linux (Ubuntu 20.04.5 LTS) / x86_64 | OK | OK | OK | |||||||||
| palomino4 | Windows Server 2022 Datacenter / x64 | OK | OK | OK | OK | |||||||||
| lconway | macOS 12.5.1 Monterey / x86_64 | OK | OK | OK | OK | |||||||||
| Package: BPRMeth |
| Version: 1.24.2 |
| Command: /Library/Frameworks/R.framework/Resources/bin/R CMD check --install=check:BPRMeth.install-out.txt --library=/Library/Frameworks/R.framework/Resources/library --no-vignettes --timings BPRMeth_1.24.2.tar.gz |
| StartedAt: 2023-04-10 19:07:49 -0400 (Mon, 10 Apr 2023) |
| EndedAt: 2023-04-10 19:10:14 -0400 (Mon, 10 Apr 2023) |
| EllapsedTime: 144.7 seconds |
| RetCode: 0 |
| Status: OK |
| CheckDir: BPRMeth.Rcheck |
| Warnings: 0 |
############################################################################## ############################################################################## ### ### Running command: ### ### /Library/Frameworks/R.framework/Resources/bin/R CMD check --install=check:BPRMeth.install-out.txt --library=/Library/Frameworks/R.framework/Resources/library --no-vignettes --timings BPRMeth_1.24.2.tar.gz ### ############################################################################## ############################################################################## * using log directory ‘/Users/biocbuild/bbs-3.16-bioc/meat/BPRMeth.Rcheck’ * using R version 4.2.3 (2023-03-15) * using platform: x86_64-apple-darwin17.0 (64-bit) * using session charset: UTF-8 * using option ‘--no-vignettes’ * checking for file ‘BPRMeth/DESCRIPTION’ ... OK * checking extension type ... Package * this is package ‘BPRMeth’ version ‘1.24.2’ * package encoding: UTF-8 * checking package namespace information ... OK * checking package dependencies ... OK * checking if this is a source package ... OK * checking if there is a namespace ... OK * checking for hidden files and directories ... OK * checking for portable file names ... OK * checking for sufficient/correct file permissions ... OK * checking whether package ‘BPRMeth’ can be installed ... OK * checking installed package size ... OK * checking package directory ... OK * checking ‘build’ directory ... OK * checking DESCRIPTION meta-information ... OK * checking top-level files ... OK * checking for left-over files ... OK * checking index information ... OK * checking package subdirectories ... OK * checking R files for non-ASCII characters ... OK * checking R files for syntax errors ... OK * checking whether the package can be loaded ... OK * checking whether the package can be loaded with stated dependencies ... OK * checking whether the package can be unloaded cleanly ... OK * checking whether the namespace can be loaded with stated dependencies ... OK * checking whether the namespace can be unloaded cleanly ... OK * checking dependencies in R code ... NOTE Namespace in Imports field not imported from: ‘BiocStyle’ All declared Imports should be used. * checking S3 generic/method consistency ... OK * checking replacement functions ... OK * checking foreign function calls ... OK * checking R code for possible problems ... OK * checking Rd files ... OK * checking Rd metadata ... OK * checking Rd cross-references ... OK * checking for missing documentation entries ... OK * checking for code/documentation mismatches ... OK * checking Rd \usage sections ... OK * checking Rd contents ... OK * checking for unstated dependencies in examples ... OK * checking contents of ‘data’ directory ... OK * checking data for non-ASCII characters ... OK * checking LazyData ... OK * checking data for ASCII and uncompressed saves ... OK * checking line endings in C/C++/Fortran sources/headers ... OK * checking line endings in Makefiles ... OK * checking compilation flags in Makevars ... OK * checking for GNU extensions in Makefiles ... OK * checking for portable use of $(BLAS_LIBS) and $(LAPACK_LIBS) ... OK * checking use of PKG_*FLAGS in Makefiles ... OK * checking compiled code ... NOTE Note: information on .o files is not available * checking files in ‘vignettes’ ... OK * checking examples ... OK * checking for unstated dependencies in ‘tests’ ... OK * checking tests ... Running ‘testthat.R’ OK * checking for unstated dependencies in vignettes ... OK * checking package vignettes in ‘inst/doc’ ... OK * checking running R code from vignettes ... SKIPPED * checking re-building of vignette outputs ... SKIPPED * checking PDF version of manual ... OK * DONE Status: 2 NOTEs See ‘/Users/biocbuild/bbs-3.16-bioc/meat/BPRMeth.Rcheck/00check.log’ for details.
BPRMeth.Rcheck/00install.out
############################################################################## ############################################################################## ### ### Running command: ### ### /Library/Frameworks/R.framework/Resources/bin/R CMD INSTALL BPRMeth ### ############################################################################## ############################################################################## * installing to library ‘/Library/Frameworks/R.framework/Versions/4.2/Resources/library’ * installing *source* package ‘BPRMeth’ ... ** using staged installation ** libs clang++ -mmacosx-version-min=10.13 -std=gnu++11 -I"/Library/Frameworks/R.framework/Resources/include" -DNDEBUG -I'/Library/Frameworks/R.framework/Versions/4.2/Resources/library/Rcpp/include' -I'/Library/Frameworks/R.framework/Versions/4.2/Resources/library/RcppArmadillo/include' -I/usr/local/include -fPIC -Wall -g -O2 -c RcppExports.cpp -o RcppExports.o clang++ -mmacosx-version-min=10.13 -std=gnu++11 -I"/Library/Frameworks/R.framework/Resources/include" -DNDEBUG -I'/Library/Frameworks/R.framework/Versions/4.2/Resources/library/Rcpp/include' -I'/Library/Frameworks/R.framework/Versions/4.2/Resources/library/RcppArmadillo/include' -I/usr/local/include -fPIC -Wall -g -O2 -c model_likelihood.cpp -o model_likelihood.o clang++ -mmacosx-version-min=10.13 -std=gnu++11 -dynamiclib -Wl,-headerpad_max_install_names -undefined dynamic_lookup -single_module -multiply_defined suppress -L/Library/Frameworks/R.framework/Resources/lib -L/usr/local/lib -o BPRMeth.so RcppExports.o model_likelihood.o -L/Library/Frameworks/R.framework/Resources/lib -lRlapack -L/Library/Frameworks/R.framework/Resources/lib -lRblas -L/usr/local/gfortran/lib/gcc/x86_64-apple-darwin18/8.2.0 -L/usr/local/gfortran/lib -lgfortran -lquadmath -lm -F/Library/Frameworks/R.framework/.. -framework R -Wl,-framework -Wl,CoreFoundation ld: warning: dylib (/usr/local/gfortran/lib/libgfortran.dylib) was built for newer macOS version (10.14) than being linked (10.13) ld: warning: dylib (/usr/local/gfortran/lib/libquadmath.dylib) was built for newer macOS version (10.14) than being linked (10.13) installing to /Library/Frameworks/R.framework/Versions/4.2/Resources/library/00LOCK-BPRMeth/00new/BPRMeth/libs ** R ** data *** moving datasets to lazyload DB ** inst ** byte-compile and prepare package for lazy loading ** help *** installing help indices ** building package indices ** installing vignettes ** testing if installed package can be loaded from temporary location ** checking absolute paths in shared objects and dynamic libraries ** testing if installed package can be loaded from final location ** testing if installed package keeps a record of temporary installation path * DONE (BPRMeth)
BPRMeth.Rcheck/tests/testthat.Rout
R version 4.2.3 (2023-03-15) -- "Shortstop Beagle"
Copyright (C) 2023 The R Foundation for Statistical Computing
Platform: x86_64-apple-darwin17.0 (64-bit)
R is free software and comes with ABSOLUTELY NO WARRANTY.
You are welcome to redistribute it under certain conditions.
Type 'license()' or 'licence()' for distribution details.
R is a collaborative project with many contributors.
Type 'contributors()' for more information and
'citation()' on how to cite R or R packages in publications.
Type 'demo()' for some demos, 'help()' for on-line help, or
'help.start()' for an HTML browser interface to help.
Type 'q()' to quit R.
> library(testthat)
> library(BPRMeth)
Loading required package: GenomicRanges
Loading required package: stats4
Loading required package: BiocGenerics
Attaching package: 'BiocGenerics'
The following objects are masked from 'package:stats':
IQR, mad, sd, var, xtabs
The following objects are masked from 'package:base':
Filter, Find, Map, Position, Reduce, anyDuplicated, aperm, append,
as.data.frame, basename, cbind, colnames, dirname, do.call,
duplicated, eval, evalq, get, grep, grepl, intersect, is.unsorted,
lapply, mapply, match, mget, order, paste, pmax, pmax.int, pmin,
pmin.int, rank, rbind, rownames, sapply, setdiff, sort, table,
tapply, union, unique, unsplit, which.max, which.min
Loading required package: S4Vectors
Attaching package: 'S4Vectors'
The following objects are masked from 'package:base':
I, expand.grid, unname
Loading required package: IRanges
Loading required package: GenomeInfoDb
>
> test_check("BPRMeth")
[ FAIL 0 | WARN 0 | SKIP 0 | PASS 70 ]
>
> proc.time()
user system elapsed
4.161 0.300 4.548
BPRMeth.Rcheck/BPRMeth-Ex.timings
| name | user | system | elapsed | |
| boxplot_cluster_expr | 2.805 | 0.240 | 3.056 | |
| bpr_cluster_wrap | 3.568 | 0.132 | 3.717 | |
| bpr_optimize | 1.090 | 0.025 | 1.123 | |
| bpr_predict_wrap | 0.781 | 0.013 | 0.800 | |
| cluster_profiles_mle | 3.712 | 0.122 | 3.856 | |
| cluster_profiles_vb | 2.628 | 0.158 | 2.798 | |
| create_anno_region | 0.073 | 0.001 | 0.078 | |
| create_basis | 0.001 | 0.000 | 0.002 | |
| create_region_object | 0 | 0 | 0 | |
| design_matrix | 0.002 | 0.001 | 0.003 | |
| eval_functions | 0.002 | 0.000 | 0.002 | |
| impute_bulk_met | 0.507 | 0.004 | 0.513 | |
| infer_profiles_gibbs | 2.079 | 0.022 | 2.113 | |
| infer_profiles_mle | 0.998 | 0.027 | 1.032 | |
| infer_profiles_vb | 1.528 | 0.062 | 1.594 | |
| inner_predict_model_expr | 0.005 | 0.000 | 0.005 | |
| inner_train_model_expr | 0.022 | 0.002 | 0.025 | |
| old_boxplot_cluster_gex | 3.351 | 0.118 | 3.499 | |
| old_plot_cluster_prof | 3.464 | 0.109 | 3.597 | |
| old_plot_fitted_profiles | 0.773 | 0.029 | 0.814 | |
| partition_bulk_dataset | 0.026 | 0.000 | 0.026 | |
| plot_cluster_profiles | 2.866 | 0.206 | 3.090 | |
| plot_infer_profiles | 1.281 | 0.061 | 1.394 | |
| plot_predicted_expr | 1.224 | 0.048 | 1.293 | |
| pool_bs_seq_rep | 0.257 | 0.005 | 0.316 | |
| predict_expr | 1.180 | 0.050 | 1.236 | |
| preprocess_bs_seq | 0.081 | 0.002 | 0.083 | |
| preprocess_final_HTS_data | 0.282 | 0.014 | 0.364 | |
| process_haib_caltech_wrap | 0.290 | 0.006 | 0.317 | |
| read_anno | 0.037 | 0.001 | 0.039 | |
| read_bs_encode_haib | 0.046 | 0.002 | 0.052 | |
| read_chrom_size | 0.003 | 0.001 | 0.020 | |
| read_expr | 0.001 | 0.000 | 0.004 | |
| read_met | 0.022 | 0.001 | 0.044 | |
| read_rna_encode_caltech | 0.116 | 0.005 | 0.122 | |