| Back to Multiple platform build/check report for BioC 3.16: simplified long |
|
This page was generated on 2023-04-12 11:04:58 -0400 (Wed, 12 Apr 2023).
| Hostname | OS | Arch (*) | R version | Installed pkgs |
|---|---|---|---|---|
| nebbiolo2 | Linux (Ubuntu 20.04.5 LTS) | x86_64 | 4.2.3 (2023-03-15) -- "Shortstop Beagle" | 4502 |
| palomino4 | Windows Server 2022 Datacenter | x64 | 4.2.3 (2023-03-15 ucrt) -- "Shortstop Beagle" | 4282 |
| lconway | macOS 12.5.1 Monterey | x86_64 | 4.2.3 (2023-03-15) -- "Shortstop Beagle" | 4310 |
| Click on any hostname to see more info about the system (e.g. compilers) (*) as reported by 'uname -p', except on Windows and Mac OS X | ||||
|
To the developers/maintainers of the BEARscc package: - Please allow up to 24 hours (and sometimes 48 hours) for your latest push to git@git.bioconductor.org:packages/BEARscc.git to reflect on this report. See How and When does the builder pull? When will my changes propagate? for more information. - Make sure to use the following settings in order to reproduce any error or warning you see on this page. |
| Package 137/2183 | Hostname | OS / Arch | INSTALL | BUILD | CHECK | BUILD BIN | ||||||||
| BEARscc 1.18.0 (landing page) Benjamin Schuster-Boeckler
| nebbiolo2 | Linux (Ubuntu 20.04.5 LTS) / x86_64 | OK | OK | OK | |||||||||
| palomino4 | Windows Server 2022 Datacenter / x64 | OK | OK | OK | OK | |||||||||
| lconway | macOS 12.5.1 Monterey / x86_64 | OK | OK | OK | OK | |||||||||
| Package: BEARscc |
| Version: 1.18.0 |
| Command: /home/biocbuild/bbs-3.16-bioc/R/bin/R CMD check --install=check:BEARscc.install-out.txt --library=/home/biocbuild/bbs-3.16-bioc/R/site-library --timings BEARscc_1.18.0.tar.gz |
| StartedAt: 2023-04-10 19:11:18 -0400 (Mon, 10 Apr 2023) |
| EndedAt: 2023-04-10 19:15:20 -0400 (Mon, 10 Apr 2023) |
| EllapsedTime: 241.8 seconds |
| RetCode: 0 |
| Status: OK |
| CheckDir: BEARscc.Rcheck |
| Warnings: 0 |
##############################################################################
##############################################################################
###
### Running command:
###
### /home/biocbuild/bbs-3.16-bioc/R/bin/R CMD check --install=check:BEARscc.install-out.txt --library=/home/biocbuild/bbs-3.16-bioc/R/site-library --timings BEARscc_1.18.0.tar.gz
###
##############################################################################
##############################################################################
* using log directory ‘/home/biocbuild/bbs-3.16-bioc/meat/BEARscc.Rcheck’
* using R version 4.2.3 (2023-03-15)
* using platform: x86_64-pc-linux-gnu (64-bit)
* using session charset: UTF-8
* checking for file ‘BEARscc/DESCRIPTION’ ... OK
* checking extension type ... Package
* this is package ‘BEARscc’ version ‘1.18.0’
* checking package namespace information ... OK
* checking package dependencies ... OK
* checking if this is a source package ... OK
* checking if there is a namespace ... OK
* checking for hidden files and directories ... OK
* checking for portable file names ... OK
* checking for sufficient/correct file permissions ... OK
* checking whether package ‘BEARscc’ can be installed ... OK
* checking installed package size ... OK
* checking package directory ... OK
* checking ‘build’ directory ... OK
* checking DESCRIPTION meta-information ... OK
* checking top-level files ... OK
* checking for left-over files ... OK
* checking index information ... OK
* checking package subdirectories ... OK
* checking R files for non-ASCII characters ... OK
* checking R files for syntax errors ... OK
* checking whether the package can be loaded ... OK
* checking whether the package can be loaded with stated dependencies ... OK
* checking whether the package can be unloaded cleanly ... OK
* checking whether the namespace can be loaded with stated dependencies ... OK
* checking whether the namespace can be unloaded cleanly ... OK
* checking loading without being on the library search path ... OK
* checking dependencies in R code ... OK
* checking S3 generic/method consistency ... OK
* checking replacement functions ... OK
* checking foreign function calls ... OK
* checking R code for possible problems ... OK
* checking Rd files ... OK
* checking Rd metadata ... OK
* checking Rd cross-references ... OK
* checking for missing documentation entries ... OK
* checking for code/documentation mismatches ... OK
* checking Rd \usage sections ... OK
* checking Rd contents ... OK
* checking for unstated dependencies in examples ... OK
* checking contents of ‘data’ directory ... OK
* checking data for non-ASCII characters ... OK
* checking data for ASCII and uncompressed saves ... OK
* checking files in ‘vignettes’ ... OK
* checking examples ... OK
Examples with CPU (user + system) or elapsed time > 5s
user system elapsed
estimate_noiseparameters 8.687 0.328 8.901
simulate_replicates 5.373 0.149 5.521
* checking for unstated dependencies in ‘tests’ ... OK
* checking tests ...
Running ‘testthat.R’
OK
* checking for unstated dependencies in vignettes ... OK
* checking package vignettes in ‘inst/doc’ ... OK
* checking running R code from vignettes ...
‘BEARscc.Rmd’ using ‘UTF-8’... OK
NONE
* checking re-building of vignette outputs ... OK
* checking PDF version of manual ... OK
* DONE
Status: OK
BEARscc.Rcheck/00install.out
############################################################################## ############################################################################## ### ### Running command: ### ### /home/biocbuild/bbs-3.16-bioc/R/bin/R CMD INSTALL BEARscc ### ############################################################################## ############################################################################## * installing to library ‘/home/biocbuild/bbs-3.16-bioc/R/site-library’ * installing *source* package ‘BEARscc’ ... ** using staged installation ** R ** data ** inst ** byte-compile and prepare package for lazy loading ** help *** installing help indices ** building package indices ** installing vignettes ** testing if installed package can be loaded from temporary location ** testing if installed package can be loaded from final location ** testing if installed package keeps a record of temporary installation path * DONE (BEARscc)
BEARscc.Rcheck/tests/testthat.Rout
R version 4.2.3 (2023-03-15) -- "Shortstop Beagle"
Copyright (C) 2023 The R Foundation for Statistical Computing
Platform: x86_64-pc-linux-gnu (64-bit)
R is free software and comes with ABSOLUTELY NO WARRANTY.
You are welcome to redistribute it under certain conditions.
Type 'license()' or 'licence()' for distribution details.
R is a collaborative project with many contributors.
Type 'contributors()' for more information and
'citation()' on how to cite R or R packages in publications.
Type 'demo()' for some demos, 'help()' for on-line help, or
'help.start()' for an HTML browser interface to help.
Type 'q()' to quit R.
> library(testthat)
> library(BEARscc)
>
> test_check("BEARscc")
[1] "Running BEARscc on example data to test for correct installation."
[1] "Fitting parameter alpha to establish spike-in derived noise model."
[1] "Estimating error for spike-ins with alpha = 0"
[1] "Estimating error for spike-ins with alpha = 0.25"
[1] "Estimating error for spike-ins with alpha = 0.5"
[1] "Estimating error for spike-ins with alpha = 0.75"
[1] "Estimating error for spike-ins with alpha = 1"
[1] "There are adequate spike-in drop-outs to build the drop-out model. Estimating the drop-out model now."
[1] "Injecting noise for testing..."
[1] "Creating a simulated replicated counts matrix: 1."
[1] "Creating a simulated replicated counts matrix: 2."
[1] "Creating a simulated replicated counts matrix: 3."
[1] "Creating consensus matrix for testing..."
[1] "Computing cluster and cell metrics for testing..."
[ FAIL 0 | WARN 13 | SKIP 0 | PASS 25 ]
[ FAIL 0 | WARN 13 | SKIP 0 | PASS 25 ]
>
> proc.time()
user system elapsed
18.021 0.631 18.572
BEARscc.Rcheck/BEARscc-Ex.timings
| name | user | system | elapsed | |
| BEARscc_examples | 0.037 | 0.004 | 0.040 | |
| analysis_examples | 0.044 | 0.001 | 0.047 | |
| cluster_consensus | 0.068 | 0.007 | 0.074 | |
| compute_consensus | 0.060 | 0.012 | 0.073 | |
| estimate_noiseparameters | 8.687 | 0.328 | 8.901 | |
| report_cell_metrics | 0.411 | 0.020 | 0.431 | |
| report_cluster_metrics | 0.814 | 0.039 | 0.847 | |
| simulate_replicates | 5.373 | 0.149 | 5.521 | |