| Back to Multiple platform build/check report for BioC 3.16 |
|
This page was generated on 2022-10-14 11:08:43 -0400 (Fri, 14 Oct 2022).
| Hostname | OS | Arch (*) | R version | Installed pkgs |
|---|---|---|---|---|
| nebbiolo2 | Linux (Ubuntu 20.04.5 LTS) | x86_64 | 4.2.1 (2022-06-23) -- "Funny-Looking Kid" | 4457 |
| palomino4 | Windows Server 2022 Datacenter | x64 | 4.2.1 (2022-06-23 ucrt) -- "Funny-Looking Kid" | 4235 |
| lconway | macOS 12.5.1 Monterey | x86_64 | 4.2.1 Patched (2022-07-09 r82577) -- "Funny-Looking Kid" | 4260 |
| Click on any hostname to see more info about the system (e.g. compilers) (*) as reported by 'uname -p', except on Windows and Mac OS X | ||||
|
To the developers/maintainers of the ArrayExpress package: - Please allow up to 24 hours (and sometimes 48 hours) for your latest push to git@git.bioconductor.org:packages/ArrayExpress.git to reflect on this report. See How and When does the builder pull? When will my changes propagate? for more information. - Make sure to use the following settings in order to reproduce any error or warning you see on this page. |
| Package 75/2164 | Hostname | OS / Arch | INSTALL | BUILD | CHECK | BUILD BIN | ||||||||
| ArrayExpress 1.57.0 (landing page) Suhaib Mohammed
| nebbiolo2 | Linux (Ubuntu 20.04.5 LTS) / x86_64 | OK | OK | OK | |||||||||
| palomino4 | Windows Server 2022 Datacenter / x64 | OK | OK | OK | OK | |||||||||
| lconway | macOS 12.5.1 Monterey / x86_64 | OK | OK | OK | OK | |||||||||
| Package: ArrayExpress |
| Version: 1.57.0 |
| Command: /Library/Frameworks/R.framework/Resources/bin/R CMD check --install=check:ArrayExpress.install-out.txt --library=/Library/Frameworks/R.framework/Resources/library --no-vignettes --timings ArrayExpress_1.57.0.tar.gz |
| StartedAt: 2022-10-13 18:39:33 -0400 (Thu, 13 Oct 2022) |
| EndedAt: 2022-10-13 18:43:43 -0400 (Thu, 13 Oct 2022) |
| EllapsedTime: 250.8 seconds |
| RetCode: 0 |
| Status: OK |
| CheckDir: ArrayExpress.Rcheck |
| Warnings: 0 |
##############################################################################
##############################################################################
###
### Running command:
###
### /Library/Frameworks/R.framework/Resources/bin/R CMD check --install=check:ArrayExpress.install-out.txt --library=/Library/Frameworks/R.framework/Resources/library --no-vignettes --timings ArrayExpress_1.57.0.tar.gz
###
##############################################################################
##############################################################################
* using log directory ‘/Users/biocbuild/bbs-3.16-bioc/meat/ArrayExpress.Rcheck’
* using R version 4.2.1 Patched (2022-07-09 r82577)
* using platform: x86_64-apple-darwin17.0 (64-bit)
* using session charset: UTF-8
* using option ‘--no-vignettes’
* checking for file ‘ArrayExpress/DESCRIPTION’ ... OK
* this is package ‘ArrayExpress’ version ‘1.57.0’
* checking package namespace information ... OK
* checking package dependencies ... OK
* checking if this is a source package ... OK
* checking if there is a namespace ... OK
* checking for hidden files and directories ... OK
* checking for portable file names ... OK
* checking for sufficient/correct file permissions ... OK
* checking whether package ‘ArrayExpress’ can be installed ... OK
* checking installed package size ... OK
* checking package directory ... OK
* checking ‘build’ directory ... OK
* checking DESCRIPTION meta-information ... NOTE
Malformed Description field: should contain one or more complete sentences.
* checking top-level files ... OK
* checking for left-over files ... OK
* checking index information ... OK
* checking package subdirectories ... OK
* checking R files for non-ASCII characters ... OK
* checking R files for syntax errors ... OK
* checking whether the package can be loaded ... OK
* checking whether the package can be loaded with stated dependencies ... OK
* checking whether the package can be unloaded cleanly ... OK
* checking whether the namespace can be loaded with stated dependencies ... OK
* checking whether the namespace can be unloaded cleanly ... OK
* checking dependencies in R code ... OK
* checking S3 generic/method consistency ... OK
* checking replacement functions ... OK
* checking foreign function calls ... OK
* checking R code for possible problems ... NOTE
ae2bioc: no visible global function definition for ‘new’
extract.zip : <anonymous>: no visible global function definition for
‘unzip’
getAE : <anonymous>: no visible global function definition for
‘download.file’
getAE: no visible global function definition for ‘download.file’
getDataColsForAE1: no visible global function definition for
‘read.table’
preparePhenoDataFor2channel: no visible global function definition for
‘new’
queryAE: no visible global function definition for ‘download.file’
readDerivedDataFiles: no visible global function definition for
‘read.table’
readDerivedDataFiles: no visible global function definition for ‘new’
readDerivedDataMatrixFile: no visible global function definition for
‘read.table’
readDerivedDataMatrixFile: no visible global function definition for
‘new’
readExperimentData: no visible global function definition for ‘new’
readFeatures: no visible global function definition for ‘read.table’
readFeatures: no visible global function definition for ‘new’
readPhenoData: no visible global function definition for ‘new’
Undefined global functions or variables:
download.file new read.table unzip
Consider adding
importFrom("methods", "new")
importFrom("utils", "download.file", "read.table", "unzip")
to your NAMESPACE file (and ensure that your DESCRIPTION Imports field
contains 'methods').
* checking Rd files ... OK
* checking Rd metadata ... OK
* checking Rd cross-references ... OK
* checking for missing documentation entries ... OK
* checking for code/documentation mismatches ... OK
* checking Rd \usage sections ... OK
* checking Rd contents ... OK
* checking for unstated dependencies in examples ... OK
* checking sizes of PDF files under ‘inst/doc’ ... OK
* checking files in ‘vignettes’ ... OK
* checking examples ... OK
Examples with CPU (user + system) or elapsed time > 5s
user system elapsed
ArrayExpress 4.452 1.357 48.100
queryAE 3.212 0.180 11.927
getAE 2.626 0.404 38.815
* checking for unstated dependencies in vignettes ... OK
* checking package vignettes in ‘inst/doc’ ... OK
* checking running R code from vignettes ... SKIPPED
* checking re-building of vignette outputs ... SKIPPED
* checking PDF version of manual ... OK
* DONE
Status: 2 NOTEs
See
‘/Users/biocbuild/bbs-3.16-bioc/meat/ArrayExpress.Rcheck/00check.log’
for details.
ArrayExpress.Rcheck/00install.out
############################################################################## ############################################################################## ### ### Running command: ### ### /Library/Frameworks/R.framework/Resources/bin/R CMD INSTALL ArrayExpress ### ############################################################################## ############################################################################## * installing to library ‘/Library/Frameworks/R.framework/Versions/4.2/Resources/library’ * installing *source* package ‘ArrayExpress’ ... ** using staged installation ** R ** inst ** byte-compile and prepare package for lazy loading ** help *** installing help indices ** building package indices ** installing vignettes ** testing if installed package can be loaded from temporary location ** testing if installed package can be loaded from final location ** testing if installed package keeps a record of temporary installation path * DONE (ArrayExpress)
ArrayExpress.Rcheck/ArrayExpress-Ex.timings
| name | user | system | elapsed | |
| ArrayExpress | 4.452 | 1.357 | 48.100 | |
| ae2bioc | 0 | 0 | 0 | |
| getAE | 2.626 | 0.404 | 38.815 | |
| procset | 0.000 | 0.000 | 0.001 | |
| queryAE | 3.212 | 0.180 | 11.927 | |