| Back to Multiple platform build/check report for BioC 3.16: simplified long |
|
This page was generated on 2023-04-12 11:05:58 -0400 (Wed, 12 Apr 2023).
| Hostname | OS | Arch (*) | R version | Installed pkgs |
|---|---|---|---|---|
| nebbiolo2 | Linux (Ubuntu 20.04.5 LTS) | x86_64 | 4.2.3 (2023-03-15) -- "Shortstop Beagle" | 4502 |
| palomino4 | Windows Server 2022 Datacenter | x64 | 4.2.3 (2023-03-15 ucrt) -- "Shortstop Beagle" | 4282 |
| lconway | macOS 12.5.1 Monterey | x86_64 | 4.2.3 (2023-03-15) -- "Shortstop Beagle" | 4310 |
| Click on any hostname to see more info about the system (e.g. compilers) (*) as reported by 'uname -p', except on Windows and Mac OS X | ||||
|
To the developers/maintainers of the AlpsNMR package: - Please allow up to 24 hours (and sometimes 48 hours) for your latest push to git@git.bioconductor.org:packages/AlpsNMR.git to reflect on this report. See How and When does the builder pull? When will my changes propagate? for more information. - Make sure to use the following settings in order to reproduce any error or warning you see on this page. |
| Package 43/2183 | Hostname | OS / Arch | INSTALL | BUILD | CHECK | BUILD BIN | ||||||||
| AlpsNMR 4.0.4 (landing page) Sergio Oller Moreno
| nebbiolo2 | Linux (Ubuntu 20.04.5 LTS) / x86_64 | OK | OK | OK | |||||||||
| palomino4 | Windows Server 2022 Datacenter / x64 | OK | OK | OK | OK | |||||||||
| lconway | macOS 12.5.1 Monterey / x86_64 | OK | OK | OK | OK | |||||||||
| Package: AlpsNMR |
| Version: 4.0.4 |
| Command: /Library/Frameworks/R.framework/Resources/bin/R CMD check --install=check:AlpsNMR.install-out.txt --library=/Library/Frameworks/R.framework/Resources/library --no-vignettes --timings AlpsNMR_4.0.4.tar.gz |
| StartedAt: 2023-04-10 18:46:06 -0400 (Mon, 10 Apr 2023) |
| EndedAt: 2023-04-10 18:49:23 -0400 (Mon, 10 Apr 2023) |
| EllapsedTime: 196.8 seconds |
| RetCode: 0 |
| Status: OK |
| CheckDir: AlpsNMR.Rcheck |
| Warnings: 0 |
##############################################################################
##############################################################################
###
### Running command:
###
### /Library/Frameworks/R.framework/Resources/bin/R CMD check --install=check:AlpsNMR.install-out.txt --library=/Library/Frameworks/R.framework/Resources/library --no-vignettes --timings AlpsNMR_4.0.4.tar.gz
###
##############################################################################
##############################################################################
* using log directory ‘/Users/biocbuild/bbs-3.16-bioc/meat/AlpsNMR.Rcheck’
* using R version 4.2.3 (2023-03-15)
* using platform: x86_64-apple-darwin17.0 (64-bit)
* using session charset: UTF-8
* using option ‘--no-vignettes’
* checking for file ‘AlpsNMR/DESCRIPTION’ ... OK
* checking extension type ... Package
* this is package ‘AlpsNMR’ version ‘4.0.4’
* package encoding: UTF-8
* checking package namespace information ... OK
* checking package dependencies ... OK
* checking if this is a source package ... OK
* checking if there is a namespace ... OK
* checking for hidden files and directories ... OK
* checking for portable file names ... OK
* checking for sufficient/correct file permissions ... OK
* checking whether package ‘AlpsNMR’ can be installed ... OK
* checking installed package size ... OK
* checking package directory ... OK
* checking ‘build’ directory ... OK
* checking DESCRIPTION meta-information ... OK
* checking top-level files ... OK
* checking for left-over files ... OK
* checking index information ... OK
* checking package subdirectories ... OK
* checking R files for non-ASCII characters ... OK
* checking R files for syntax errors ... OK
* checking whether the package can be loaded ... OK
* checking whether the package can be loaded with stated dependencies ... OK
* checking whether the package can be unloaded cleanly ... OK
* checking whether the namespace can be loaded with stated dependencies ... OK
* checking whether the namespace can be unloaded cleanly ... OK
* checking dependencies in R code ... OK
* checking S3 generic/method consistency ... OK
* checking replacement functions ... OK
* checking foreign function calls ... OK
* checking R code for possible problems ... OK
* checking Rd files ... OK
* checking Rd metadata ... OK
* checking Rd cross-references ... OK
* checking for missing documentation entries ... OK
* checking for code/documentation mismatches ... OK
* checking Rd \usage sections ... OK
* checking Rd contents ... OK
* checking for unstated dependencies in examples ... OK
* checking contents of ‘data’ directory ... OK
* checking data for non-ASCII characters ... OK
* checking data for ASCII and uncompressed saves ... OK
* checking sizes of PDF files under ‘inst/doc’ ... OK
* checking files in ‘vignettes’ ... OK
* checking examples ... OK
Examples with CPU (user + system) or elapsed time > 5s
user system elapsed
Peak_detection 8.505 2.353 7.504
nmr_interpolate_1D 4.044 2.870 4.081
SummarizedExperiment_to_nmr_data_1r 6.135 0.768 6.421
permutation_test_plot 4.099 2.071 3.263
bp_kfold_VIP_analysis 4.596 1.385 3.811
nmr_pca_outliers_robust 4.466 0.590 4.629
* checking for unstated dependencies in ‘tests’ ... OK
* checking tests ...
Running ‘testthat.R’
OK
* checking for unstated dependencies in vignettes ... OK
* checking package vignettes in ‘inst/doc’ ... OK
* checking running R code from vignettes ... SKIPPED
* checking re-building of vignette outputs ... SKIPPED
* checking PDF version of manual ... OK
* DONE
Status: OK
AlpsNMR.Rcheck/00install.out
############################################################################## ############################################################################## ### ### Running command: ### ### /Library/Frameworks/R.framework/Resources/bin/R CMD INSTALL AlpsNMR ### ############################################################################## ############################################################################## * installing to library ‘/Library/Frameworks/R.framework/Versions/4.2/Resources/library’ * installing *source* package ‘AlpsNMR’ ... ** using staged installation ** R ** data ** inst ** byte-compile and prepare package for lazy loading ** help *** installing help indices *** copying figures ** building package indices ** installing vignettes ** testing if installed package can be loaded from temporary location ** testing if installed package can be loaded from final location ** testing if installed package keeps a record of temporary installation path * DONE (AlpsNMR)
AlpsNMR.Rcheck/tests/testthat.Rout
R version 4.2.3 (2023-03-15) -- "Shortstop Beagle"
Copyright (C) 2023 The R Foundation for Statistical Computing
Platform: x86_64-apple-darwin17.0 (64-bit)
R is free software and comes with ABSOLUTELY NO WARRANTY.
You are welcome to redistribute it under certain conditions.
Type 'license()' or 'licence()' for distribution details.
R is a collaborative project with many contributors.
Type 'contributors()' for more information and
'citation()' on how to cite R or R packages in publications.
Type 'demo()' for some demos, 'help()' for on-line help, or
'help.start()' for an HTML browser interface to help.
Type 'q()' to quit R.
> library(testthat)
> library(AlpsNMR)
Loading required package: future
Attaching package: 'AlpsNMR'
The following object is masked from 'package:stats':
filter
>
> test_check("AlpsNMR")
[ FAIL 0 | WARN 1 | SKIP 1 | PASS 91 ]
══ Skipped tests ═══════════════════════════════════════════════════════════════
• On Bioconductor (1)
[ FAIL 0 | WARN 1 | SKIP 1 | PASS 91 ]
>
> proc.time()
user system elapsed
14.669 6.103 15.563
AlpsNMR.Rcheck/AlpsNMR-Ex.timings
| name | user | system | elapsed | |
| AlpsNMR-package | 1.741 | 0.468 | 1.848 | |
| HMDB_blood | 0.005 | 0.002 | 0.006 | |
| HMDB_cell | 0.002 | 0.001 | 0.002 | |
| HMDB_urine | 0.003 | 0.001 | 0.004 | |
| Parameters_blood | 0.001 | 0.001 | 0.003 | |
| Parameters_cell | 0.002 | 0.001 | 0.003 | |
| Parameters_urine | 0.001 | 0.001 | 0.003 | |
| Peak_detection | 8.505 | 2.353 | 7.504 | |
| Pipelines | 0.001 | 0.001 | 0.002 | |
| ROI_blood | 0.003 | 0.002 | 0.005 | |
| ROI_cell | 0.004 | 0.002 | 0.006 | |
| ROI_urine | 0.002 | 0.001 | 0.003 | |
| SummarizedExperiment_to_nmr_data_1r | 6.135 | 0.768 | 6.421 | |
| SummarizedExperiment_to_nmr_dataset_peak_table | 1.142 | 0.541 | 1.275 | |
| bp_VIP_analysis | 2.602 | 1.032 | 2.206 | |
| bp_kfold_VIP_analysis | 4.596 | 1.385 | 3.811 | |
| download_MTBLS242 | 0.000 | 0.000 | 0.001 | |
| file_lister | 0.071 | 0.015 | 0.087 | |
| files_to_rDolphin | 0.000 | 0.001 | 0.001 | |
| filter.nmr_dataset_family | 0.745 | 0.410 | 1.133 | |
| format.nmr_dataset | 1.039 | 0.772 | 0.963 | |
| format.nmr_dataset_1D | 0.695 | 0.398 | 1.059 | |
| format.nmr_dataset_peak_table | 1.317 | 1.019 | 1.212 | |
| get_integration_with_metadata | 0.027 | 0.001 | 0.029 | |
| hmdb | 0.055 | 0.006 | 0.062 | |
| is.nmr_dataset | 0.825 | 0.558 | 0.958 | |
| is.nmr_dataset_1D | 0.498 | 0.346 | 0.992 | |
| is.nmr_dataset_peak_table | 1.312 | 0.816 | 1.035 | |
| load_and_save_functions | 0.819 | 0.534 | 0.873 | |
| models_stability_plot_bootstrap | 0.002 | 0.000 | 0.002 | |
| models_stability_plot_plsda | 0.589 | 0.527 | 0.658 | |
| new_nmr_dataset | 0.001 | 0.000 | 0.002 | |
| new_nmr_dataset_1D | 0.001 | 0.001 | 0.001 | |
| new_nmr_dataset_peak_table | 1.531 | 0.676 | 1.768 | |
| nmr_baseline_estimation | 0.100 | 0.008 | 0.109 | |
| nmr_baseline_removal | 0.003 | 0.001 | 0.004 | |
| nmr_baseline_threshold | 0.001 | 0.000 | 0.001 | |
| nmr_baseline_threshold_plot | 0.157 | 0.003 | 0.160 | |
| nmr_batman | 0.002 | 0.000 | 0.002 | |
| nmr_batman_options | 0.000 | 0.000 | 0.001 | |
| nmr_build_peak_table | 0.044 | 0.002 | 0.047 | |
| nmr_data | 0.041 | 0.001 | 0.042 | |
| nmr_data_1r_to_SummarizedExperiment | 1.073 | 0.599 | 1.222 | |
| nmr_data_analysis | 0.632 | 0.494 | 0.674 | |
| nmr_dataset | 0.001 | 0.000 | 0.001 | |
| nmr_dataset_1D | 0.001 | 0.000 | 0.002 | |
| nmr_dataset_peak_table_to_SummarizedExperiment | 0.930 | 0.464 | 1.363 | |
| nmr_exclude_region | 0.006 | 0.002 | 0.007 | |
| nmr_export_data_1r | 0.912 | 0.630 | 1.078 | |
| nmr_get_peak_distances | 0.013 | 0.007 | 0.020 | |
| nmr_identify_regions_blood | 0.028 | 0.013 | 0.041 | |
| nmr_identify_regions_cell | 0.007 | 0.002 | 0.009 | |
| nmr_identify_regions_urine | 0.013 | 0.003 | 0.016 | |
| nmr_integrate_regions | 0.016 | 0.003 | 0.019 | |
| nmr_interpolate_1D | 4.044 | 2.870 | 4.081 | |
| nmr_meta_add | 2.049 | 1.169 | 2.325 | |
| nmr_meta_export | 0.836 | 0.564 | 0.952 | |
| nmr_meta_get | 0.780 | 0.508 | 0.861 | |
| nmr_meta_get_column | 0.846 | 0.551 | 0.904 | |
| nmr_meta_groups | 0.844 | 0.604 | 0.997 | |
| nmr_normalize | 0.214 | 0.031 | 0.245 | |
| nmr_pca_build_model | 1.860 | 1.233 | 2.157 | |
| nmr_pca_outliers | 0.998 | 0.561 | 1.110 | |
| nmr_pca_outliers_filter | 1.067 | 0.586 | 1.196 | |
| nmr_pca_outliers_plot | 0 | 0 | 0 | |
| nmr_pca_outliers_robust | 4.466 | 0.590 | 4.629 | |
| nmr_pca_plots | 0.367 | 0.012 | 0.380 | |
| nmr_peak_clustering | 0.068 | 0.003 | 0.071 | |
| nmr_ppm_resolution | 0.005 | 0.001 | 0.007 | |
| nmr_read_bruker_fid | 0.000 | 0.000 | 0.001 | |
| nmr_read_samples | 1.930 | 1.543 | 2.428 | |
| nmr_zip_bruker_samples | 0.221 | 0.045 | 0.283 | |
| peaklist_accept_peaks | 0.004 | 0.003 | 0.007 | |
| permutation_test_model | 1.060 | 1.196 | 3.316 | |
| permutation_test_plot | 4.099 | 2.071 | 3.263 | |
| plot.nmr_dataset_1D | 0.001 | 0.001 | 0.002 | |
| plot_bootstrap_multimodel | 0.002 | 0.004 | 0.006 | |
| plot_interactive | 2.772 | 1.413 | 1.446 | |
| plot_plsda_multimodel | 0.443 | 0.590 | 0.615 | |
| plot_plsda_samples | 0.244 | 0.344 | 0.557 | |
| plot_vip_scores | 0.002 | 0.002 | 0.004 | |
| plot_webgl | 0.001 | 0.001 | 0.002 | |
| plsda_auroc_vip_compare | 0.764 | 0.853 | 1.543 | |
| plsda_auroc_vip_method | 0 | 0 | 0 | |
| ppm_resolution | 0.003 | 0.001 | 0.003 | |
| print.nmr_dataset | 0.816 | 0.601 | 1.008 | |
| print.nmr_dataset_1D | 0.923 | 0.633 | 1.124 | |
| print.nmr_dataset_peak_table | 0.972 | 0.674 | 1.139 | |
| random_subsampling | 0.001 | 0.005 | 0.006 | |
| save_files_to_rDolphin | 0.000 | 0.001 | 0.001 | |
| save_profiling_output | 0.000 | 0.001 | 0.000 | |
| sub-.nmr_dataset | 0.905 | 0.690 | 1.053 | |
| sub-.nmr_dataset_1D | 0.871 | 0.647 | 1.072 | |
| sub-.nmr_dataset_peak_table | 0.997 | 0.663 | 1.110 | |
| tidy.nmr_dataset_1D | 1.034 | 0.699 | 1.257 | |
| to_ChemoSpec | 1.168 | 0.847 | 1.371 | |
| validate_nmr_dataset | 1.768 | 1.341 | 2.112 | |
| validate_nmr_dataset_family | 1.674 | 0.771 | 1.900 | |
| validate_nmr_dataset_peak_table | 0.001 | 0.000 | 0.001 | |
| zzz | 0.00 | 0.00 | 2.08 | |