| Back to Multiple platform build/check report for BioC 3.16: simplified long |
|
This page was generated on 2023-04-12 11:04:57 -0400 (Wed, 12 Apr 2023).
| Hostname | OS | Arch (*) | R version | Installed pkgs |
|---|---|---|---|---|
| nebbiolo2 | Linux (Ubuntu 20.04.5 LTS) | x86_64 | 4.2.3 (2023-03-15) -- "Shortstop Beagle" | 4502 |
| palomino4 | Windows Server 2022 Datacenter | x64 | 4.2.3 (2023-03-15 ucrt) -- "Shortstop Beagle" | 4282 |
| lconway | macOS 12.5.1 Monterey | x86_64 | 4.2.3 (2023-03-15) -- "Shortstop Beagle" | 4310 |
| Click on any hostname to see more info about the system (e.g. compilers) (*) as reported by 'uname -p', except on Windows and Mac OS X | ||||
|
To the developers/maintainers of the AllelicImbalance package: - Please allow up to 24 hours (and sometimes 48 hours) for your latest push to git@git.bioconductor.org:packages/AllelicImbalance.git to reflect on this report. See How and When does the builder pull? When will my changes propagate? for more information. - Make sure to use the following settings in order to reproduce any error or warning you see on this page. |
| Package 40/2183 | Hostname | OS / Arch | INSTALL | BUILD | CHECK | BUILD BIN | ||||||||
| AllelicImbalance 1.36.0 (landing page) Jesper R Gadin
| nebbiolo2 | Linux (Ubuntu 20.04.5 LTS) / x86_64 | OK | OK | OK | |||||||||
| palomino4 | Windows Server 2022 Datacenter / x64 | OK | OK | OK | OK | |||||||||
| lconway | macOS 12.5.1 Monterey / x86_64 | OK | OK | OK | OK | |||||||||
| Package: AllelicImbalance |
| Version: 1.36.0 |
| Command: /home/biocbuild/bbs-3.16-bioc/R/bin/R CMD check --install=check:AllelicImbalance.install-out.txt --library=/home/biocbuild/bbs-3.16-bioc/R/site-library --timings AllelicImbalance_1.36.0.tar.gz |
| StartedAt: 2023-04-10 18:56:21 -0400 (Mon, 10 Apr 2023) |
| EndedAt: 2023-04-10 19:05:10 -0400 (Mon, 10 Apr 2023) |
| EllapsedTime: 528.6 seconds |
| RetCode: 0 |
| Status: OK |
| CheckDir: AllelicImbalance.Rcheck |
| Warnings: 0 |
##############################################################################
##############################################################################
###
### Running command:
###
### /home/biocbuild/bbs-3.16-bioc/R/bin/R CMD check --install=check:AllelicImbalance.install-out.txt --library=/home/biocbuild/bbs-3.16-bioc/R/site-library --timings AllelicImbalance_1.36.0.tar.gz
###
##############################################################################
##############################################################################
* using log directory ‘/home/biocbuild/bbs-3.16-bioc/meat/AllelicImbalance.Rcheck’
* using R version 4.2.3 (2023-03-15)
* using platform: x86_64-pc-linux-gnu (64-bit)
* using session charset: UTF-8
* checking for file ‘AllelicImbalance/DESCRIPTION’ ... OK
* checking extension type ... Package
* this is package ‘AllelicImbalance’ version ‘1.36.0’
* package encoding: UTF-8
* checking package namespace information ... OK
* checking package dependencies ... OK
* checking if this is a source package ... OK
* checking if there is a namespace ... OK
* checking for hidden files and directories ... OK
* checking for portable file names ... OK
* checking for sufficient/correct file permissions ... OK
* checking whether package ‘AllelicImbalance’ can be installed ... OK
* checking installed package size ... OK
* checking package directory ... OK
* checking ‘build’ directory ... OK
* checking DESCRIPTION meta-information ... OK
* checking top-level files ... OK
* checking for left-over files ... OK
* checking index information ... OK
* checking package subdirectories ... OK
* checking R files for non-ASCII characters ... OK
* checking R files for syntax errors ... OK
* checking whether the package can be loaded ... OK
* checking whether the package can be loaded with stated dependencies ... OK
* checking whether the package can be unloaded cleanly ... OK
* checking whether the namespace can be loaded with stated dependencies ... OK
* checking whether the namespace can be unloaded cleanly ... OK
* checking loading without being on the library search path ... OK
* checking dependencies in R code ... OK
* checking S3 generic/method consistency ... OK
* checking replacement functions ... OK
* checking foreign function calls ... OK
* checking R code for possible problems ... OK
* checking Rd files ... OK
* checking Rd metadata ... OK
* checking Rd cross-references ... OK
* checking for missing documentation entries ... OK
* checking for code/documentation mismatches ... OK
* checking Rd \usage sections ... OK
* checking Rd contents ... OK
* checking for unstated dependencies in examples ... OK
* checking contents of ‘data’ directory ... OK
* checking data for non-ASCII characters ... OK
* checking LazyData ... OK
* checking data for ASCII and uncompressed saves ... OK
* checking files in ‘vignettes’ ... OK
* checking examples ... OK
Examples with CPU (user + system) or elapsed time > 5s
user system elapsed
import-bam 23.515 0.155 23.713
getSnpIdFromLocation 17.284 1.408 18.692
lva 8.795 0.028 8.824
* checking for unstated dependencies in ‘tests’ ... OK
* checking tests ...
Running ‘test-all.R’
OK
* checking for unstated dependencies in vignettes ... OK
* checking package vignettes in ‘inst/doc’ ... OK
* checking running R code from vignettes ...
‘AllelicImbalance-vignette.Rmd’ using ‘UTF-8’... OK
NONE
* checking re-building of vignette outputs ... OK
* checking PDF version of manual ... OK
* DONE
Status: OK
AllelicImbalance.Rcheck/00install.out
############################################################################## ############################################################################## ### ### Running command: ### ### /home/biocbuild/bbs-3.16-bioc/R/bin/R CMD INSTALL AllelicImbalance ### ############################################################################## ############################################################################## * installing to library ‘/home/biocbuild/bbs-3.16-bioc/R/site-library’ * installing *source* package ‘AllelicImbalance’ ... ** using staged installation ** R ** data *** moving datasets to lazyload DB ** inst ** byte-compile and prepare package for lazy loading Creating a generic function for 'chisq.test' from package 'stats' in package 'AllelicImbalance' Creating a generic function for 'binom.test' from package 'stats' in package 'AllelicImbalance' ** help *** installing help indices ** building package indices ** installing vignettes ** testing if installed package can be loaded from temporary location ** testing if installed package can be loaded from final location ** testing if installed package keeps a record of temporary installation path * DONE (AllelicImbalance)
AllelicImbalance.Rcheck/tests/test-all.Rout
R version 4.2.3 (2023-03-15) -- "Shortstop Beagle"
Copyright (C) 2023 The R Foundation for Statistical Computing
Platform: x86_64-pc-linux-gnu (64-bit)
R is free software and comes with ABSOLUTELY NO WARRANTY.
You are welcome to redistribute it under certain conditions.
Type 'license()' or 'licence()' for distribution details.
R is a collaborative project with many contributors.
Type 'contributors()' for more information and
'citation()' on how to cite R or R packages in publications.
Type 'demo()' for some demos, 'help()' for on-line help, or
'help.start()' for an HTML browser interface to help.
Type 'q()' to quit R.
> library(testthat)
> test_check("AllelicImbalance")
Loading required package: AllelicImbalance
Loading required package: grid
Loading required package: GenomicRanges
Loading required package: stats4
Loading required package: BiocGenerics
Attaching package: 'BiocGenerics'
The following objects are masked from 'package:stats':
IQR, mad, sd, var, xtabs
The following objects are masked from 'package:base':
Filter, Find, Map, Position, Reduce, anyDuplicated, aperm, append,
as.data.frame, basename, cbind, colnames, dirname, do.call,
duplicated, eval, evalq, get, grep, grepl, intersect, is.unsorted,
lapply, mapply, match, mget, order, paste, pmax, pmax.int, pmin,
pmin.int, rank, rbind, rownames, sapply, setdiff, sort, table,
tapply, union, unique, unsplit, which.max, which.min
Loading required package: S4Vectors
Attaching package: 'S4Vectors'
The following objects are masked from 'package:base':
I, expand.grid, unname
Loading required package: IRanges
Loading required package: GenomeInfoDb
Loading required package: SummarizedExperiment
Loading required package: MatrixGenerics
Loading required package: matrixStats
Attaching package: 'MatrixGenerics'
The following objects are masked from 'package:matrixStats':
colAlls, colAnyNAs, colAnys, colAvgsPerRowSet, colCollapse,
colCounts, colCummaxs, colCummins, colCumprods, colCumsums,
colDiffs, colIQRDiffs, colIQRs, colLogSumExps, colMadDiffs,
colMads, colMaxs, colMeans2, colMedians, colMins, colOrderStats,
colProds, colQuantiles, colRanges, colRanks, colSdDiffs, colSds,
colSums2, colTabulates, colVarDiffs, colVars, colWeightedMads,
colWeightedMeans, colWeightedMedians, colWeightedSds,
colWeightedVars, rowAlls, rowAnyNAs, rowAnys, rowAvgsPerColSet,
rowCollapse, rowCounts, rowCummaxs, rowCummins, rowCumprods,
rowCumsums, rowDiffs, rowIQRDiffs, rowIQRs, rowLogSumExps,
rowMadDiffs, rowMads, rowMaxs, rowMeans2, rowMedians, rowMins,
rowOrderStats, rowProds, rowQuantiles, rowRanges, rowRanks,
rowSdDiffs, rowSds, rowSums2, rowTabulates, rowVarDiffs, rowVars,
rowWeightedMads, rowWeightedMeans, rowWeightedMedians,
rowWeightedSds, rowWeightedVars
Loading required package: Biobase
Welcome to Bioconductor
Vignettes contain introductory material; view with
'browseVignettes()'. To cite Bioconductor, see
'citation("Biobase")', and for packages 'citation("pkgname")'.
Attaching package: 'Biobase'
The following object is masked from 'package:MatrixGenerics':
rowMedians
The following objects are masked from 'package:matrixStats':
anyMissing, rowMedians
Loading required package: GenomicAlignments
Loading required package: Biostrings
Loading required package: XVector
Attaching package: 'Biostrings'
The following object is masked from 'package:grid':
pattern
The following object is masked from 'package:base':
strsplit
Loading required package: Rsamtools
[ FAIL 0 | WARN 0 | SKIP 1 | PASS 96 ]
══ Skipped tests ═══════════════════════════════════════════════════════════════
• empty test (1)
[ FAIL 0 | WARN 0 | SKIP 1 | PASS 96 ]
>
>
>
> proc.time()
user system elapsed
18.549 0.972 19.509
AllelicImbalance.Rcheck/AllelicImbalance-Ex.timings
| name | user | system | elapsed | |
| ASEset-barplot | 0.188 | 0.020 | 0.208 | |
| ASEset-class | 0.368 | 0.088 | 0.456 | |
| ASEset-filters | 0.046 | 0.008 | 0.053 | |
| ASEset-gbarplot | 0.038 | 0.000 | 0.038 | |
| ASEset-glocationplot | 4.235 | 0.016 | 4.251 | |
| ASEset-gviztrack | 0.450 | 0.084 | 0.535 | |
| ASEset-scanForHeterozygotes | 1.684 | 0.008 | 1.692 | |
| ASEset.old | 0 | 0 | 0 | |
| ASEset.sim | 0 | 0 | 0 | |
| ASEsetFromBam | 0.002 | 0.000 | 0.001 | |
| DetectedAI-class | 0.078 | 0.000 | 0.078 | |
| DetectedAI-plot | 1.100 | 0.000 | 1.099 | |
| DetectedAI-summary | 0.109 | 0.008 | 0.117 | |
| GRvariants | 0.001 | 0.000 | 0.001 | |
| GlobalAnalysis-class | 0.001 | 0.000 | 0.001 | |
| LinkVariantAlmlof-class | 0 | 0 | 0 | |
| LinkVariantAlmlof-plot | 1.808 | 0.004 | 1.812 | |
| RegionSummary-class | 0.000 | 0.000 | 0.001 | |
| RiskVariant-class | 0 | 0 | 0 | |
| annotation-wrappers | 3.376 | 0.108 | 3.484 | |
| annotationBarplot | 0 | 0 | 0 | |
| barplot-lattice-support | 0.103 | 0.000 | 0.102 | |
| binom.test | 0.041 | 0.000 | 0.040 | |
| chisq.test | 0.112 | 0.000 | 0.112 | |
| cigar-utilities | 0.011 | 0.000 | 0.010 | |
| countAllelesFromBam | 0.001 | 0.000 | 0.001 | |
| coverageMatrixListFromGAL | 0.646 | 0.004 | 0.650 | |
| decorateWithExons | 0.001 | 0.000 | 0.001 | |
| decorateWithGenes | 0.000 | 0.000 | 0.001 | |
| defaultMapBias | 0.051 | 0.000 | 0.051 | |
| defaultPhase | 0.001 | 0.000 | 0.001 | |
| detectAI | 0.071 | 0.004 | 0.075 | |
| fractionPlotDf | 0.027 | 0.000 | 0.027 | |
| gba | 0 | 0 | 0 | |
| genomatrix | 0 | 0 | 0 | |
| genotype2phase | 0.023 | 0.000 | 0.023 | |
| getAlleleCounts | 3.658 | 0.000 | 3.658 | |
| getAlleleQuality | 3.338 | 0.023 | 3.361 | |
| getAreaFromGeneNames | 0.340 | 0.004 | 0.344 | |
| getDefaultMapBiasExpMean | 0.021 | 0.001 | 0.021 | |
| getSnpIdFromLocation | 17.284 | 1.408 | 18.692 | |
| histplot | 0 | 0 | 0 | |
| implodeList-old | 0.004 | 0.000 | 0.005 | |
| import-bam-2 | 0.004 | 0.004 | 0.008 | |
| import-bam | 23.515 | 0.155 | 23.713 | |
| import-bcf | 1.167 | 0.012 | 1.180 | |
| inferAlleles | 0.011 | 0.000 | 0.011 | |
| inferAltAllele | 0.014 | 0.000 | 0.013 | |
| inferGenotypes | 0.024 | 0.000 | 0.024 | |
| initialize-ASEset | 0.07 | 0.00 | 0.07 | |
| initialize-DetectedAI | 0.074 | 0.000 | 0.073 | |
| initialize-GlobalAnalysis | 0.001 | 0.000 | 0.001 | |
| initialize-RiskVariant | 0.001 | 0.000 | 0.000 | |
| legendBarplot | 0 | 0 | 0 | |
| locationplot | 1.278 | 0.028 | 1.307 | |
| lva | 8.795 | 0.028 | 8.824 | |
| lva.internal | 0.274 | 0.000 | 0.274 | |
| makeMaskedFasta | 1.396 | 0.048 | 1.444 | |
| mapBiasRef | 0.015 | 0.000 | 0.016 | |
| minCountFilt | 0.067 | 0.000 | 0.067 | |
| minFreqFilt | 0.063 | 0.000 | 0.063 | |
| multiAllelicFilt | 0.01 | 0.00 | 0.01 | |
| phase2genotype | 0.021 | 0.000 | 0.021 | |
| phaseArray2phaseMatrix | 0.004 | 0.000 | 0.004 | |
| phaseMatrix2Array | 0.004 | 0.000 | 0.004 | |
| randomRef | 0.019 | 0.000 | 0.019 | |
| reads | 0 | 0 | 0 | |
| refAllele | 0.013 | 0.000 | 0.013 | |
| regionSummary | 0.526 | 0.000 | 0.526 | |
| scanForHeterozygotes-old | 4.552 | 0.000 | 4.552 | |