| Back to Multiple platform build/check report for BioC 3.16: simplified long |
|
This page was generated on 2023-04-12 11:05:59 -0400 (Wed, 12 Apr 2023).
| Hostname | OS | Arch (*) | R version | Installed pkgs |
|---|---|---|---|---|
| nebbiolo2 | Linux (Ubuntu 20.04.5 LTS) | x86_64 | 4.2.3 (2023-03-15) -- "Shortstop Beagle" | 4502 |
| palomino4 | Windows Server 2022 Datacenter | x64 | 4.2.3 (2023-03-15 ucrt) -- "Shortstop Beagle" | 4282 |
| lconway | macOS 12.5.1 Monterey | x86_64 | 4.2.3 (2023-03-15) -- "Shortstop Beagle" | 4310 |
| Click on any hostname to see more info about the system (e.g. compilers) (*) as reported by 'uname -p', except on Windows and Mac OS X | ||||
|
To the developers/maintainers of the ATACCoGAPS package: - Please allow up to 24 hours (and sometimes 48 hours) for your latest push to git@git.bioconductor.org:packages/ATACCoGAPS.git to reflect on this report. See How and When does the builder pull? When will my changes propagate? for more information. - Make sure to use the following settings in order to reproduce any error or warning you see on this page. |
| Package 92/2183 | Hostname | OS / Arch | INSTALL | BUILD | CHECK | BUILD BIN | ||||||||
| ATACCoGAPS 1.0.0 (landing page) Rossin Erbe
| nebbiolo2 | Linux (Ubuntu 20.04.5 LTS) / x86_64 | OK | OK | OK | |||||||||
| palomino4 | Windows Server 2022 Datacenter / x64 | OK | OK | OK | OK | |||||||||
| lconway | macOS 12.5.1 Monterey / x86_64 | OK | OK | OK | OK | |||||||||
| Package: ATACCoGAPS |
| Version: 1.0.0 |
| Command: /Library/Frameworks/R.framework/Resources/bin/R CMD check --install=check:ATACCoGAPS.install-out.txt --library=/Library/Frameworks/R.framework/Resources/library --no-vignettes --timings ATACCoGAPS_1.0.0.tar.gz |
| StartedAt: 2023-04-10 18:50:47 -0400 (Mon, 10 Apr 2023) |
| EndedAt: 2023-04-10 19:03:07 -0400 (Mon, 10 Apr 2023) |
| EllapsedTime: 739.8 seconds |
| RetCode: 0 |
| Status: OK |
| CheckDir: ATACCoGAPS.Rcheck |
| Warnings: 0 |
##############################################################################
##############################################################################
###
### Running command:
###
### /Library/Frameworks/R.framework/Resources/bin/R CMD check --install=check:ATACCoGAPS.install-out.txt --library=/Library/Frameworks/R.framework/Resources/library --no-vignettes --timings ATACCoGAPS_1.0.0.tar.gz
###
##############################################################################
##############################################################################
* using log directory ‘/Users/biocbuild/bbs-3.16-bioc/meat/ATACCoGAPS.Rcheck’
* using R version 4.2.3 (2023-03-15)
* using platform: x86_64-apple-darwin17.0 (64-bit)
* using session charset: UTF-8
* using option ‘--no-vignettes’
* checking for file ‘ATACCoGAPS/DESCRIPTION’ ... OK
* this is package ‘ATACCoGAPS’ version ‘1.0.0’
* package encoding: UTF-8
* checking package namespace information ... OK
* checking package dependencies ... OK
* checking if this is a source package ... OK
* checking if there is a namespace ... OK
* checking for hidden files and directories ... OK
* checking for portable file names ... OK
* checking for sufficient/correct file permissions ... OK
* checking whether package ‘ATACCoGAPS’ can be installed ... OK
* checking installed package size ... OK
* checking package directory ... OK
* checking ‘build’ directory ... OK
* checking DESCRIPTION meta-information ... OK
* checking top-level files ... OK
* checking for left-over files ... OK
* checking index information ... OK
* checking package subdirectories ... OK
* checking R files for non-ASCII characters ... OK
* checking R files for syntax errors ... OK
* checking whether the package can be loaded ... OK
* checking whether the package can be loaded with stated dependencies ... OK
* checking whether the package can be unloaded cleanly ... OK
* checking whether the namespace can be loaded with stated dependencies ... OK
* checking whether the namespace can be unloaded cleanly ... OK
* checking dependencies in R code ... NOTE
Package in Depends field not imported from: ‘CoGAPS’
These packages need to be imported from (in the NAMESPACE file)
for when this namespace is loaded but not attached.
* checking S3 generic/method consistency ... OK
* checking replacement functions ... OK
* checking foreign function calls ... OK
* checking R code for possible problems ... NOTE
cgapsPlot: no visible global function definition for ‘rainbow’
cgapsPlot: no visible global function definition for ‘par’
cgapsPlot: no visible global function definition for ‘legend’
findOverlap: no visible global function definition for ‘queryHits’
geneAccessibility: no visible global function definition for
‘subjectHits’
heatmapGeneAccessibility: no visible global function definition for
‘rainbow’
heatmapPatternMarkers: no visible global function definition for
‘rainbow’
heatmapPatternMatrix: no visible global function definition for
‘rainbow’
paths: no visible global function definition for ‘p.adjust’
Undefined global functions or variables:
legend p.adjust par queryHits rainbow subjectHits
Consider adding
importFrom("grDevices", "rainbow")
importFrom("graphics", "legend", "par")
importFrom("stats", "p.adjust")
to your NAMESPACE file.
* checking Rd files ... OK
* checking Rd metadata ... OK
* checking Rd cross-references ... OK
* checking for missing documentation entries ... OK
* checking for code/documentation mismatches ... OK
* checking Rd \usage sections ... OK
* checking Rd contents ... OK
* checking for unstated dependencies in examples ... OK
* checking contents of ‘data’ directory ... OK
* checking data for non-ASCII characters ... OK
* checking data for ASCII and uncompressed saves ... OK
* checking R/sysdata.rda ... OK
* checking files in ‘vignettes’ ... OK
* checking examples ... OK
Examples with CPU (user + system) or elapsed time > 5s
user system elapsed
applyGREAT 95.388 50.544 258.711
simpleMotifTFMatch 65.526 18.165 84.530
motifPatternMatch 38.259 4.152 43.054
pathwayMatch 28.591 1.598 30.283
genePatternMatch 25.569 1.466 27.112
* checking for unstated dependencies in vignettes ... OK
* checking package vignettes in ‘inst/doc’ ... OK
* checking running R code from vignettes ... SKIPPED
* checking re-building of vignette outputs ... SKIPPED
* checking PDF version of manual ... OK
* DONE
Status: 2 NOTEs
See
‘/Users/biocbuild/bbs-3.16-bioc/meat/ATACCoGAPS.Rcheck/00check.log’
for details.
ATACCoGAPS.Rcheck/00install.out
############################################################################## ############################################################################## ### ### Running command: ### ### /Library/Frameworks/R.framework/Resources/bin/R CMD INSTALL ATACCoGAPS ### ############################################################################## ############################################################################## * installing to library ‘/Library/Frameworks/R.framework/Versions/4.2/Resources/library’ * installing *source* package ‘ATACCoGAPS’ ... ** using staged installation ** R ** data ** byte-compile and prepare package for lazy loading ** help *** installing help indices ** building package indices ** installing vignettes ** testing if installed package can be loaded from temporary location ** testing if installed package can be loaded from final location ** testing if installed package keeps a record of temporary installation path * DONE (ATACCoGAPS)
ATACCoGAPS.Rcheck/ATACCoGAPS-Ex.timings
| name | user | system | elapsed | |
| RNAseqTFValidation | 0 | 0 | 0 | |
| applyGREAT | 95.388 | 50.544 | 258.711 | |
| cgapsPlot | 0.300 | 0.024 | 0.334 | |
| dataSubsetBySparsity | 1.773 | 0.165 | 1.946 | |
| foldAccessibility | 3.743 | 0.260 | 4.030 | |
| geneAccessibility | 4.554 | 0.220 | 4.786 | |
| genePatternMatch | 25.569 | 1.466 | 27.112 | |
| heatmapGeneAccessibility | 3.719 | 0.216 | 3.950 | |
| heatmapPatternMarkers | 2.020 | 0.151 | 2.181 | |
| heatmapPatternMatrix | 0.703 | 0.017 | 0.724 | |
| motifPatternMatch | 38.259 | 4.152 | 43.054 | |
| motifSummarization | 0 | 0 | 0 | |
| pathwayMatch | 28.591 | 1.598 | 30.283 | |
| patternMarkerCellClassifier | 0.127 | 0.002 | 0.128 | |
| peaksToGRanges | 0.231 | 0.003 | 0.234 | |
| simpleMotifTFMatch | 65.526 | 18.165 | 84.530 | |