| Back to Multiple platform build/check report for BioC 3.16: simplified long |
|
This page was generated on 2023-04-12 11:04:58 -0400 (Wed, 12 Apr 2023).
| Hostname | OS | Arch (*) | R version | Installed pkgs |
|---|---|---|---|---|
| nebbiolo2 | Linux (Ubuntu 20.04.5 LTS) | x86_64 | 4.2.3 (2023-03-15) -- "Shortstop Beagle" | 4502 |
| palomino4 | Windows Server 2022 Datacenter | x64 | 4.2.3 (2023-03-15 ucrt) -- "Shortstop Beagle" | 4282 |
| lconway | macOS 12.5.1 Monterey | x86_64 | 4.2.3 (2023-03-15) -- "Shortstop Beagle" | 4310 |
| Click on any hostname to see more info about the system (e.g. compilers) (*) as reported by 'uname -p', except on Windows and Mac OS X | ||||
|
To the developers/maintainers of the ASpli package: - Please allow up to 24 hours (and sometimes 48 hours) for your latest push to git@git.bioconductor.org:packages/ASpli.git to reflect on this report. See How and When does the builder pull? When will my changes propagate? for more information. - Make sure to use the following settings in order to reproduce any error or warning you see on this page. |
| Package 87/2183 | Hostname | OS / Arch | INSTALL | BUILD | CHECK | BUILD BIN | ||||||||
| ASpli 2.8.0 (landing page) Estefania Mancini
| nebbiolo2 | Linux (Ubuntu 20.04.5 LTS) / x86_64 | OK | OK | OK | |||||||||
| palomino4 | Windows Server 2022 Datacenter / x64 | OK | OK | OK | OK | |||||||||
| lconway | macOS 12.5.1 Monterey / x86_64 | OK | OK | OK | OK | |||||||||
| Package: ASpli |
| Version: 2.8.0 |
| Command: /home/biocbuild/bbs-3.16-bioc/R/bin/R CMD check --install=check:ASpli.install-out.txt --library=/home/biocbuild/bbs-3.16-bioc/R/site-library --timings ASpli_2.8.0.tar.gz |
| StartedAt: 2023-04-10 19:01:55 -0400 (Mon, 10 Apr 2023) |
| EndedAt: 2023-04-10 19:22:07 -0400 (Mon, 10 Apr 2023) |
| EllapsedTime: 1211.9 seconds |
| RetCode: 0 |
| Status: OK |
| CheckDir: ASpli.Rcheck |
| Warnings: 0 |
##############################################################################
##############################################################################
###
### Running command:
###
### /home/biocbuild/bbs-3.16-bioc/R/bin/R CMD check --install=check:ASpli.install-out.txt --library=/home/biocbuild/bbs-3.16-bioc/R/site-library --timings ASpli_2.8.0.tar.gz
###
##############################################################################
##############################################################################
* using log directory ‘/home/biocbuild/bbs-3.16-bioc/meat/ASpli.Rcheck’
* using R version 4.2.3 (2023-03-15)
* using platform: x86_64-pc-linux-gnu (64-bit)
* using session charset: UTF-8
* checking for file ‘ASpli/DESCRIPTION’ ... OK
* checking extension type ... Package
* this is package ‘ASpli’ version ‘2.8.0’
* checking package namespace information ... OK
* checking package dependencies ... OK
* checking if this is a source package ... OK
* checking if there is a namespace ... OK
* checking for hidden files and directories ... OK
* checking for portable file names ... OK
* checking for sufficient/correct file permissions ... OK
* checking whether package ‘ASpli’ can be installed ... OK
* checking installed package size ... OK
* checking package directory ... OK
* checking ‘build’ directory ... OK
* checking DESCRIPTION meta-information ... OK
* checking top-level files ... OK
* checking for left-over files ... OK
* checking index information ... OK
* checking package subdirectories ... OK
* checking R files for non-ASCII characters ... OK
* checking R files for syntax errors ... OK
* checking whether the package can be loaded ... OK
* checking whether the package can be loaded with stated dependencies ... OK
* checking whether the package can be unloaded cleanly ... OK
* checking whether the namespace can be loaded with stated dependencies ... OK
* checking whether the namespace can be unloaded cleanly ... OK
* checking loading without being on the library search path ... OK
* checking dependencies in R code ... OK
* checking S3 generic/method consistency ... OK
* checking replacement functions ... OK
* checking foreign function calls ... OK
* checking R code for possible problems ... OK
* checking Rd files ... OK
* checking Rd metadata ... OK
* checking Rd cross-references ... OK
* checking for missing documentation entries ... OK
* checking for code/documentation mismatches ... OK
* checking Rd \usage sections ... OK
* checking Rd contents ... OK
* checking for unstated dependencies in examples ... OK
* checking installed files from ‘inst/doc’ ... OK
* checking files in ‘vignettes’ ... OK
* checking examples ... OK
Examples with CPU (user + system) or elapsed time > 5s
user system elapsed
ASpli-package 139.228 1.403 140.432
integrateSignals 73.543 0.284 73.722
exportIntegratedSignals 73.265 0.341 73.509
exportSplicingReports 71.113 0.244 71.260
jDUreport 68.176 0.232 68.315
gbCounts 67.872 0.340 68.094
jCounts-methods 67.098 0.300 67.300
splicingReport 67.086 0.268 67.258
gbDUreport-method 66.634 0.248 66.781
* checking for unstated dependencies in vignettes ... OK
* checking package vignettes in ‘inst/doc’ ... OK
* checking running R code from vignettes ...
‘ASpli.Rnw’... OK
OK
* checking re-building of vignette outputs ... OK
* checking PDF version of manual ... OK
* DONE
Status: OK
ASpli.Rcheck/00install.out
############################################################################## ############################################################################## ### ### Running command: ### ### /home/biocbuild/bbs-3.16-bioc/R/bin/R CMD INSTALL ASpli ### ############################################################################## ############################################################################## * installing to library ‘/home/biocbuild/bbs-3.16-bioc/R/site-library’ * installing *source* package ‘ASpli’ ... ** using staged installation ** R ** inst ** byte-compile and prepare package for lazy loading ** help *** installing help indices ** building package indices ** installing vignettes ** testing if installed package can be loaded from temporary location ** testing if installed package can be loaded from final location ** testing if installed package keeps a record of temporary installation path * DONE (ASpli)
ASpli.Rcheck/ASpli-Ex.timings
| name | user | system | elapsed | |
| ASpli-package | 139.228 | 1.403 | 140.432 | |
| DUreport | 0 | 0 | 0 | |
| DUreport.norm | 0 | 0 | 0 | |
| DUreport.offset | 0 | 0 | 0 | |
| DUreportBinSplice-method | 0 | 0 | 0 | |
| acc_AS | 0 | 0 | 0 | |
| acc_DU | 0 | 0 | 0 | |
| acc_counts | 0 | 0 | 0 | |
| acc_features | 0.166 | 0.000 | 0.166 | |
| binGenome | 3.580 | 0.004 | 3.584 | |
| containsJunctions-function | 0 | 0 | 0 | |
| example_data | 0 | 0 | 0 | |
| exportIntegratedSignals | 73.265 | 0.341 | 73.509 | |
| exportSplicingReports | 71.113 | 0.244 | 71.260 | |
| filterDU-method | 0.000 | 0.000 | 0.001 | |
| filterSignals | 0 | 0 | 0 | |
| gbCounts | 67.872 | 0.340 | 68.094 | |
| gbDUreport-method | 66.634 | 0.248 | 66.781 | |
| getConditions-function | 0 | 0 | 0 | |
| integrateSignals | 73.543 | 0.284 | 73.722 | |
| jCounts-methods | 67.098 | 0.300 | 67.300 | |
| jDUreport | 68.176 | 0.232 | 68.315 | |
| junctionDUreport | 0 | 0 | 0 | |
| loadBAM | 0 | 0 | 0 | |
| mergeBinDUAS-method | 0 | 0 | 0 | |
| plotBins | 0.000 | 0.000 | 0.001 | |
| plotGenomicRegions | 0 | 0 | 0 | |
| rds | 0 | 0 | 0 | |
| splicingReport | 67.086 | 0.268 | 67.258 | |
| subset-methods | 0.000 | 0.000 | 0.001 | |