| Back to Multiple platform build/check report for BioC 3.16: simplified long |
|
This page was generated on 2023-04-12 11:05:24 -0400 (Wed, 12 Apr 2023).
| Hostname | OS | Arch (*) | R version | Installed pkgs |
|---|---|---|---|---|
| nebbiolo2 | Linux (Ubuntu 20.04.5 LTS) | x86_64 | 4.2.3 (2023-03-15) -- "Shortstop Beagle" | 4502 |
| palomino4 | Windows Server 2022 Datacenter | x64 | 4.2.3 (2023-03-15 ucrt) -- "Shortstop Beagle" | 4282 |
| lconway | macOS 12.5.1 Monterey | x86_64 | 4.2.3 (2023-03-15) -- "Shortstop Beagle" | 4310 |
| Click on any hostname to see more info about the system (e.g. compilers) (*) as reported by 'uname -p', except on Windows and Mac OS X | ||||
|
To the developers/maintainers of the ACME package: - Please allow up to 24 hours (and sometimes 48 hours) for your latest push to git@git.bioconductor.org:packages/ACME.git to reflect on this report. See How and When does the builder pull? When will my changes propagate? for more information. - Make sure to use the following settings in order to reproduce any error or warning you see on this page. |
| Package 13/2183 | Hostname | OS / Arch | INSTALL | BUILD | CHECK | BUILD BIN | ||||||||
| ACME 2.54.0 (landing page) Sean Davis
| nebbiolo2 | Linux (Ubuntu 20.04.5 LTS) / x86_64 | OK | OK | WARNINGS | |||||||||
| palomino4 | Windows Server 2022 Datacenter / x64 | OK | OK | WARNINGS | OK | |||||||||
| lconway | macOS 12.5.1 Monterey / x86_64 | OK | OK | OK | OK | |||||||||
| Package: ACME |
| Version: 2.54.0 |
| Command: F:\biocbuild\bbs-3.16-bioc\R\bin\R.exe CMD INSTALL ACME |
| StartedAt: 2023-04-10 15:35:54 -0400 (Mon, 10 Apr 2023) |
| EndedAt: 2023-04-10 15:36:08 -0400 (Mon, 10 Apr 2023) |
| EllapsedTime: 13.6 seconds |
| RetCode: 0 |
| Status: OK |
##############################################################################
##############################################################################
###
### Running command:
###
### F:\biocbuild\bbs-3.16-bioc\R\bin\R.exe CMD INSTALL ACME
###
##############################################################################
##############################################################################
* installing to library 'F:/biocbuild/bbs-3.16-bioc/R/library'
* installing *source* package 'ACME' ...
** using staged installation
** libs
gcc -I"F:/biocbuild/bbs-3.16-bioc/R/include" -DNDEBUG -I"C:/rtools42/x86_64-w64-mingw32.static.posix/include" -O2 -Wall -std=gnu99 -mfpmath=sse -msse2 -mstackrealign -c windowChisq.c -o windowChisq.o
windowChisq.c: In function 'windowChisq':
windowChisq.c:58:14: warning: suggest parentheses around comparison in operand of '&' [-Wparentheses]
58 | firstprobe>0) {
| ~~~~~~~~~~^~
windowChisq.c:63:13: warning: suggest parentheses around comparison in operand of '&' [-Wparentheses]
63 | lastprobe<(na-1)) {
| ~~~~~~~~~^~~~~~~
windowChisq.c:21:11: warning: unused variable 'xa' [-Wunused-variable]
21 | double *xa,*xlocations,*xchivals;
| ^~
windowChisq.c: At top level:
windowChisq.c:86:20: warning: initialization of 'void * (*)(void)' from incompatible pointer type 'struct SEXPREC * (*)(struct SEXPREC *, struct SEXPREC *, struct SEXPREC *, struct SEXPREC *, struct SEXPREC *)' [-Wincompatible-pointer-types]
86 | {"windowChisq",&windowChisq,5},
| ^
windowChisq.c:86:20: note: (near initialization for 'callMethods[0].fun')
gcc -shared -s -static-libgcc -o ACME.dll tmp.def windowChisq.o -LC:/rtools42/x86_64-w64-mingw32.static.posix/lib/x64 -LC:/rtools42/x86_64-w64-mingw32.static.posix/lib -LF:/biocbuild/bbs-3.16-bioc/R/bin/x64 -lR
installing to F:/biocbuild/bbs-3.16-bioc/R/library/00LOCK-ACME/00new/ACME/libs/x64
** R
** data
** inst
** byte-compile and prepare package for lazy loading
** help
*** installing help indices
** building package indices
** installing vignettes
** testing if installed package can be loaded from temporary location
** testing if installed package can be loaded from final location
** testing if installed package keeps a record of temporary installation path
* DONE (ACME)