| Back to Workflows build report for BioC 3.14 |
This page was generated on 2022-04-11 21:00:10 -0400 (Mon, 11 Apr 2022).
| Hostname | OS | Arch (*) | R version | Installed pkgs |
|---|---|---|---|---|
| nebbiolo2 | Linux (Ubuntu 20.04.4 LTS) | x86_64 | 4.1.3 (2022-03-10) -- "One Push-Up" | 4323 |
| riesling1 | Windows Server 2019 Standard | x64 | 4.1.2 (2021-11-01) -- "Bird Hippie" | 4108 |
| machv2 | macOS 10.14.6 Mojave | x86_64 | 4.1.3 (2022-03-10) -- "One Push-Up" | 4136 |
| Click on any hostname to see more info about the system (e.g. compilers) (*) as reported by 'uname -p', except on Windows and Mac OS X | ||||
|
To the developers/maintainers of the GeoMxWorkflows package: Make sure to use the following settings in order to reproduce any error or warning you see on this page. |
| Package 14/29 | Hostname | OS / Arch | INSTALL | BUILD | ||||||||
| GeoMxWorkflows 1.0.1 (landing page) Jason Reeves
| nebbiolo2 | Linux (Ubuntu 20.04.4 LTS) / x86_64 | OK | OK | ||||||||
| riesling1 | Windows Server 2019 Standard / x64 | OK | OK | |||||||||
| machv2 | macOS 10.14.6 Mojave / x86_64 | OK | OK | |||||||||
| Package: GeoMxWorkflows |
| Version: 1.0.1 |
| Command: C:\cygwin\bin\curl.exe -O http://155.52.207.166/BBS/3.14/workflows/src/contrib/GeoMxWorkflows_1.0.1.tar.gz && rm -rf GeoMxWorkflows.buildbin-libdir && mkdir GeoMxWorkflows.buildbin-libdir && D:\biocbuild\bbs-3.14-bioc\R\bin\R.exe CMD INSTALL --merge-multiarch --build --library=GeoMxWorkflows.buildbin-libdir GeoMxWorkflows_1.0.1.tar.gz && D:\biocbuild\bbs-3.14-bioc\R\bin\R.exe CMD INSTALL GeoMxWorkflows_1.0.1.zip && rm GeoMxWorkflows_1.0.1.tar.gz GeoMxWorkflows_1.0.1.zip |
| StartedAt: 2022-04-11 15:00:43 -0400 (Mon, 11 Apr 2022) |
| EndedAt: 2022-04-11 15:01:40 -0400 (Mon, 11 Apr 2022) |
| EllapsedTime: 57.6 seconds |
| RetCode: 0 |
| Status: OK |
##############################################################################
##############################################################################
###
### Running command:
###
### C:\cygwin\bin\curl.exe -O http://155.52.207.166/BBS/3.14/workflows/src/contrib/GeoMxWorkflows_1.0.1.tar.gz && rm -rf GeoMxWorkflows.buildbin-libdir && mkdir GeoMxWorkflows.buildbin-libdir && D:\biocbuild\bbs-3.14-bioc\R\bin\R.exe CMD INSTALL --merge-multiarch --build --library=GeoMxWorkflows.buildbin-libdir GeoMxWorkflows_1.0.1.tar.gz && D:\biocbuild\bbs-3.14-bioc\R\bin\R.exe CMD INSTALL GeoMxWorkflows_1.0.1.zip && rm GeoMxWorkflows_1.0.1.tar.gz GeoMxWorkflows_1.0.1.zip
###
##############################################################################
##############################################################################
% Total % Received % Xferd Average Speed Time Time Time Current
Dload Upload Total Spent Left Speed
0 0 0 0 0 0 0 0 --:--:-- --:--:-- --:--:-- 0
100 15.0M 100 15.0M 0 0 18.1M 0 --:--:-- --:--:-- --:--:-- 18.1M
install for i386
* installing *source* package 'GeoMxWorkflows' ...
** using staged installation
** inst
** help
No man pages found in package 'GeoMxWorkflows'
*** installing help indices
** building package indices
** installing vignettes
** testing if installed package can be loaded from temporary location
** testing if installed package can be loaded from final location
** testing if installed package keeps a record of temporary installation path
install for x64
* installing *source* package 'GeoMxWorkflows' ...
** testing if installed package can be loaded
* MD5 sums
packaged installation of 'GeoMxWorkflows' as GeoMxWorkflows_1.0.1.zip
* DONE (GeoMxWorkflows)
* installing to library 'D:/biocbuild/bbs-3.14-bioc/R/library'
package 'GeoMxWorkflows' successfully unpacked and MD5 sums checked