| Back to Workflows build report for BioC 3.14 |
This page was generated on 2022-04-11 21:00:10 -0400 (Mon, 11 Apr 2022).
| Hostname | OS | Arch (*) | R version | Installed pkgs |
|---|---|---|---|---|
| nebbiolo2 | Linux (Ubuntu 20.04.4 LTS) | x86_64 | 4.1.3 (2022-03-10) -- "One Push-Up" | 4323 |
| riesling1 | Windows Server 2019 Standard | x64 | 4.1.2 (2021-11-01) -- "Bird Hippie" | 4108 |
| machv2 | macOS 10.14.6 Mojave | x86_64 | 4.1.3 (2022-03-10) -- "One Push-Up" | 4136 |
| Click on any hostname to see more info about the system (e.g. compilers) (*) as reported by 'uname -p', except on Windows and Mac OS X | ||||
|
To the developers/maintainers of the BP4RNAseq package: Make sure to use the following settings in order to reproduce any error or warning you see on this page. |
| Package 4/29 | Hostname | OS / Arch | INSTALL | BUILD | ||||||||
| BP4RNAseq 1.4.0 (landing page) Shanwen Sun
| nebbiolo2 | Linux (Ubuntu 20.04.4 LTS) / x86_64 | OK | OK | ||||||||
| riesling1 | Windows Server 2019 Standard / x64 | OK | OK | |||||||||
| machv2 | macOS 10.14.6 Mojave / x86_64 | OK | OK | |||||||||
| Package: BP4RNAseq |
| Version: 1.4.0 |
| Command: C:\cygwin\bin\curl.exe -O http://155.52.207.166/BBS/3.14/workflows/src/contrib/BP4RNAseq_1.4.0.tar.gz && rm -rf BP4RNAseq.buildbin-libdir && mkdir BP4RNAseq.buildbin-libdir && D:\biocbuild\bbs-3.14-bioc\R\bin\R.exe CMD INSTALL --merge-multiarch --build --library=BP4RNAseq.buildbin-libdir BP4RNAseq_1.4.0.tar.gz && D:\biocbuild\bbs-3.14-bioc\R\bin\R.exe CMD INSTALL BP4RNAseq_1.4.0.zip && rm BP4RNAseq_1.4.0.tar.gz BP4RNAseq_1.4.0.zip |
| StartedAt: 2022-04-11 15:00:42 -0400 (Mon, 11 Apr 2022) |
| EndedAt: 2022-04-11 15:00:54 -0400 (Mon, 11 Apr 2022) |
| EllapsedTime: 11.3 seconds |
| RetCode: 0 |
| Status: OK |
##############################################################################
##############################################################################
###
### Running command:
###
### C:\cygwin\bin\curl.exe -O http://155.52.207.166/BBS/3.14/workflows/src/contrib/BP4RNAseq_1.4.0.tar.gz && rm -rf BP4RNAseq.buildbin-libdir && mkdir BP4RNAseq.buildbin-libdir && D:\biocbuild\bbs-3.14-bioc\R\bin\R.exe CMD INSTALL --merge-multiarch --build --library=BP4RNAseq.buildbin-libdir BP4RNAseq_1.4.0.tar.gz && D:\biocbuild\bbs-3.14-bioc\R\bin\R.exe CMD INSTALL BP4RNAseq_1.4.0.zip && rm BP4RNAseq_1.4.0.tar.gz BP4RNAseq_1.4.0.zip
###
##############################################################################
##############################################################################
% Total % Received % Xferd Average Speed Time Time Time Current
Dload Upload Total Spent Left Speed
0 0 0 0 0 0 0 0 --:--:-- --:--:-- --:--:-- 0
0 3200k 0 1137 0 0 8548 0 0:06:23 --:--:-- 0:06:23 8485
100 3200k 100 3200k 0 0 6957k 0 --:--:-- --:--:-- --:--:-- 6942k
install for i386
* installing *source* package 'BP4RNAseq' ...
** using staged installation
** R
** inst
** byte-compile and prepare package for lazy loading
** help
*** installing help indices
converting help for package 'BP4RNAseq'
finding HTML links ... done
adapter_trim html
align_based_quan html
align_free_quan html
average html
check_dep html
down2quan html
down_Ref html
fastq2quan html
qc_test html
quality_trim html
scRNA_quan html
sra2fastq html
sra_download html
** building package indices
** installing vignettes
** testing if installed package can be loaded from temporary location
** testing if installed package can be loaded from final location
** testing if installed package keeps a record of temporary installation path
install for x64
* installing *source* package 'BP4RNAseq' ...
** testing if installed package can be loaded
* MD5 sums
packaged installation of 'BP4RNAseq' as BP4RNAseq_1.4.0.zip
* DONE (BP4RNAseq)
* installing to library 'D:/biocbuild/bbs-3.14-bioc/R/library'
package 'BP4RNAseq' successfully unpacked and MD5 sums checked