| Back to Multiple platform build/check report for BioC 3.14 |
|
This page was generated on 2022-04-13 12:05:57 -0400 (Wed, 13 Apr 2022).
| Hostname | OS | Arch (*) | R version | Installed pkgs |
|---|---|---|---|---|
| nebbiolo2 | Linux (Ubuntu 20.04.4 LTS) | x86_64 | 4.1.3 (2022-03-10) -- "One Push-Up" | 4324 |
| tokay2 | Windows Server 2012 R2 Standard | x64 | 4.1.3 (2022-03-10) -- "One Push-Up" | 4077 |
| machv2 | macOS 10.14.6 Mojave | x86_64 | 4.1.3 (2022-03-10) -- "One Push-Up" | 4137 |
| Click on any hostname to see more info about the system (e.g. compilers) (*) as reported by 'uname -p', except on Windows and Mac OS X | ||||
|
To the developers/maintainers of the signatureSearch package: - Please allow up to 24 hours (and sometimes 48 hours) for your latest push to git@git.bioconductor.org:packages/signatureSearch.git to reflect on this report. See How and When does the builder pull? When will my changes propagate? for more information. - Make sure to use the following settings in order to reproduce any error or warning you see on this page. |
| Package 1791/2083 | Hostname | OS / Arch | INSTALL | BUILD | CHECK | BUILD BIN | ||||||||
| signatureSearch 1.8.2 (landing page) Yuzhu Duan
| nebbiolo2 | Linux (Ubuntu 20.04.4 LTS) / x86_64 | OK | OK | OK | |||||||||
| tokay2 | Windows Server 2012 R2 Standard / x64 | OK | OK | OK | OK | |||||||||
| machv2 | macOS 10.14.6 Mojave / x86_64 | OK | OK | OK | OK | |||||||||
| Package: signatureSearch |
| Version: 1.8.2 |
| Command: /home/biocbuild/bbs-3.14-bioc/R/bin/R CMD check --install=check:signatureSearch.install-out.txt --library=/home/biocbuild/bbs-3.14-bioc/R/library --no-vignettes --timings signatureSearch_1.8.2.tar.gz |
| StartedAt: 2022-04-12 09:23:11 -0400 (Tue, 12 Apr 2022) |
| EndedAt: 2022-04-12 09:34:58 -0400 (Tue, 12 Apr 2022) |
| EllapsedTime: 707.2 seconds |
| RetCode: 0 |
| Status: OK |
| CheckDir: signatureSearch.Rcheck |
| Warnings: 0 |
##############################################################################
##############################################################################
###
### Running command:
###
### /home/biocbuild/bbs-3.14-bioc/R/bin/R CMD check --install=check:signatureSearch.install-out.txt --library=/home/biocbuild/bbs-3.14-bioc/R/library --no-vignettes --timings signatureSearch_1.8.2.tar.gz
###
##############################################################################
##############################################################################
* using log directory ‘/home/biocbuild/bbs-3.14-bioc/meat/signatureSearch.Rcheck’
* using R version 4.1.3 (2022-03-10)
* using platform: x86_64-pc-linux-gnu (64-bit)
* using session charset: UTF-8
* using option ‘--no-vignettes’
* checking for file ‘signatureSearch/DESCRIPTION’ ... OK
* this is package ‘signatureSearch’ version ‘1.8.2’
* package encoding: UTF-8
* checking package namespace information ... OK
* checking package dependencies ... OK
* checking if this is a source package ... OK
* checking if there is a namespace ... OK
* checking for hidden files and directories ... NOTE
Found the following hidden files and directories:
inst/extdata/.batchtools.conf.R
These were most likely included in error. See section ‘Package
structure’ in the ‘Writing R Extensions’ manual.
* checking for portable file names ... OK
* checking for sufficient/correct file permissions ... OK
* checking whether package ‘signatureSearch’ can be installed ... OK
* checking installed package size ... NOTE
installed size is 5.6Mb
sub-directories of 1Mb or more:
extdata 1.5Mb
libs 2.1Mb
* checking package directory ... OK
* checking ‘build’ directory ... OK
* checking DESCRIPTION meta-information ... OK
* checking top-level files ... OK
* checking for left-over files ... OK
* checking index information ... OK
* checking package subdirectories ... OK
* checking R files for non-ASCII characters ... OK
* checking R files for syntax errors ... OK
* checking whether the package can be loaded ... OK
* checking whether the package can be loaded with stated dependencies ... OK
* checking whether the package can be unloaded cleanly ... OK
* checking whether the namespace can be loaded with stated dependencies ... OK
* checking whether the namespace can be unloaded cleanly ... OK
* checking dependencies in R code ... OK
* checking S3 generic/method consistency ... OK
* checking replacement functions ... OK
* checking foreign function calls ... OK
* checking R code for possible problems ... NOTE
File ‘signatureSearch/R/zzz.R’:
.onLoad calls:
packageStartupMessage("The ExperimentHub cache is at ", cache)
See section ‘Good practice’ in '?.onAttach'.
* checking Rd files ... OK
* checking Rd metadata ... OK
* checking Rd cross-references ... OK
* checking for missing documentation entries ... OK
* checking for code/documentation mismatches ... OK
* checking Rd \usage sections ... OK
* checking Rd contents ... OK
* checking for unstated dependencies in examples ... OK
* checking contents of ‘data’ directory ... OK
* checking data for non-ASCII characters ... NOTE
Note: found 19 marked UTF-8 strings
* checking LazyData ... OK
* checking data for ASCII and uncompressed saves ... OK
* checking R/sysdata.rda ... OK
* checking line endings in C/C++/Fortran sources/headers ... OK
* checking compiled code ... NOTE
Note: information on .o files is not available
* checking files in ‘vignettes’ ... OK
* checking examples ... OK
Examples with CPU (user + system) or elapsed time > 5s
user system elapsed
runWF 24.414 2.567 34.890
set_readable 23.752 0.831 24.726
* checking for unstated dependencies in ‘tests’ ... OK
* checking tests ...
Running ‘testthat.R’
OK
* checking for unstated dependencies in vignettes ... OK
* checking package vignettes in ‘inst/doc’ ... OK
* checking running R code from vignettes ... SKIPPED
* checking re-building of vignette outputs ... SKIPPED
* checking PDF version of manual ... OK
* DONE
Status: 5 NOTEs
See
‘/home/biocbuild/bbs-3.14-bioc/meat/signatureSearch.Rcheck/00check.log’
for details.
signatureSearch.Rcheck/00install.out
##############################################################################
##############################################################################
###
### Running command:
###
### /home/biocbuild/bbs-3.14-bioc/R/bin/R CMD INSTALL signatureSearch
###
##############################################################################
##############################################################################
* installing to library ‘/home/biocbuild/bbs-3.14-bioc/R/library’
* installing *source* package ‘signatureSearch’ ...
** using staged installation
** libs
g++ -std=gnu++11 -I"/home/biocbuild/bbs-3.14-bioc/R/include" -DNDEBUG -I'/home/biocbuild/bbs-3.14-bioc/R/library/Rcpp/include' -I/usr/local/include -fpic -g -O2 -Wall -c RcppExports.cpp -o RcppExports.o
g++ -std=gnu++11 -I"/home/biocbuild/bbs-3.14-bioc/R/include" -DNDEBUG -I'/home/biocbuild/bbs-3.14-bioc/R/library/Rcpp/include' -I/usr/local/include -fpic -g -O2 -Wall -c fastGSEA.cpp -o fastGSEA.o
fastGSEA.cpp: In function ‘Rcpp::NumericVector calcGseaStatBatchCpp(const NumericVector&, const List&, const IntegerVector&)’:
fastGSEA.cpp:444:27: warning: comparison of integer expressions of different signedness: ‘int’ and ‘std::vector<int>::size_type’ {aka ‘long unsigned int’} [-Wsign-compare]
444 | for (int j = 0; j < S.size(); ++j) {
| ~~^~~~~~~~~~
gcc -I"/home/biocbuild/bbs-3.14-bioc/R/include" -DNDEBUG -I'/home/biocbuild/bbs-3.14-bioc/R/library/Rcpp/include' -I/usr/local/include -fpic -g -O2 -Wall -c fgsea_init.c -o fgsea_init.o
g++ -std=gnu++11 -shared -L/home/biocbuild/bbs-3.14-bioc/R/lib -L/usr/local/lib -o signatureSearch.so RcppExports.o fastGSEA.o fgsea_init.o -L/home/biocbuild/bbs-3.14-bioc/R/lib -lR
installing to /home/biocbuild/bbs-3.14-bioc/R/library/00LOCK-signatureSearch/00new/signatureSearch/libs
** R
** data
*** moving datasets to lazyload DB
** inst
** byte-compile and prepare package for lazy loading
** help
*** installing help indices
** building package indices
** installing vignettes
** testing if installed package can be loaded from temporary location
** checking absolute paths in shared objects and dynamic libraries
** testing if installed package can be loaded from final location
** testing if installed package keeps a record of temporary installation path
* DONE (signatureSearch)
signatureSearch.Rcheck/tests/testthat.Rout
R version 4.1.3 (2022-03-10) -- "One Push-Up"
Copyright (C) 2022 The R Foundation for Statistical Computing
Platform: x86_64-pc-linux-gnu (64-bit)
R is free software and comes with ABSOLUTELY NO WARRANTY.
You are welcome to redistribute it under certain conditions.
Type 'license()' or 'licence()' for distribution details.
R is a collaborative project with many contributors.
Type 'contributors()' for more information and
'citation()' on how to cite R or R packages in publications.
Type 'demo()' for some demos, 'help()' for on-line help, or
'help.start()' for an HTML browser interface to help.
Type 'q()' to quit R.
> # library(testthat)
> # library(signatureSearch)
> #
> # test_check("signatureSearch")
>
> proc.time()
user system elapsed
0.205 0.029 0.220
signatureSearch.Rcheck/signatureSearch-Ex.timings
| name | user | system | elapsed | |
| add_pcid | 0.002 | 0.000 | 0.003 | |
| append2H5 | 0.113 | 0.000 | 0.113 | |
| build_custom_db | 0.254 | 0.008 | 0.262 | |
| cellNtestPlot | 1.395 | 0.184 | 1.579 | |
| cell_info | 0.033 | 0.000 | 0.032 | |
| chembl_moa_list | 0.004 | 0.000 | 0.004 | |
| clue_moa_list | 0.004 | 0.000 | 0.004 | |
| comp_fea_res | 0.130 | 0.000 | 0.129 | |
| create_empty_h5 | 0.018 | 0.000 | 0.018 | |
| dim-methods | 0.009 | 0.000 | 0.008 | |
| drug_cell_ranks | 0.007 | 0.000 | 0.008 | |
| drugs-methods | 0.002 | 0.000 | 0.002 | |
| drugs10 | 0.001 | 0.000 | 0.001 | |
| dsea_GSEA | 0.002 | 0.000 | 0.001 | |
| dsea_hyperG | 0.001 | 0.000 | 0.001 | |
| dtnetplot | 3.894 | 0.487 | 4.496 | |
| enrichGO2 | 0.000 | 0.000 | 0.001 | |
| enrichKEGG2 | 0 | 0 | 0 | |
| enrichMOA | 0.036 | 0.004 | 0.042 | |
| enrichReactome | 0 | 0 | 0 | |
| feaResult | 0.001 | 0.000 | 0.002 | |
| gctx2h5 | 0.350 | 0.056 | 0.407 | |
| gessResult | 0.002 | 0.000 | 0.002 | |
| gess_cmap | 0.000 | 0.000 | 0.001 | |
| gess_cor | 0.000 | 0.000 | 0.001 | |
| gess_fisher | 0.000 | 0.000 | 0.001 | |
| gess_gcmap | 0.000 | 0.000 | 0.001 | |
| gess_lincs | 0.000 | 0.000 | 0.001 | |
| gess_res_vis | 0.234 | 0.012 | 0.246 | |
| getSig | 0.410 | 0.056 | 0.465 | |
| getTreats | 0.029 | 0.004 | 0.033 | |
| get_targets | 2.696 | 0.236 | 3.020 | |
| gmt2h5 | 0.073 | 0.010 | 0.082 | |
| gseGO2 | 0.001 | 0.000 | 0.001 | |
| gseKEGG2 | 0.009 | 0.000 | 0.009 | |
| gseReactome | 0.009 | 0.000 | 0.008 | |
| head-methods | 0.006 | 0.000 | 0.006 | |
| lincs_expr_inst_info | 0.027 | 0.004 | 0.031 | |
| lincs_pert_info | 0.085 | 0.004 | 0.089 | |
| lincs_sig_info | 0.035 | 0.004 | 0.039 | |
| list2df | 0.002 | 0.000 | 0.002 | |
| mabsGO | 0.001 | 0.000 | 0.001 | |
| mabsKEGG | 0.006 | 0.004 | 0.010 | |
| mabsReactome | 0.009 | 0.000 | 0.010 | |
| matrix2h5 | 0.039 | 0.008 | 0.047 | |
| moa_conn | 0.032 | 0.000 | 0.032 | |
| parse_gctx | 0.065 | 0.008 | 0.073 | |
| qSig | 0.344 | 0.028 | 0.373 | |
| rand_query_ES | 2.074 | 1.048 | 3.421 | |
| read_gmt | 0.003 | 0.000 | 0.002 | |
| result-methods | 0.364 | 0.216 | 0.033 | |
| runWF | 24.414 | 2.567 | 34.890 | |
| set_readable | 23.752 | 0.831 | 24.726 | |
| show-methods | 0.029 | 0.000 | 0.029 | |
| sim_score_grp | 0.019 | 0.000 | 0.020 | |
| tail-methods | 0.006 | 0.000 | 0.006 | |
| tarReduce | 0 | 0 | 0 | |
| targetList | 0.003 | 0.000 | 0.003 | |
| tsea_dup_hyperG | 0.001 | 0.000 | 0.001 | |
| tsea_mGSEA | 0.000 | 0.000 | 0.001 | |
| tsea_mabs | 0.001 | 0.000 | 0.001 | |
| vec_char_redu | 0 | 0 | 0 | |