| Back to Multiple platform build/check report for BioC 3.14 |
|
This page was generated on 2022-04-13 12:08:48 -0400 (Wed, 13 Apr 2022).
| Hostname | OS | Arch (*) | R version | Installed pkgs |
|---|---|---|---|---|
| nebbiolo2 | Linux (Ubuntu 20.04.4 LTS) | x86_64 | 4.1.3 (2022-03-10) -- "One Push-Up" | 4324 |
| tokay2 | Windows Server 2012 R2 Standard | x64 | 4.1.3 (2022-03-10) -- "One Push-Up" | 4077 |
| machv2 | macOS 10.14.6 Mojave | x86_64 | 4.1.3 (2022-03-10) -- "One Push-Up" | 4137 |
| Click on any hostname to see more info about the system (e.g. compilers) (*) as reported by 'uname -p', except on Windows and Mac OS X | ||||
|
To the developers/maintainers of the signatureSearch package: - Please allow up to 24 hours (and sometimes 48 hours) for your latest push to git@git.bioconductor.org:packages/signatureSearch.git to reflect on this report. See How and When does the builder pull? When will my changes propagate? for more information. - Make sure to use the following settings in order to reproduce any error or warning you see on this page. |
| Package 1791/2083 | Hostname | OS / Arch | INSTALL | BUILD | CHECK | BUILD BIN | ||||||||
| signatureSearch 1.8.2 (landing page) Yuzhu Duan
| nebbiolo2 | Linux (Ubuntu 20.04.4 LTS) / x86_64 | OK | OK | OK | |||||||||
| tokay2 | Windows Server 2012 R2 Standard / x64 | OK | OK | OK | OK | |||||||||
| machv2 | macOS 10.14.6 Mojave / x86_64 | OK | OK | OK | OK | |||||||||
| Package: signatureSearch |
| Version: 1.8.2 |
| Command: /Library/Frameworks/R.framework/Resources/bin/R CMD check --install=check:signatureSearch.install-out.txt --library=/Library/Frameworks/R.framework/Resources/library --no-vignettes --timings signatureSearch_1.8.2.tar.gz |
| StartedAt: 2022-04-12 18:34:05 -0400 (Tue, 12 Apr 2022) |
| EndedAt: 2022-04-12 18:52:51 -0400 (Tue, 12 Apr 2022) |
| EllapsedTime: 1126.3 seconds |
| RetCode: 0 |
| Status: OK |
| CheckDir: signatureSearch.Rcheck |
| Warnings: 0 |
##############################################################################
##############################################################################
###
### Running command:
###
### /Library/Frameworks/R.framework/Resources/bin/R CMD check --install=check:signatureSearch.install-out.txt --library=/Library/Frameworks/R.framework/Resources/library --no-vignettes --timings signatureSearch_1.8.2.tar.gz
###
##############################################################################
##############################################################################
* using log directory ‘/Users/biocbuild/bbs-3.14-bioc/meat/signatureSearch.Rcheck’
* using R version 4.1.3 (2022-03-10)
* using platform: x86_64-apple-darwin17.0 (64-bit)
* using session charset: UTF-8
* using option ‘--no-vignettes’
* checking for file ‘signatureSearch/DESCRIPTION’ ... OK
* this is package ‘signatureSearch’ version ‘1.8.2’
* package encoding: UTF-8
* checking package namespace information ... OK
* checking package dependencies ... OK
* checking if this is a source package ... OK
* checking if there is a namespace ... OK
* checking for hidden files and directories ... NOTE
Found the following hidden files and directories:
inst/extdata/.batchtools.conf.R
These were most likely included in error. See section ‘Package
structure’ in the ‘Writing R Extensions’ manual.
* checking for portable file names ... OK
* checking for sufficient/correct file permissions ... OK
* checking whether package ‘signatureSearch’ can be installed ... OK
* checking installed package size ... OK
* checking package directory ... OK
* checking ‘build’ directory ... OK
* checking DESCRIPTION meta-information ... OK
* checking top-level files ... OK
* checking for left-over files ... OK
* checking index information ... OK
* checking package subdirectories ... OK
* checking R files for non-ASCII characters ... OK
* checking R files for syntax errors ... OK
* checking whether the package can be loaded ... OK
* checking whether the package can be loaded with stated dependencies ... OK
* checking whether the package can be unloaded cleanly ... OK
* checking whether the namespace can be loaded with stated dependencies ... OK
* checking whether the namespace can be unloaded cleanly ... OK
* checking dependencies in R code ... OK
* checking S3 generic/method consistency ... OK
* checking replacement functions ... OK
* checking foreign function calls ... OK
* checking R code for possible problems ... NOTE
File ‘signatureSearch/R/zzz.R’:
.onLoad calls:
packageStartupMessage("The ExperimentHub cache is at ", cache)
See section ‘Good practice’ in '?.onAttach'.
* checking Rd files ... OK
* checking Rd metadata ... OK
* checking Rd cross-references ... OK
* checking for missing documentation entries ... OK
* checking for code/documentation mismatches ... OK
* checking Rd \usage sections ... OK
* checking Rd contents ... OK
* checking for unstated dependencies in examples ... OK
* checking contents of ‘data’ directory ... OK
* checking data for non-ASCII characters ... NOTE
Note: found 19 marked UTF-8 strings
* checking LazyData ... OK
* checking data for ASCII and uncompressed saves ... OK
* checking R/sysdata.rda ... OK
* checking line endings in C/C++/Fortran sources/headers ... OK
* checking compiled code ... NOTE
Note: information on .o files is not available
* checking files in ‘vignettes’ ... OK
* checking examples ... OK
Examples with CPU (user + system) or elapsed time > 5s
user system elapsed
set_readable 41.711 2.167 44.152
runWF 35.812 1.981 44.598
rand_query_ES 4.484 2.551 6.777
dtnetplot 4.923 0.123 5.299
* checking for unstated dependencies in ‘tests’ ... OK
* checking tests ...
Running ‘testthat.R’
OK
* checking for unstated dependencies in vignettes ... OK
* checking package vignettes in ‘inst/doc’ ... OK
* checking running R code from vignettes ... SKIPPED
* checking re-building of vignette outputs ... SKIPPED
* checking PDF version of manual ... OK
* DONE
Status: 4 NOTEs
See
‘/Users/biocbuild/bbs-3.14-bioc/meat/signatureSearch.Rcheck/00check.log’
for details.
signatureSearch.Rcheck/00install.out
############################################################################## ############################################################################## ### ### Running command: ### ### /Library/Frameworks/R.framework/Resources/bin/R CMD INSTALL signatureSearch ### ############################################################################## ############################################################################## * installing to library ‘/Library/Frameworks/R.framework/Versions/4.1/Resources/library’ * installing *source* package ‘signatureSearch’ ... ** using staged installation ** libs clang++ -mmacosx-version-min=10.13 -std=gnu++11 -I"/Library/Frameworks/R.framework/Resources/include" -DNDEBUG -I'/Library/Frameworks/R.framework/Versions/4.1/Resources/library/Rcpp/include' -I/usr/local/include -fPIC -Wall -g -O2 -c RcppExports.cpp -o RcppExports.o clang++ -mmacosx-version-min=10.13 -std=gnu++11 -I"/Library/Frameworks/R.framework/Resources/include" -DNDEBUG -I'/Library/Frameworks/R.framework/Versions/4.1/Resources/library/Rcpp/include' -I/usr/local/include -fPIC -Wall -g -O2 -c fastGSEA.cpp -o fastGSEA.o clang -mmacosx-version-min=10.13 -I"/Library/Frameworks/R.framework/Resources/include" -DNDEBUG -I'/Library/Frameworks/R.framework/Versions/4.1/Resources/library/Rcpp/include' -I/usr/local/include -fPIC -Wall -g -O2 -c fgsea_init.c -o fgsea_init.o clang++ -mmacosx-version-min=10.13 -std=gnu++11 -dynamiclib -Wl,-headerpad_max_install_names -undefined dynamic_lookup -single_module -multiply_defined suppress -L/Library/Frameworks/R.framework/Resources/lib -L/usr/local/lib -o signatureSearch.so RcppExports.o fastGSEA.o fgsea_init.o -F/Library/Frameworks/R.framework/.. -framework R -Wl,-framework -Wl,CoreFoundation installing to /Library/Frameworks/R.framework/Versions/4.1/Resources/library/00LOCK-signatureSearch/00new/signatureSearch/libs ** R ** data *** moving datasets to lazyload DB ** inst ** byte-compile and prepare package for lazy loading ** help *** installing help indices ** building package indices ** installing vignettes ** testing if installed package can be loaded from temporary location ** checking absolute paths in shared objects and dynamic libraries ** testing if installed package can be loaded from final location ** testing if installed package keeps a record of temporary installation path * DONE (signatureSearch)
signatureSearch.Rcheck/tests/testthat.Rout
R version 4.1.3 (2022-03-10) -- "One Push-Up"
Copyright (C) 2022 The R Foundation for Statistical Computing
Platform: x86_64-apple-darwin17.0 (64-bit)
R is free software and comes with ABSOLUTELY NO WARRANTY.
You are welcome to redistribute it under certain conditions.
Type 'license()' or 'licence()' for distribution details.
R is a collaborative project with many contributors.
Type 'contributors()' for more information and
'citation()' on how to cite R or R packages in publications.
Type 'demo()' for some demos, 'help()' for on-line help, or
'help.start()' for an HTML browser interface to help.
Type 'q()' to quit R.
> # library(testthat)
> # library(signatureSearch)
> #
> # test_check("signatureSearch")
>
> proc.time()
user system elapsed
0.304 0.074 0.353
signatureSearch.Rcheck/signatureSearch-Ex.timings
| name | user | system | elapsed | |
| add_pcid | 0.004 | 0.003 | 0.006 | |
| append2H5 | 0.113 | 0.010 | 0.143 | |
| build_custom_db | 0.443 | 0.040 | 0.484 | |
| cellNtestPlot | 1.296 | 0.014 | 1.316 | |
| cell_info | 0.056 | 0.003 | 0.059 | |
| chembl_moa_list | 0.005 | 0.004 | 0.009 | |
| clue_moa_list | 0.004 | 0.003 | 0.007 | |
| comp_fea_res | 0.244 | 0.004 | 0.247 | |
| create_empty_h5 | 0.033 | 0.003 | 0.037 | |
| dim-methods | 0.015 | 0.000 | 0.016 | |
| drug_cell_ranks | 0.013 | 0.001 | 0.014 | |
| drugs-methods | 0.004 | 0.001 | 0.004 | |
| drugs10 | 0.001 | 0.002 | 0.003 | |
| dsea_GSEA | 0.002 | 0.002 | 0.003 | |
| dsea_hyperG | 0.002 | 0.003 | 0.005 | |
| dtnetplot | 4.923 | 0.123 | 5.299 | |
| enrichGO2 | 0.000 | 0.001 | 0.001 | |
| enrichKEGG2 | 0.000 | 0.001 | 0.001 | |
| enrichMOA | 0.065 | 0.007 | 0.072 | |
| enrichReactome | 0.000 | 0.001 | 0.001 | |
| feaResult | 0.004 | 0.000 | 0.005 | |
| gctx2h5 | 0.932 | 0.301 | 1.236 | |
| gessResult | 0.002 | 0.000 | 0.003 | |
| gess_cmap | 0.001 | 0.000 | 0.001 | |
| gess_cor | 0.001 | 0.001 | 0.001 | |
| gess_fisher | 0.001 | 0.001 | 0.001 | |
| gess_gcmap | 0.001 | 0.001 | 0.001 | |
| gess_lincs | 0.002 | 0.001 | 0.001 | |
| gess_res_vis | 0.486 | 0.041 | 0.529 | |
| getSig | 0.829 | 0.091 | 0.924 | |
| getTreats | 0.062 | 0.009 | 0.071 | |
| get_targets | 3.921 | 0.115 | 4.293 | |
| gmt2h5 | 0.140 | 0.022 | 0.163 | |
| gseGO2 | 0.001 | 0.002 | 0.003 | |
| gseKEGG2 | 0.011 | 0.001 | 0.013 | |
| gseReactome | 0.011 | 0.001 | 0.011 | |
| head-methods | 0.011 | 0.001 | 0.012 | |
| lincs_expr_inst_info | 0.054 | 0.004 | 0.058 | |
| lincs_pert_info | 0.119 | 0.006 | 0.125 | |
| lincs_sig_info | 0.063 | 0.004 | 0.068 | |
| list2df | 0.004 | 0.000 | 0.005 | |
| mabsGO | 0.002 | 0.003 | 0.005 | |
| mabsKEGG | 0.015 | 0.001 | 0.016 | |
| mabsReactome | 0.015 | 0.001 | 0.015 | |
| matrix2h5 | 0.082 | 0.007 | 0.089 | |
| moa_conn | 0.059 | 0.003 | 0.061 | |
| parse_gctx | 0.105 | 0.009 | 0.115 | |
| qSig | 0.453 | 0.045 | 0.498 | |
| rand_query_ES | 4.484 | 2.551 | 6.777 | |
| read_gmt | 0.004 | 0.001 | 0.005 | |
| result-methods | 0.036 | 0.005 | 0.041 | |
| runWF | 35.812 | 1.981 | 44.598 | |
| set_readable | 41.711 | 2.167 | 44.152 | |
| show-methods | 0.054 | 0.002 | 0.056 | |
| sim_score_grp | 0.039 | 0.001 | 0.040 | |
| tail-methods | 0.009 | 0.001 | 0.010 | |
| tarReduce | 0.000 | 0.000 | 0.001 | |
| targetList | 0.004 | 0.002 | 0.007 | |
| tsea_dup_hyperG | 0.002 | 0.003 | 0.005 | |
| tsea_mGSEA | 0.002 | 0.002 | 0.005 | |
| tsea_mabs | 0.001 | 0.002 | 0.003 | |
| vec_char_redu | 0.001 | 0.000 | 0.000 | |