| Back to Multiple platform build/check report for BioC 3.14 | 
 | 
This page was generated on 2022-04-13 12:05:46 -0400 (Wed, 13 Apr 2022).
| Hostname | OS | Arch (*) | R version | Installed pkgs | 
|---|---|---|---|---|
| nebbiolo2 | Linux (Ubuntu 20.04.4 LTS) | x86_64 | 4.1.3 (2022-03-10) -- "One Push-Up" | 4324 | 
| tokay2 | Windows Server 2012 R2 Standard | x64 | 4.1.3 (2022-03-10) -- "One Push-Up" | 4077 | 
| machv2 | macOS 10.14.6 Mojave | x86_64 | 4.1.3 (2022-03-10) -- "One Push-Up" | 4137 | 
| Click on any hostname to see more info about the system (e.g. compilers) (*) as reported by 'uname -p', except on Windows and Mac OS X | ||||
| To the developers/maintainers of the plyranges package: - Please allow up to 24 hours (and sometimes 48 hours) for your latest push to git@git.bioconductor.org:packages/plyranges.git to reflect on this report. See How and When does the builder pull? When will my changes propagate? for more information. - Make sure to use the following settings in order to reproduce any error or warning you see on this page. | 
| Package 1433/2083 | Hostname | OS / Arch | INSTALL | BUILD | CHECK | BUILD BIN | ||||||||
| plyranges 1.14.0  (landing page) Stuart Lee 
 | nebbiolo2 | Linux (Ubuntu 20.04.4 LTS) / x86_64 | OK | OK | OK |  | ||||||||
| tokay2 | Windows Server 2012 R2 Standard / x64 | OK | OK | OK | OK |  | ||||||||
| machv2 | macOS 10.14.6 Mojave / x86_64 | OK | OK | OK | OK |  | ||||||||
| Package: plyranges | 
| Version: 1.14.0 | 
| Command: /home/biocbuild/bbs-3.14-bioc/R/bin/R CMD check --install=check:plyranges.install-out.txt --library=/home/biocbuild/bbs-3.14-bioc/R/library --no-vignettes --timings plyranges_1.14.0.tar.gz | 
| StartedAt: 2022-04-12 08:45:23 -0400 (Tue, 12 Apr 2022) | 
| EndedAt: 2022-04-12 08:49:36 -0400 (Tue, 12 Apr 2022) | 
| EllapsedTime: 253.2 seconds | 
| RetCode: 0 | 
| Status: OK | 
| CheckDir: plyranges.Rcheck | 
| Warnings: 0 | 
############################################################################## ############################################################################## ### ### Running command: ### ### /home/biocbuild/bbs-3.14-bioc/R/bin/R CMD check --install=check:plyranges.install-out.txt --library=/home/biocbuild/bbs-3.14-bioc/R/library --no-vignettes --timings plyranges_1.14.0.tar.gz ### ############################################################################## ############################################################################## * using log directory ‘/home/biocbuild/bbs-3.14-bioc/meat/plyranges.Rcheck’ * using R version 4.1.3 (2022-03-10) * using platform: x86_64-pc-linux-gnu (64-bit) * using session charset: UTF-8 * using option ‘--no-vignettes’ * checking for file ‘plyranges/DESCRIPTION’ ... OK * checking extension type ... Package * this is package ‘plyranges’ version ‘1.14.0’ * package encoding: UTF-8 * checking package namespace information ... OK * checking package dependencies ... OK * checking if this is a source package ... OK * checking if there is a namespace ... OK * checking for hidden files and directories ... OK * checking for portable file names ... OK * checking for sufficient/correct file permissions ... OK * checking whether package ‘plyranges’ can be installed ... OK * checking installed package size ... OK * checking package directory ... OK * checking ‘build’ directory ... OK * checking DESCRIPTION meta-information ... OK * checking top-level files ... OK * checking for left-over files ... OK * checking index information ... OK * checking package subdirectories ... OK * checking R files for non-ASCII characters ... OK * checking R files for syntax errors ... OK * checking whether the package can be loaded ... OK * checking whether the package can be loaded with stated dependencies ... OK * checking whether the package can be unloaded cleanly ... OK * checking whether the namespace can be loaded with stated dependencies ... OK * checking whether the namespace can be unloaded cleanly ... OK * checking dependencies in R code ... OK * checking S3 generic/method consistency ... OK * checking replacement functions ... OK * checking foreign function calls ... OK * checking R code for possible problems ... OK * checking Rd files ... OK * checking Rd metadata ... OK * checking Rd cross-references ... OK * checking for missing documentation entries ... OK * checking for code/documentation mismatches ... OK * checking Rd \usage sections ... OK * checking Rd contents ... OK * checking for unstated dependencies in examples ... OK * checking files in ‘vignettes’ ... OK * checking examples ... OK * checking for unstated dependencies in ‘tests’ ... OK * checking tests ... Running ‘testthat.R’ OK * checking for unstated dependencies in vignettes ... OK * checking package vignettes in ‘inst/doc’ ... OK * checking running R code from vignettes ... SKIPPED * checking re-building of vignette outputs ... SKIPPED * checking PDF version of manual ... OK * DONE Status: OK
plyranges.Rcheck/00install.out
############################################################################## ############################################################################## ### ### Running command: ### ### /home/biocbuild/bbs-3.14-bioc/R/bin/R CMD INSTALL plyranges ### ############################################################################## ############################################################################## * installing to library ‘/home/biocbuild/bbs-3.14-bioc/R/library’ * installing *source* package ‘plyranges’ ... ** using staged installation ** R ** inst ** byte-compile and prepare package for lazy loading ** help *** installing help indices *** copying figures ** building package indices ** installing vignettes ** testing if installed package can be loaded from temporary location ** testing if installed package can be loaded from final location ** testing if installed package keeps a record of temporary installation path * DONE (plyranges)
plyranges.Rcheck/tests/testthat.Rout
R version 4.1.3 (2022-03-10) -- "One Push-Up"
Copyright (C) 2022 The R Foundation for Statistical Computing
Platform: x86_64-pc-linux-gnu (64-bit)
R is free software and comes with ABSOLUTELY NO WARRANTY.
You are welcome to redistribute it under certain conditions.
Type 'license()' or 'licence()' for distribution details.
R is a collaborative project with many contributors.
Type 'contributors()' for more information and
'citation()' on how to cite R or R packages in publications.
Type 'demo()' for some demos, 'help()' for on-line help, or
'help.start()' for an HTML browser interface to help.
Type 'q()' to quit R.
> library(testthat)
> library(plyranges)
Loading required package: BiocGenerics
Attaching package: 'BiocGenerics'
The following objects are masked from 'package:stats':
    IQR, mad, sd, var, xtabs
The following objects are masked from 'package:base':
    Filter, Find, Map, Position, Reduce, anyDuplicated, append,
    as.data.frame, basename, cbind, colnames, dirname, do.call,
    duplicated, eval, evalq, get, grep, grepl, intersect, is.unsorted,
    lapply, mapply, match, mget, order, paste, pmax, pmax.int, pmin,
    pmin.int, rank, rbind, rownames, sapply, setdiff, sort, table,
    tapply, union, unique, unsplit, which.max, which.min
Loading required package: IRanges
Loading required package: S4Vectors
Loading required package: stats4
Attaching package: 'S4Vectors'
The following objects are masked from 'package:base':
    I, expand.grid, unname
Loading required package: GenomicRanges
Loading required package: GenomeInfoDb
Attaching package: 'plyranges'
The following object is masked from 'package:IRanges':
    slice
The following object is masked from 'package:stats':
    filter
> 
> test_check("plyranges")
[ FAIL 0 | WARN 7 | SKIP 0 | PASS 390 ]
[ FAIL 0 | WARN 7 | SKIP 0 | PASS 390 ]
> 
> proc.time()
   user  system elapsed 
 52.297   1.565  53.848 
plyranges.Rcheck/plyranges-Ex.timings
| name | user | system | elapsed | |
| add-nearest-distance | 0.423 | 0.048 | 0.471 | |
| as_ranges | 0.094 | 0.013 | 0.107 | |
| compute_coverage | 0.023 | 0.007 | 0.031 | |
| element-setops | 0.102 | 0.009 | 0.110 | |
| filter-ranges | 0.665 | 0.032 | 0.697 | |
| group_by-ranges | 0.361 | 0.023 | 0.385 | |
| io-bam-read | 1.543 | 0.105 | 1.649 | |
| io-bed-read | 2.236 | 0.112 | 2.348 | |
| io-bed-write | 0 | 0 | 0 | |
| io-bigwig-read | 0.155 | 0.008 | 0.163 | |
| io-bigwig-write | 0 | 0 | 0 | |
| io-gff-read | 1.568 | 0.236 | 1.805 | |
| io-gff-write | 0 | 0 | 0 | |
| io-wig-read | 0.384 | 0.028 | 0.412 | |
| mutate-ranges | 0.906 | 0.044 | 0.950 | |
| n | 0.262 | 0.012 | 0.274 | |
| n_distinct | 0.028 | 0.000 | 0.028 | |
| overlap-joins | 0.248 | 0.004 | 0.253 | |
| ranges-anchor | 0.111 | 0.004 | 0.115 | |
| ranges-arrange | 0.049 | 0.004 | 0.053 | |
| ranges-bind | 0.232 | 0.000 | 0.233 | |
| ranges-chop | 0.470 | 0.027 | 0.498 | |
| ranges-construct | 0.186 | 0.023 | 0.210 | |
| ranges-count-overlaps | 0.092 | 0.000 | 0.092 | |
| ranges-disjoin | 0.808 | 0.064 | 0.872 | |
| ranges-expand | 0.633 | 0.000 | 0.633 | |
| ranges-filter-overlaps | 0.089 | 0.000 | 0.089 | |
| ranges-flank | 0.142 | 0.000 | 0.142 | |
| ranges-follow | 0.241 | 0.000 | 0.241 | |
| ranges-info | 0.067 | 0.000 | 0.068 | |
| ranges-interweave | 0.188 | 0.004 | 0.192 | |
| ranges-names | 0.148 | 0.000 | 0.148 | |
| ranges-nearest | 0.519 | 0.000 | 0.519 | |
| ranges-overlaps-self | 0.2 | 0.0 | 0.2 | |
| ranges-overlaps | 0.306 | 0.012 | 0.318 | |
| ranges-pairs | 0.474 | 0.000 | 0.474 | |
| ranges-precede | 0.227 | 0.000 | 0.228 | |
| ranges-reduce | 0.826 | 0.028 | 0.854 | |
| ranges-select | 0.131 | 0.003 | 0.134 | |
| ranges-setops | 0.914 | 0.033 | 0.945 | |
| ranges-shift | 0.206 | 0.016 | 0.222 | |
| ranges-summarise | 0.154 | 0.008 | 0.161 | |
| ranges-tile | 0.136 | 0.000 | 0.136 | |
| slice-ranges | 0.643 | 0.016 | 0.659 | |
| stretch | 0.297 | 0.004 | 0.301 | |