| Back to Multiple platform build/check report for BioC 3.14 |
|
This page was generated on 2022-04-13 12:08:32 -0400 (Wed, 13 Apr 2022).
| Hostname | OS | Arch (*) | R version | Installed pkgs |
|---|---|---|---|---|
| nebbiolo2 | Linux (Ubuntu 20.04.4 LTS) | x86_64 | 4.1.3 (2022-03-10) -- "One Push-Up" | 4324 |
| tokay2 | Windows Server 2012 R2 Standard | x64 | 4.1.3 (2022-03-10) -- "One Push-Up" | 4077 |
| machv2 | macOS 10.14.6 Mojave | x86_64 | 4.1.3 (2022-03-10) -- "One Push-Up" | 4137 |
| Click on any hostname to see more info about the system (e.g. compilers) (*) as reported by 'uname -p', except on Windows and Mac OS X | ||||
|
To the developers/maintainers of the plyranges package: - Please allow up to 24 hours (and sometimes 48 hours) for your latest push to git@git.bioconductor.org:packages/plyranges.git to reflect on this report. See How and When does the builder pull? When will my changes propagate? for more information. - Make sure to use the following settings in order to reproduce any error or warning you see on this page. |
| Package 1433/2083 | Hostname | OS / Arch | INSTALL | BUILD | CHECK | BUILD BIN | ||||||||
| plyranges 1.14.0 (landing page) Stuart Lee
| nebbiolo2 | Linux (Ubuntu 20.04.4 LTS) / x86_64 | OK | OK | OK | |||||||||
| tokay2 | Windows Server 2012 R2 Standard / x64 | OK | OK | OK | OK | |||||||||
| machv2 | macOS 10.14.6 Mojave / x86_64 | OK | OK | OK | OK | |||||||||
| Package: plyranges |
| Version: 1.14.0 |
| Command: /Library/Frameworks/R.framework/Resources/bin/R CMD check --install=check:plyranges.install-out.txt --library=/Library/Frameworks/R.framework/Resources/library --no-vignettes --timings plyranges_1.14.0.tar.gz |
| StartedAt: 2022-04-12 16:50:18 -0400 (Tue, 12 Apr 2022) |
| EndedAt: 2022-04-12 16:57:29 -0400 (Tue, 12 Apr 2022) |
| EllapsedTime: 430.6 seconds |
| RetCode: 0 |
| Status: OK |
| CheckDir: plyranges.Rcheck |
| Warnings: 0 |
############################################################################## ############################################################################## ### ### Running command: ### ### /Library/Frameworks/R.framework/Resources/bin/R CMD check --install=check:plyranges.install-out.txt --library=/Library/Frameworks/R.framework/Resources/library --no-vignettes --timings plyranges_1.14.0.tar.gz ### ############################################################################## ############################################################################## * using log directory ‘/Users/biocbuild/bbs-3.14-bioc/meat/plyranges.Rcheck’ * using R version 4.1.3 (2022-03-10) * using platform: x86_64-apple-darwin17.0 (64-bit) * using session charset: UTF-8 * using option ‘--no-vignettes’ * checking for file ‘plyranges/DESCRIPTION’ ... OK * checking extension type ... Package * this is package ‘plyranges’ version ‘1.14.0’ * package encoding: UTF-8 * checking package namespace information ... OK * checking package dependencies ... OK * checking if this is a source package ... OK * checking if there is a namespace ... OK * checking for hidden files and directories ... OK * checking for portable file names ... OK * checking for sufficient/correct file permissions ... OK * checking whether package ‘plyranges’ can be installed ... OK * checking installed package size ... OK * checking package directory ... OK * checking ‘build’ directory ... OK * checking DESCRIPTION meta-information ... OK * checking top-level files ... OK * checking for left-over files ... OK * checking index information ... OK * checking package subdirectories ... OK * checking R files for non-ASCII characters ... OK * checking R files for syntax errors ... OK * checking whether the package can be loaded ... OK * checking whether the package can be loaded with stated dependencies ... OK * checking whether the package can be unloaded cleanly ... OK * checking whether the namespace can be loaded with stated dependencies ... OK * checking whether the namespace can be unloaded cleanly ... OK * checking dependencies in R code ... OK * checking S3 generic/method consistency ... OK * checking replacement functions ... OK * checking foreign function calls ... OK * checking R code for possible problems ... OK * checking Rd files ... OK * checking Rd metadata ... OK * checking Rd cross-references ... OK * checking for missing documentation entries ... OK * checking for code/documentation mismatches ... OK * checking Rd \usage sections ... OK * checking Rd contents ... OK * checking for unstated dependencies in examples ... OK * checking files in ‘vignettes’ ... OK * checking examples ... OK * checking for unstated dependencies in ‘tests’ ... OK * checking tests ... Running ‘testthat.R’ OK * checking for unstated dependencies in vignettes ... OK * checking package vignettes in ‘inst/doc’ ... OK * checking running R code from vignettes ... SKIPPED * checking re-building of vignette outputs ... SKIPPED * checking PDF version of manual ... OK * DONE Status: OK
plyranges.Rcheck/00install.out
############################################################################## ############################################################################## ### ### Running command: ### ### /Library/Frameworks/R.framework/Resources/bin/R CMD INSTALL plyranges ### ############################################################################## ############################################################################## * installing to library ‘/Library/Frameworks/R.framework/Versions/4.1/Resources/library’ * installing *source* package ‘plyranges’ ... ** using staged installation ** R ** inst ** byte-compile and prepare package for lazy loading ** help *** installing help indices *** copying figures ** building package indices ** installing vignettes ** testing if installed package can be loaded from temporary location ** testing if installed package can be loaded from final location ** testing if installed package keeps a record of temporary installation path * DONE (plyranges)
plyranges.Rcheck/tests/testthat.Rout
R version 4.1.3 (2022-03-10) -- "One Push-Up"
Copyright (C) 2022 The R Foundation for Statistical Computing
Platform: x86_64-apple-darwin17.0 (64-bit)
R is free software and comes with ABSOLUTELY NO WARRANTY.
You are welcome to redistribute it under certain conditions.
Type 'license()' or 'licence()' for distribution details.
R is a collaborative project with many contributors.
Type 'contributors()' for more information and
'citation()' on how to cite R or R packages in publications.
Type 'demo()' for some demos, 'help()' for on-line help, or
'help.start()' for an HTML browser interface to help.
Type 'q()' to quit R.
> library(testthat)
> library(plyranges)
Loading required package: BiocGenerics
Attaching package: 'BiocGenerics'
The following objects are masked from 'package:stats':
IQR, mad, sd, var, xtabs
The following objects are masked from 'package:base':
Filter, Find, Map, Position, Reduce, anyDuplicated, append,
as.data.frame, basename, cbind, colnames, dirname, do.call,
duplicated, eval, evalq, get, grep, grepl, intersect, is.unsorted,
lapply, mapply, match, mget, order, paste, pmax, pmax.int, pmin,
pmin.int, rank, rbind, rownames, sapply, setdiff, sort, table,
tapply, union, unique, unsplit, which.max, which.min
Loading required package: IRanges
Loading required package: S4Vectors
Loading required package: stats4
Attaching package: 'S4Vectors'
The following objects are masked from 'package:base':
I, expand.grid, unname
Loading required package: GenomicRanges
Loading required package: GenomeInfoDb
Attaching package: 'plyranges'
The following object is masked from 'package:IRanges':
slice
The following object is masked from 'package:stats':
filter
>
> test_check("plyranges")
[ FAIL 0 | WARN 7 | SKIP 0 | PASS 390 ]
[ FAIL 0 | WARN 7 | SKIP 0 | PASS 390 ]
>
> proc.time()
user system elapsed
93.186 1.913 95.162
plyranges.Rcheck/plyranges-Ex.timings
| name | user | system | elapsed | |
| add-nearest-distance | 0.715 | 0.045 | 0.760 | |
| as_ranges | 0.187 | 0.018 | 0.205 | |
| compute_coverage | 0.052 | 0.005 | 0.057 | |
| element-setops | 0.188 | 0.024 | 0.213 | |
| filter-ranges | 1.148 | 0.021 | 1.170 | |
| group_by-ranges | 0.636 | 0.024 | 0.661 | |
| io-bam-read | 1.739 | 0.072 | 1.814 | |
| io-bed-read | 3.888 | 0.542 | 4.476 | |
| io-bed-write | 0.000 | 0.000 | 0.001 | |
| io-bigwig-read | 0.218 | 0.002 | 0.232 | |
| io-bigwig-write | 0.000 | 0.001 | 0.001 | |
| io-gff-read | 1.506 | 0.045 | 1.554 | |
| io-gff-write | 0 | 0 | 0 | |
| io-wig-read | 0.637 | 0.010 | 0.648 | |
| mutate-ranges | 1.487 | 0.036 | 1.526 | |
| n | 0.425 | 0.002 | 0.427 | |
| n_distinct | 0.046 | 0.000 | 0.046 | |
| overlap-joins | 0.457 | 0.003 | 0.460 | |
| ranges-anchor | 0.253 | 0.003 | 0.256 | |
| ranges-arrange | 0.095 | 0.001 | 0.097 | |
| ranges-bind | 0.361 | 0.003 | 0.364 | |
| ranges-chop | 0.658 | 0.012 | 0.671 | |
| ranges-construct | 0.295 | 0.004 | 0.299 | |
| ranges-count-overlaps | 0.164 | 0.004 | 0.168 | |
| ranges-disjoin | 1.440 | 0.006 | 1.446 | |
| ranges-expand | 1.077 | 0.005 | 1.082 | |
| ranges-filter-overlaps | 0.192 | 0.003 | 0.194 | |
| ranges-flank | 0.215 | 0.003 | 0.217 | |
| ranges-follow | 0.383 | 0.002 | 0.385 | |
| ranges-info | 0.114 | 0.002 | 0.116 | |
| ranges-interweave | 0.356 | 0.002 | 0.358 | |
| ranges-names | 0.251 | 0.002 | 0.254 | |
| ranges-nearest | 0.925 | 0.005 | 0.932 | |
| ranges-overlaps-self | 0.354 | 0.002 | 0.356 | |
| ranges-overlaps | 0.602 | 0.005 | 0.607 | |
| ranges-pairs | 0.922 | 0.005 | 0.927 | |
| ranges-precede | 0.482 | 0.003 | 0.485 | |
| ranges-reduce | 1.684 | 0.006 | 1.691 | |
| ranges-select | 0.277 | 0.004 | 0.281 | |
| ranges-setops | 1.737 | 0.005 | 1.743 | |
| ranges-shift | 0.388 | 0.003 | 0.391 | |
| ranges-summarise | 0.261 | 0.001 | 0.263 | |
| ranges-tile | 0.183 | 0.001 | 0.183 | |
| slice-ranges | 1.109 | 0.004 | 1.114 | |
| stretch | 0.551 | 0.003 | 0.556 | |