| Back to Multiple platform build/check report for BioC 3.14 |
|
This page was generated on 2022-04-13 12:06:55 -0400 (Wed, 13 Apr 2022).
| Hostname | OS | Arch (*) | R version | Installed pkgs |
|---|---|---|---|---|
| nebbiolo2 | Linux (Ubuntu 20.04.4 LTS) | x86_64 | 4.1.3 (2022-03-10) -- "One Push-Up" | 4324 |
| tokay2 | Windows Server 2012 R2 Standard | x64 | 4.1.3 (2022-03-10) -- "One Push-Up" | 4077 |
| machv2 | macOS 10.14.6 Mojave | x86_64 | 4.1.3 (2022-03-10) -- "One Push-Up" | 4137 |
| Click on any hostname to see more info about the system (e.g. compilers) (*) as reported by 'uname -p', except on Windows and Mac OS X | ||||
|
To the developers/maintainers of the mogsa package: - Please allow up to 24 hours (and sometimes 48 hours) for your latest push to git@git.bioconductor.org:packages/mogsa.git to reflect on this report. See How and When does the builder pull? When will my changes propagate? for more information. - Make sure to use the following settings in order to reproduce any error or warning you see on this page. |
| Package 1192/2083 | Hostname | OS / Arch | INSTALL | BUILD | CHECK | BUILD BIN | ||||||||
| mogsa 1.28.0 (landing page) Chen Meng
| nebbiolo2 | Linux (Ubuntu 20.04.4 LTS) / x86_64 | OK | OK | OK | |||||||||
| tokay2 | Windows Server 2012 R2 Standard / x64 | OK | OK | OK | OK | |||||||||
| machv2 | macOS 10.14.6 Mojave / x86_64 | OK | OK | OK | OK | |||||||||
| Package: mogsa |
| Version: 1.28.0 |
| Command: rm -rf mogsa.buildbin-libdir && mkdir mogsa.buildbin-libdir && C:\Users\biocbuild\bbs-3.14-bioc\R\bin\R.exe CMD INSTALL --merge-multiarch --build --library=mogsa.buildbin-libdir mogsa_1.28.0.tar.gz |
| StartedAt: 2022-04-13 06:38:13 -0400 (Wed, 13 Apr 2022) |
| EndedAt: 2022-04-13 06:38:56 -0400 (Wed, 13 Apr 2022) |
| EllapsedTime: 42.5 seconds |
| RetCode: 0 |
| Status: OK |
| PackageFile: mogsa_1.28.0.zip |
| PackageFileSize: 1.276 MiB |
##############################################################################
##############################################################################
###
### Running command:
###
### rm -rf mogsa.buildbin-libdir && mkdir mogsa.buildbin-libdir && C:\Users\biocbuild\bbs-3.14-bioc\R\bin\R.exe CMD INSTALL --merge-multiarch --build --library=mogsa.buildbin-libdir mogsa_1.28.0.tar.gz
###
##############################################################################
##############################################################################
install for i386
* installing *source* package 'mogsa' ...
** using staged installation
** R
** data
** inst
** byte-compile and prepare package for lazy loading
** help
*** installing help indices
converting help for package 'mogsa'
finding HTML links ... done
GIS html
NCI60_4array_supdata html
NCI60_4arrays html
annotate.gs html
biSoftK html
bootMbpca html
bootMbpcaK html
bootMoa html
box.gs.feature html
combine-methods html
decompose.gs.group html
decompose.gs.ind html
deflat html
distMoa html
getmgsa html
matpower html
mbpca html
mgsa-class html
moGap html
moa-class html
moa html
moa.sup-class html
moaCoef html
moaScore html
mogsa-package html
mogsa html
msvd html
nipalsSoftK html
pairwise.rv html
plot-methods html
plotGS html
prepGraphite html
prepMsigDB html
prepSupMoa html
print-methods html
processOpt html
show-methods html
softK html
summary-methods html
sup.moa html
toMoa html
wsvd html
** building package indices
** installing vignettes
** testing if installed package can be loaded from temporary location
** testing if installed package can be loaded from final location
** testing if installed package keeps a record of temporary installation path
install for x64
* installing *source* package 'mogsa' ...
** testing if installed package can be loaded
* MD5 sums
packaged installation of 'mogsa' as mogsa_1.28.0.zip
* DONE (mogsa)