| Back to Multiple platform build/check report for BioC 3.14 |
|
This page was generated on 2022-04-13 12:08:22 -0400 (Wed, 13 Apr 2022).
| Hostname | OS | Arch (*) | R version | Installed pkgs |
|---|---|---|---|---|
| nebbiolo2 | Linux (Ubuntu 20.04.4 LTS) | x86_64 | 4.1.3 (2022-03-10) -- "One Push-Up" | 4324 |
| tokay2 | Windows Server 2012 R2 Standard | x64 | 4.1.3 (2022-03-10) -- "One Push-Up" | 4077 |
| machv2 | macOS 10.14.6 Mojave | x86_64 | 4.1.3 (2022-03-10) -- "One Push-Up" | 4137 |
| Click on any hostname to see more info about the system (e.g. compilers) (*) as reported by 'uname -p', except on Windows and Mac OS X | ||||
|
To the developers/maintainers of the mogsa package: - Please allow up to 24 hours (and sometimes 48 hours) for your latest push to git@git.bioconductor.org:packages/mogsa.git to reflect on this report. See How and When does the builder pull? When will my changes propagate? for more information. - Make sure to use the following settings in order to reproduce any error or warning you see on this page. |
| Package 1192/2083 | Hostname | OS / Arch | INSTALL | BUILD | CHECK | BUILD BIN | ||||||||
| mogsa 1.28.0 (landing page) Chen Meng
| nebbiolo2 | Linux (Ubuntu 20.04.4 LTS) / x86_64 | OK | OK | OK | |||||||||
| tokay2 | Windows Server 2012 R2 Standard / x64 | OK | OK | OK | OK | |||||||||
| machv2 | macOS 10.14.6 Mojave / x86_64 | OK | OK | OK | OK | |||||||||
| Package: mogsa |
| Version: 1.28.0 |
| Command: /Library/Frameworks/R.framework/Resources/bin/R CMD check --install=check:mogsa.install-out.txt --library=/Library/Frameworks/R.framework/Resources/library --no-vignettes --timings mogsa_1.28.0.tar.gz |
| StartedAt: 2022-04-12 15:42:38 -0400 (Tue, 12 Apr 2022) |
| EndedAt: 2022-04-12 15:46:13 -0400 (Tue, 12 Apr 2022) |
| EllapsedTime: 215.6 seconds |
| RetCode: 0 |
| Status: OK |
| CheckDir: mogsa.Rcheck |
| Warnings: 0 |
##############################################################################
##############################################################################
###
### Running command:
###
### /Library/Frameworks/R.framework/Resources/bin/R CMD check --install=check:mogsa.install-out.txt --library=/Library/Frameworks/R.framework/Resources/library --no-vignettes --timings mogsa_1.28.0.tar.gz
###
##############################################################################
##############################################################################
* using log directory ‘/Users/biocbuild/bbs-3.14-bioc/meat/mogsa.Rcheck’
* using R version 4.1.3 (2022-03-10)
* using platform: x86_64-apple-darwin17.0 (64-bit)
* using session charset: UTF-8
* using option ‘--no-vignettes’
* checking for file ‘mogsa/DESCRIPTION’ ... OK
* checking extension type ... Package
* this is package ‘mogsa’ version ‘1.28.0’
* checking package namespace information ... OK
* checking package dependencies ... OK
* checking if this is a source package ... OK
* checking if there is a namespace ... OK
* checking for hidden files and directories ... OK
* checking for portable file names ... OK
* checking for sufficient/correct file permissions ... OK
* checking whether package ‘mogsa’ can be installed ... OK
* checking installed package size ... OK
* checking package directory ... OK
* checking ‘build’ directory ... OK
* checking DESCRIPTION meta-information ... OK
* checking top-level files ... OK
* checking for left-over files ... OK
* checking index information ... OK
* checking package subdirectories ... OK
* checking R files for non-ASCII characters ... OK
* checking R files for syntax errors ... OK
* checking whether the package can be loaded ... OK
* checking whether the package can be loaded with stated dependencies ... OK
* checking whether the package can be unloaded cleanly ... OK
* checking whether the namespace can be loaded with stated dependencies ... OK
* checking whether the namespace can be unloaded cleanly ... OK
* checking dependencies in R code ... OK
* checking S3 generic/method consistency ... OK
* checking replacement functions ... OK
* checking foreign function calls ... OK
* checking R code for possible problems ... OK
* checking Rd files ... OK
* checking Rd metadata ... OK
* checking Rd cross-references ... OK
* checking for missing documentation entries ... OK
* checking for code/documentation mismatches ... OK
* checking Rd \usage sections ... OK
* checking Rd contents ... OK
* checking for unstated dependencies in examples ... OK
* checking contents of ‘data’ directory ... OK
* checking data for non-ASCII characters ... OK
* checking data for ASCII and uncompressed saves ... OK
* checking sizes of PDF files under ‘inst/doc’ ... OK
* checking files in ‘vignettes’ ... OK
* checking examples ... OK
Examples with CPU (user + system) or elapsed time > 5s
user system elapsed
prepSupMoa 5.273 0.06 5.336
* checking for unstated dependencies in vignettes ... OK
* checking package vignettes in ‘inst/doc’ ... OK
* checking running R code from vignettes ... SKIPPED
* checking re-building of vignette outputs ... SKIPPED
* checking PDF version of manual ... OK
* DONE
Status: OK
mogsa.Rcheck/00install.out
############################################################################## ############################################################################## ### ### Running command: ### ### /Library/Frameworks/R.framework/Resources/bin/R CMD INSTALL mogsa ### ############################################################################## ############################################################################## * installing to library ‘/Library/Frameworks/R.framework/Versions/4.1/Resources/library’ * installing *source* package ‘mogsa’ ... ** using staged installation ** R ** data ** inst ** byte-compile and prepare package for lazy loading ** help *** installing help indices ** building package indices ** installing vignettes ** testing if installed package can be loaded from temporary location ** testing if installed package can be loaded from final location ** testing if installed package keeps a record of temporary installation path * DONE (mogsa)
mogsa.Rcheck/mogsa-Ex.timings
| name | user | system | elapsed | |
| GIS | 0.838 | 0.026 | 0.865 | |
| annotate.gs | 0.170 | 0.024 | 0.193 | |
| bootMbpca | 0 | 0 | 0 | |
| bootMoa | 0 | 0 | 0 | |
| box.gs.feature | 0.361 | 0.021 | 0.383 | |
| combine-methods | 0.322 | 0.022 | 0.346 | |
| decompose.gs.group | 0.721 | 0.012 | 0.734 | |
| decompose.gs.ind | 0.191 | 0.014 | 0.205 | |
| distMoa | 0.331 | 0.009 | 0.340 | |
| getmgsa | 0.158 | 0.015 | 0.175 | |
| matpower | 0.001 | 0.000 | 0.001 | |
| mbpca | 4.362 | 0.140 | 4.505 | |
| mgsa-class | 0.352 | 0.032 | 0.384 | |
| moGap | 2.736 | 0.043 | 2.781 | |
| moa-class | 0.093 | 0.004 | 0.098 | |
| moa | 0.878 | 0.072 | 0.992 | |
| moa.sup-class | 0.169 | 0.007 | 0.214 | |
| moaCoef | 0.437 | 0.007 | 0.446 | |
| moaScore | 0.469 | 0.009 | 0.479 | |
| mogsa-package | 0.369 | 0.014 | 0.383 | |
| mogsa | 0.533 | 0.026 | 0.559 | |
| pairwise.rv | 0.019 | 0.003 | 0.021 | |
| plotGS | 0.175 | 0.011 | 0.185 | |
| prepGraphite | 0.482 | 0.004 | 0.486 | |
| prepMsigDB | 0.004 | 0.000 | 0.004 | |
| prepSupMoa | 5.273 | 0.060 | 5.336 | |
| softK | 0.001 | 0.000 | 0.000 | |
| sup.moa | 0.577 | 0.021 | 0.598 | |
| wsvd | 0.001 | 0.001 | 0.002 | |