| Back to Multiple platform build/check report for BioC 3.14 |
|
This page was generated on 2022-04-13 12:05:35 -0400 (Wed, 13 Apr 2022).
| Hostname | OS | Arch (*) | R version | Installed pkgs |
|---|---|---|---|---|
| nebbiolo2 | Linux (Ubuntu 20.04.4 LTS) | x86_64 | 4.1.3 (2022-03-10) -- "One Push-Up" | 4324 |
| tokay2 | Windows Server 2012 R2 Standard | x64 | 4.1.3 (2022-03-10) -- "One Push-Up" | 4077 |
| machv2 | macOS 10.14.6 Mojave | x86_64 | 4.1.3 (2022-03-10) -- "One Push-Up" | 4137 |
| Click on any hostname to see more info about the system (e.g. compilers) (*) as reported by 'uname -p', except on Windows and Mac OS X | ||||
|
To the developers/maintainers of the metagenomeSeq package: - Please allow up to 24 hours (and sometimes 48 hours) for your latest push to git@git.bioconductor.org:packages/metagenomeSeq.git to reflect on this report. See How and When does the builder pull? When will my changes propagate? for more information. - Make sure to use the following settings in order to reproduce any error or warning you see on this page. |
| Package 1099/2083 | Hostname | OS / Arch | INSTALL | BUILD | CHECK | BUILD BIN | ||||||||
| metagenomeSeq 1.36.0 (landing page) Joseph N. Paulson
| nebbiolo2 | Linux (Ubuntu 20.04.4 LTS) / x86_64 | OK | OK | OK | |||||||||
| tokay2 | Windows Server 2012 R2 Standard / x64 | OK | OK | OK | OK | |||||||||
| machv2 | macOS 10.14.6 Mojave / x86_64 | OK | OK | OK | OK | |||||||||
| Package: metagenomeSeq |
| Version: 1.36.0 |
| Command: /home/biocbuild/bbs-3.14-bioc/R/bin/R CMD check --install=check:metagenomeSeq.install-out.txt --library=/home/biocbuild/bbs-3.14-bioc/R/library --no-vignettes --timings metagenomeSeq_1.36.0.tar.gz |
| StartedAt: 2022-04-12 08:08:28 -0400 (Tue, 12 Apr 2022) |
| EndedAt: 2022-04-12 08:11:46 -0400 (Tue, 12 Apr 2022) |
| EllapsedTime: 197.9 seconds |
| RetCode: 0 |
| Status: OK |
| CheckDir: metagenomeSeq.Rcheck |
| Warnings: 0 |
##############################################################################
##############################################################################
###
### Running command:
###
### /home/biocbuild/bbs-3.14-bioc/R/bin/R CMD check --install=check:metagenomeSeq.install-out.txt --library=/home/biocbuild/bbs-3.14-bioc/R/library --no-vignettes --timings metagenomeSeq_1.36.0.tar.gz
###
##############################################################################
##############################################################################
* using log directory ‘/home/biocbuild/bbs-3.14-bioc/meat/metagenomeSeq.Rcheck’
* using R version 4.1.3 (2022-03-10)
* using platform: x86_64-pc-linux-gnu (64-bit)
* using session charset: UTF-8
* using option ‘--no-vignettes’
* checking for file ‘metagenomeSeq/DESCRIPTION’ ... OK
* this is package ‘metagenomeSeq’ version ‘1.36.0’
* checking package namespace information ... OK
* checking package dependencies ... OK
* checking if this is a source package ... OK
* checking if there is a namespace ... OK
* checking for hidden files and directories ... OK
* checking for portable file names ... OK
* checking for sufficient/correct file permissions ... OK
* checking whether package ‘metagenomeSeq’ can be installed ... OK
* checking installed package size ... OK
* checking package directory ... OK
* checking ‘build’ directory ... OK
* checking DESCRIPTION meta-information ... OK
* checking top-level files ... OK
* checking for left-over files ... OK
* checking index information ... OK
* checking package subdirectories ... OK
* checking R files for non-ASCII characters ... OK
* checking R files for syntax errors ... OK
* checking whether the package can be loaded ... OK
* checking whether the package can be loaded with stated dependencies ... OK
* checking whether the package can be unloaded cleanly ... OK
* checking whether the namespace can be loaded with stated dependencies ... OK
* checking whether the namespace can be unloaded cleanly ... OK
* checking dependencies in R code ... OK
* checking S3 generic/method consistency ... OK
* checking replacement functions ... OK
* checking foreign function calls ... OK
* checking R code for possible problems ... OK
* checking Rd files ... OK
* checking Rd metadata ... OK
* checking Rd cross-references ... OK
* checking for missing documentation entries ... OK
* checking for code/documentation mismatches ... OK
* checking Rd \usage sections ... OK
* checking Rd contents ... OK
* checking for unstated dependencies in examples ... OK
* checking contents of ‘data’ directory ... OK
* checking data for non-ASCII characters ... OK
* checking data for ASCII and uncompressed saves ... OK
* checking files in ‘vignettes’ ... OK
* checking examples ... OK
Examples with CPU (user + system) or elapsed time > 5s
user system elapsed
wrenchNorm 12.218 0.196 12.414
* checking for unstated dependencies in ‘tests’ ... OK
* checking tests ...
Running ‘testthat.R’
OK
* checking for unstated dependencies in vignettes ... OK
* checking package vignettes in ‘inst/doc’ ... OK
* checking running R code from vignettes ... SKIPPED
* checking re-building of vignette outputs ... SKIPPED
* checking PDF version of manual ... OK
* DONE
Status: OK
metagenomeSeq.Rcheck/00install.out
############################################################################## ############################################################################## ### ### Running command: ### ### /home/biocbuild/bbs-3.14-bioc/R/bin/R CMD INSTALL metagenomeSeq ### ############################################################################## ############################################################################## * installing to library ‘/home/biocbuild/bbs-3.14-bioc/R/library’ * installing *source* package ‘metagenomeSeq’ ... ** using staged installation ** R ** data ** inst ** byte-compile and prepare package for lazy loading in method for ‘MRihw’ with signature ‘"fitFeatureModelResults"’: no definition for class “fitFeatureModelResults” in method for ‘MRihw’ with signature ‘"fitZigResults"’: no definition for class “fitZigResults” ** help *** installing help indices ** building package indices ** installing vignettes ** testing if installed package can be loaded from temporary location ** testing if installed package can be loaded from final location ** testing if installed package keeps a record of temporary installation path * DONE (metagenomeSeq)
metagenomeSeq.Rcheck/tests/testthat.Rout
R version 4.1.3 (2022-03-10) -- "One Push-Up"
Copyright (C) 2022 The R Foundation for Statistical Computing
Platform: x86_64-pc-linux-gnu (64-bit)
R is free software and comes with ABSOLUTELY NO WARRANTY.
You are welcome to redistribute it under certain conditions.
Type 'license()' or 'licence()' for distribution details.
R is a collaborative project with many contributors.
Type 'contributors()' for more information and
'citation()' on how to cite R or R packages in publications.
Type 'demo()' for some demos, 'help()' for on-line help, or
'help.start()' for an HTML browser interface to help.
Type 'q()' to quit R.
> library("testthat")
> packageVersion("metagenomeSeq")
[1] '1.36.0'
> # As suggested for opt-out option on testing by users,
> # recommended by CRAN: http://adv-r.had.co.nz/Testing.html
> # Previously, best practice was to put all test files in inst/tests
> # and ensure that R CMD check ran them by putting the following code in tests/test-all.R:
> # >library(testthat)
> # >library(yourpackage)
> # >test_package("yourpackage")
> # Now, recommended practice is to put your tests in tests/testthat,
> # and ensure R CMD check runs them by putting the following code in tests/test-all.R:
> # >library(testthat)
> # >test_check("yourpackage")
> # The advantage of this new structure is that the user has control over whether or not tests are installed using the –install-tests parameter to
> # R CMD install, or INSTALL_opts = c(“–install-tests”) argument to install.packages(). I’m not sure why you wouldn’t want to install the tests,
> # but now you have the flexibility as requested by CRAN maintainers.
> test_check("metagenomeSeq")
Loading required package: metagenomeSeq
Loading required package: Biobase
Loading required package: BiocGenerics
Attaching package: 'BiocGenerics'
The following objects are masked from 'package:stats':
IQR, mad, sd, var, xtabs
The following objects are masked from 'package:base':
Filter, Find, Map, Position, Reduce, anyDuplicated, append,
as.data.frame, basename, cbind, colnames, dirname, do.call,
duplicated, eval, evalq, get, grep, grepl, intersect, is.unsorted,
lapply, mapply, match, mget, order, paste, pmax, pmax.int, pmin,
pmin.int, rank, rbind, rownames, sapply, setdiff, sort, table,
tapply, union, unique, unsplit, which.max, which.min
Welcome to Bioconductor
Vignettes contain introductory material; view with
'browseVignettes()'. To cite Bioconductor, see
'citation("Biobase")', and for packages 'citation("pkgname")'.
Loading required package: limma
Attaching package: 'limma'
The following object is masked from 'package:BiocGenerics':
plotMA
Loading required package: glmnet
Loading required package: Matrix
Loaded glmnet 4.1-3
Loading required package: RColorBrewer
[ FAIL 0 | WARN 6 | SKIP 0 | PASS 15 ]
[ FAIL 0 | WARN 6 | SKIP 0 | PASS 15 ]
>
> proc.time()
user system elapsed
80.621 2.120 82.729
metagenomeSeq.Rcheck/metagenomeSeq-Ex.timings
| name | user | system | elapsed | |
| MRcoefs | 1.172 | 0.120 | 1.292 | |
| MRcounts | 0.529 | 0.016 | 0.545 | |
| MRexperiment-class | 0.001 | 0.000 | 0.001 | |
| MRfulltable | 1.043 | 0.034 | 4.896 | |
| MRtable | 0.922 | 0.000 | 0.922 | |
| aggregateBySample | 0.140 | 0.008 | 0.147 | |
| aggregateByTaxonomy | 0.149 | 0.008 | 0.156 | |
| biom2MRexperiment | 0.200 | 0.004 | 0.203 | |
| calcNormFactors | 0.447 | 0.020 | 0.466 | |
| correctIndices | 0.112 | 0.000 | 0.111 | |
| correlationTest | 0.431 | 0.015 | 0.447 | |
| cumNorm | 0.426 | 0.003 | 0.430 | |
| cumNormMat | 0.454 | 0.020 | 0.474 | |
| cumNormStat | 0.448 | 0.016 | 0.463 | |
| cumNormStatFast | 0.312 | 0.000 | 0.312 | |
| expSummary | 0.090 | 0.013 | 0.102 | |
| exportMat | 0.757 | 0.639 | 1.396 | |
| exportStats | 0.406 | 0.004 | 0.410 | |
| extractMR | 0.549 | 0.277 | 0.825 | |
| filterData | 0.155 | 0.011 | 0.167 | |
| fitDO | 0.351 | 0.011 | 2.608 | |
| fitFeatureModel | 0.843 | 0.008 | 0.851 | |
| fitLogNormal | 1.818 | 0.012 | 1.830 | |
| fitMultipleTimeSeries | 1.666 | 0.024 | 1.690 | |
| fitPA | 0.358 | 0.011 | 2.662 | |
| fitSSTimeSeries | 0.406 | 0.008 | 0.415 | |
| fitTimeSeries | 0.423 | 0.007 | 0.432 | |
| fitZig | 1.811 | 0.020 | 1.832 | |
| libSize-set | 0.321 | 0.012 | 0.333 | |
| libSize | 0.273 | 0.016 | 0.289 | |
| loadBiom | 0.034 | 0.000 | 0.033 | |
| loadMeta | 0.014 | 0.000 | 0.014 | |
| loadMetaQ | 0 | 0 | 0 | |
| loadPhenoData | 0.007 | 0.000 | 0.007 | |
| makeLabels | 0.001 | 0.000 | 0.000 | |
| mergeMRexperiments | 1.514 | 0.164 | 1.678 | |
| newMRexperiment | 0.025 | 0.000 | 0.024 | |
| normFactors-set | 0.506 | 0.028 | 0.535 | |
| normFactors | 0.278 | 0.008 | 0.286 | |
| plotBubble | 0.289 | 0.008 | 2.599 | |
| plotClassTimeSeries | 0.916 | 0.068 | 0.984 | |
| plotCorr | 0.397 | 0.016 | 0.413 | |
| plotFeature | 0.122 | 0.020 | 0.142 | |
| plotGenus | 0.111 | 0.012 | 0.123 | |
| plotMRheatmap | 1.627 | 0.048 | 1.675 | |
| plotOTU | 0.118 | 0.012 | 0.129 | |
| plotOrd | 0.204 | 0.004 | 0.208 | |
| plotRare | 0.104 | 0.028 | 0.133 | |
| plotTimeSeries | 0.959 | 0.016 | 0.975 | |
| posteriorProbs | 1.641 | 0.060 | 1.701 | |
| returnAppropriateObj | 0.317 | 0.000 | 0.317 | |
| ssFit | 0 | 0 | 0 | |
| ssIntervalCandidate | 0 | 0 | 0 | |
| ssPerm | 0 | 0 | 0 | |
| ssPermAnalysis | 0 | 0 | 0 | |
| trapz | 0 | 0 | 0 | |
| ts2MRexperiment | 1.517 | 0.020 | 1.537 | |
| uniqueFeatures | 0.105 | 0.000 | 0.106 | |
| wrenchNorm | 12.218 | 0.196 | 12.414 | |
| zigControl | 0 | 0 | 0 | |