| Back to Multiple platform build/check report for BioC 3.14 |
|
This page was generated on 2022-04-13 12:08:18 -0400 (Wed, 13 Apr 2022).
| Hostname | OS | Arch (*) | R version | Installed pkgs |
|---|---|---|---|---|
| nebbiolo2 | Linux (Ubuntu 20.04.4 LTS) | x86_64 | 4.1.3 (2022-03-10) -- "One Push-Up" | 4324 |
| tokay2 | Windows Server 2012 R2 Standard | x64 | 4.1.3 (2022-03-10) -- "One Push-Up" | 4077 |
| machv2 | macOS 10.14.6 Mojave | x86_64 | 4.1.3 (2022-03-10) -- "One Push-Up" | 4137 |
| Click on any hostname to see more info about the system (e.g. compilers) (*) as reported by 'uname -p', except on Windows and Mac OS X | ||||
|
To the developers/maintainers of the metagenomeSeq package: - Please allow up to 24 hours (and sometimes 48 hours) for your latest push to git@git.bioconductor.org:packages/metagenomeSeq.git to reflect on this report. See How and When does the builder pull? When will my changes propagate? for more information. - Make sure to use the following settings in order to reproduce any error or warning you see on this page. |
| Package 1099/2083 | Hostname | OS / Arch | INSTALL | BUILD | CHECK | BUILD BIN | ||||||||
| metagenomeSeq 1.36.0 (landing page) Joseph N. Paulson
| nebbiolo2 | Linux (Ubuntu 20.04.4 LTS) / x86_64 | OK | OK | OK | |||||||||
| tokay2 | Windows Server 2012 R2 Standard / x64 | OK | OK | OK | OK | |||||||||
| machv2 | macOS 10.14.6 Mojave / x86_64 | OK | OK | OK | OK | |||||||||
| Package: metagenomeSeq |
| Version: 1.36.0 |
| Command: /Library/Frameworks/R.framework/Resources/bin/R CMD check --install=check:metagenomeSeq.install-out.txt --library=/Library/Frameworks/R.framework/Resources/library --no-vignettes --timings metagenomeSeq_1.36.0.tar.gz |
| StartedAt: 2022-04-12 15:12:02 -0400 (Tue, 12 Apr 2022) |
| EndedAt: 2022-04-12 15:18:16 -0400 (Tue, 12 Apr 2022) |
| EllapsedTime: 373.4 seconds |
| RetCode: 0 |
| Status: OK |
| CheckDir: metagenomeSeq.Rcheck |
| Warnings: 0 |
##############################################################################
##############################################################################
###
### Running command:
###
### /Library/Frameworks/R.framework/Resources/bin/R CMD check --install=check:metagenomeSeq.install-out.txt --library=/Library/Frameworks/R.framework/Resources/library --no-vignettes --timings metagenomeSeq_1.36.0.tar.gz
###
##############################################################################
##############################################################################
* using log directory ‘/Users/biocbuild/bbs-3.14-bioc/meat/metagenomeSeq.Rcheck’
* using R version 4.1.3 (2022-03-10)
* using platform: x86_64-apple-darwin17.0 (64-bit)
* using session charset: UTF-8
* using option ‘--no-vignettes’
* checking for file ‘metagenomeSeq/DESCRIPTION’ ... OK
* this is package ‘metagenomeSeq’ version ‘1.36.0’
* checking package namespace information ... OK
* checking package dependencies ... OK
* checking if this is a source package ... OK
* checking if there is a namespace ... OK
* checking for hidden files and directories ... OK
* checking for portable file names ... OK
* checking for sufficient/correct file permissions ... OK
* checking whether package ‘metagenomeSeq’ can be installed ... OK
* checking installed package size ... OK
* checking package directory ... OK
* checking ‘build’ directory ... OK
* checking DESCRIPTION meta-information ... OK
* checking top-level files ... OK
* checking for left-over files ... OK
* checking index information ... OK
* checking package subdirectories ... OK
* checking R files for non-ASCII characters ... OK
* checking R files for syntax errors ... OK
* checking whether the package can be loaded ... OK
* checking whether the package can be loaded with stated dependencies ... OK
* checking whether the package can be unloaded cleanly ... OK
* checking whether the namespace can be loaded with stated dependencies ... OK
* checking whether the namespace can be unloaded cleanly ... OK
* checking dependencies in R code ... OK
* checking S3 generic/method consistency ... OK
* checking replacement functions ... OK
* checking foreign function calls ... OK
* checking R code for possible problems ... OK
* checking Rd files ... OK
* checking Rd metadata ... OK
* checking Rd cross-references ... OK
* checking for missing documentation entries ... OK
* checking for code/documentation mismatches ... OK
* checking Rd \usage sections ... OK
* checking Rd contents ... OK
* checking for unstated dependencies in examples ... OK
* checking contents of ‘data’ directory ... OK
* checking data for non-ASCII characters ... OK
* checking data for ASCII and uncompressed saves ... OK
* checking sizes of PDF files under ‘inst/doc’ ... OK
* checking files in ‘vignettes’ ... OK
* checking examples ... OK
Examples with CPU (user + system) or elapsed time > 5s
user system elapsed
wrenchNorm 25.473 1.368 26.871
exportMat 1.897 4.428 6.514
MRfulltable 1.651 0.065 8.544
fitDO 0.660 0.028 5.076
* checking for unstated dependencies in ‘tests’ ... OK
* checking tests ...
Running ‘testthat.R’
OK
* checking for unstated dependencies in vignettes ... OK
* checking package vignettes in ‘inst/doc’ ... OK
* checking running R code from vignettes ... SKIPPED
* checking re-building of vignette outputs ... SKIPPED
* checking PDF version of manual ... OK
* DONE
Status: OK
metagenomeSeq.Rcheck/00install.out
############################################################################## ############################################################################## ### ### Running command: ### ### /Library/Frameworks/R.framework/Resources/bin/R CMD INSTALL metagenomeSeq ### ############################################################################## ############################################################################## * installing to library ‘/Library/Frameworks/R.framework/Versions/4.1/Resources/library’ * installing *source* package ‘metagenomeSeq’ ... ** using staged installation ** R ** data ** inst ** byte-compile and prepare package for lazy loading in method for ‘MRihw’ with signature ‘"fitFeatureModelResults"’: no definition for class “fitFeatureModelResults” in method for ‘MRihw’ with signature ‘"fitZigResults"’: no definition for class “fitZigResults” ** help *** installing help indices ** building package indices ** installing vignettes ** testing if installed package can be loaded from temporary location ** testing if installed package can be loaded from final location ** testing if installed package keeps a record of temporary installation path * DONE (metagenomeSeq)
metagenomeSeq.Rcheck/tests/testthat.Rout
R version 4.1.3 (2022-03-10) -- "One Push-Up"
Copyright (C) 2022 The R Foundation for Statistical Computing
Platform: x86_64-apple-darwin17.0 (64-bit)
R is free software and comes with ABSOLUTELY NO WARRANTY.
You are welcome to redistribute it under certain conditions.
Type 'license()' or 'licence()' for distribution details.
R is a collaborative project with many contributors.
Type 'contributors()' for more information and
'citation()' on how to cite R or R packages in publications.
Type 'demo()' for some demos, 'help()' for on-line help, or
'help.start()' for an HTML browser interface to help.
Type 'q()' to quit R.
> library("testthat")
> packageVersion("metagenomeSeq")
[1] '1.36.0'
> # As suggested for opt-out option on testing by users,
> # recommended by CRAN: http://adv-r.had.co.nz/Testing.html
> # Previously, best practice was to put all test files in inst/tests
> # and ensure that R CMD check ran them by putting the following code in tests/test-all.R:
> # >library(testthat)
> # >library(yourpackage)
> # >test_package("yourpackage")
> # Now, recommended practice is to put your tests in tests/testthat,
> # and ensure R CMD check runs them by putting the following code in tests/test-all.R:
> # >library(testthat)
> # >test_check("yourpackage")
> # The advantage of this new structure is that the user has control over whether or not tests are installed using the –install-tests parameter to
> # R CMD install, or INSTALL_opts = c(“–install-tests”) argument to install.packages(). I’m not sure why you wouldn’t want to install the tests,
> # but now you have the flexibility as requested by CRAN maintainers.
> test_check("metagenomeSeq")
Loading required package: metagenomeSeq
Loading required package: Biobase
Loading required package: BiocGenerics
Attaching package: 'BiocGenerics'
The following objects are masked from 'package:stats':
IQR, mad, sd, var, xtabs
The following objects are masked from 'package:base':
Filter, Find, Map, Position, Reduce, anyDuplicated, append,
as.data.frame, basename, cbind, colnames, dirname, do.call,
duplicated, eval, evalq, get, grep, grepl, intersect, is.unsorted,
lapply, mapply, match, mget, order, paste, pmax, pmax.int, pmin,
pmin.int, rank, rbind, rownames, sapply, setdiff, sort, table,
tapply, union, unique, unsplit, which.max, which.min
Welcome to Bioconductor
Vignettes contain introductory material; view with
'browseVignettes()'. To cite Bioconductor, see
'citation("Biobase")', and for packages 'citation("pkgname")'.
Loading required package: limma
Attaching package: 'limma'
The following object is masked from 'package:BiocGenerics':
plotMA
Loading required package: glmnet
Loading required package: Matrix
Loaded glmnet 4.1-3
Loading required package: RColorBrewer
[ FAIL 0 | WARN 6 | SKIP 0 | PASS 15 ]
[ FAIL 0 | WARN 6 | SKIP 0 | PASS 15 ]
>
> proc.time()
user system elapsed
149.476 7.611 157.174
metagenomeSeq.Rcheck/metagenomeSeq-Ex.timings
| name | user | system | elapsed | |
| MRcoefs | 2.055 | 0.121 | 2.176 | |
| MRcounts | 0.768 | 0.031 | 0.800 | |
| MRexperiment-class | 0 | 0 | 0 | |
| MRfulltable | 1.651 | 0.065 | 8.544 | |
| MRtable | 1.757 | 0.058 | 1.852 | |
| aggregateBySample | 0.303 | 0.016 | 0.319 | |
| aggregateByTaxonomy | 0.320 | 0.016 | 0.337 | |
| biom2MRexperiment | 0.345 | 0.014 | 0.360 | |
| calcNormFactors | 0.751 | 0.119 | 0.872 | |
| correctIndices | 0.216 | 0.029 | 0.244 | |
| correlationTest | 0.633 | 0.038 | 0.672 | |
| cumNorm | 0.716 | 0.091 | 0.809 | |
| cumNormMat | 0.820 | 0.139 | 0.960 | |
| cumNormStat | 0.759 | 0.070 | 0.829 | |
| cumNormStatFast | 0.517 | 0.029 | 0.547 | |
| expSummary | 0.190 | 0.038 | 0.229 | |
| exportMat | 1.897 | 4.428 | 6.514 | |
| exportStats | 0.711 | 0.026 | 0.737 | |
| extractMR | 1.830 | 1.917 | 3.836 | |
| filterData | 0.308 | 0.014 | 0.321 | |
| fitDO | 0.660 | 0.028 | 5.076 | |
| fitFeatureModel | 1.621 | 0.035 | 1.658 | |
| fitLogNormal | 2.671 | 0.241 | 2.915 | |
| fitMultipleTimeSeries | 2.439 | 0.233 | 2.674 | |
| fitPA | 0.666 | 0.028 | 4.957 | |
| fitSSTimeSeries | 0.700 | 0.061 | 0.761 | |
| fitTimeSeries | 0.579 | 0.059 | 0.638 | |
| fitZig | 2.481 | 0.190 | 2.673 | |
| libSize-set | 0.593 | 0.025 | 0.618 | |
| libSize | 0.563 | 0.024 | 0.587 | |
| loadBiom | 0.063 | 0.001 | 0.064 | |
| loadMeta | 0.030 | 0.002 | 0.032 | |
| loadMetaQ | 0.000 | 0.000 | 0.001 | |
| loadPhenoData | 0.016 | 0.001 | 0.018 | |
| makeLabels | 0.001 | 0.000 | 0.001 | |
| mergeMRexperiments | 2.015 | 0.171 | 2.187 | |
| newMRexperiment | 0.041 | 0.000 | 0.041 | |
| normFactors-set | 0.792 | 0.057 | 0.850 | |
| normFactors | 0.485 | 0.005 | 0.491 | |
| plotBubble | 0.445 | 0.019 | 4.589 | |
| plotClassTimeSeries | 1.490 | 0.345 | 1.836 | |
| plotCorr | 0.818 | 0.031 | 0.849 | |
| plotFeature | 0.189 | 0.012 | 0.203 | |
| plotGenus | 0.247 | 0.012 | 0.260 | |
| plotMRheatmap | 4.106 | 0.121 | 4.230 | |
| plotOTU | 0.271 | 0.011 | 0.283 | |
| plotOrd | 0.275 | 0.010 | 0.287 | |
| plotRare | 0.239 | 0.012 | 0.252 | |
| plotTimeSeries | 1.413 | 0.271 | 1.686 | |
| posteriorProbs | 2.074 | 0.179 | 2.255 | |
| returnAppropriateObj | 0.578 | 0.018 | 0.596 | |
| ssFit | 0.000 | 0.001 | 0.000 | |
| ssIntervalCandidate | 0.000 | 0.001 | 0.001 | |
| ssPerm | 0.000 | 0.001 | 0.001 | |
| ssPermAnalysis | 0.001 | 0.000 | 0.001 | |
| trapz | 0.000 | 0.001 | 0.002 | |
| ts2MRexperiment | 2.433 | 0.303 | 2.738 | |
| uniqueFeatures | 0.229 | 0.012 | 0.240 | |
| wrenchNorm | 25.473 | 1.368 | 26.871 | |
| zigControl | 0 | 0 | 0 | |