| Back to Multiple platform build/check report for BioC 3.14 |
|
This page was generated on 2022-04-13 12:06:41 -0400 (Wed, 13 Apr 2022).
| Hostname | OS | Arch (*) | R version | Installed pkgs |
|---|---|---|---|---|
| nebbiolo2 | Linux (Ubuntu 20.04.4 LTS) | x86_64 | 4.1.3 (2022-03-10) -- "One Push-Up" | 4324 |
| tokay2 | Windows Server 2012 R2 Standard | x64 | 4.1.3 (2022-03-10) -- "One Push-Up" | 4077 |
| machv2 | macOS 10.14.6 Mojave | x86_64 | 4.1.3 (2022-03-10) -- "One Push-Up" | 4137 |
| Click on any hostname to see more info about the system (e.g. compilers) (*) as reported by 'uname -p', except on Windows and Mac OS X | ||||
|
To the developers/maintainers of the gwascat package: - Please allow up to 24 hours (and sometimes 48 hours) for your latest push to git@git.bioconductor.org:packages/gwascat.git to reflect on this report. See How and When does the builder pull? When will my changes propagate? for more information. - Make sure to use the following settings in order to reproduce any error or warning you see on this page. |
| Package 846/2083 | Hostname | OS / Arch | INSTALL | BUILD | CHECK | BUILD BIN | ||||||||
| gwascat 2.26.0 (landing page) VJ Carey
| nebbiolo2 | Linux (Ubuntu 20.04.4 LTS) / x86_64 | OK | OK | OK | |||||||||
| tokay2 | Windows Server 2012 R2 Standard / x64 | OK | OK | OK | OK | |||||||||
| machv2 | macOS 10.14.6 Mojave / x86_64 | OK | OK | OK | OK | |||||||||
| Package: gwascat |
| Version: 2.26.0 |
| Command: C:\Users\biocbuild\bbs-3.14-bioc\R\bin\R.exe CMD check --force-multiarch --install=check:gwascat.install-out.txt --library=C:\Users\biocbuild\bbs-3.14-bioc\R\library --no-vignettes --timings gwascat_2.26.0.tar.gz |
| StartedAt: 2022-04-12 20:58:07 -0400 (Tue, 12 Apr 2022) |
| EndedAt: 2022-04-12 21:10:58 -0400 (Tue, 12 Apr 2022) |
| EllapsedTime: 771.6 seconds |
| RetCode: 0 |
| Status: OK |
| CheckDir: gwascat.Rcheck |
| Warnings: 0 |
##############################################################################
##############################################################################
###
### Running command:
###
### C:\Users\biocbuild\bbs-3.14-bioc\R\bin\R.exe CMD check --force-multiarch --install=check:gwascat.install-out.txt --library=C:\Users\biocbuild\bbs-3.14-bioc\R\library --no-vignettes --timings gwascat_2.26.0.tar.gz
###
##############################################################################
##############################################################################
* using log directory 'C:/Users/biocbuild/bbs-3.14-bioc/meat/gwascat.Rcheck'
* using R version 4.1.3 (2022-03-10)
* using platform: x86_64-w64-mingw32 (64-bit)
* using session charset: ISO8859-1
* using option '--no-vignettes'
* checking for file 'gwascat/DESCRIPTION' ... OK
* this is package 'gwascat' version '2.26.0'
* package encoding: UTF-8
* checking package namespace information ... OK
* checking package dependencies ... OK
* checking if this is a source package ... OK
* checking if there is a namespace ... OK
* checking for hidden files and directories ... OK
* checking for portable file names ... OK
* checking whether package 'gwascat' can be installed ... OK
* checking installed package size ... NOTE
installed size is 34.2Mb
sub-directories of 1Mb or more:
data 10.1Mb
legacy 15.6Mb
obo 3.0Mb
olddata 2.2Mb
tab 1.1Mb
* checking package directory ... OK
* checking 'build' directory ... OK
* checking DESCRIPTION meta-information ... NOTE
Package listed in more than one of Depends, Imports, Suggests, Enhances:
'IRanges'
A package should be listed in only one of these fields.
* checking top-level files ... OK
* checking for left-over files ... OK
* checking index information ... OK
* checking package subdirectories ... OK
* checking R files for non-ASCII characters ... OK
* checking R files for syntax errors ... OK
* loading checks for arch 'i386'
** checking whether the package can be loaded ... OK
** checking whether the package can be loaded with stated dependencies ... OK
** checking whether the package can be unloaded cleanly ... OK
** checking whether the namespace can be loaded with stated dependencies ... OK
** checking whether the namespace can be unloaded cleanly ... OK
* loading checks for arch 'x64'
** checking whether the package can be loaded ... OK
** checking whether the package can be loaded with stated dependencies ... OK
** checking whether the package can be unloaded cleanly ... OK
** checking whether the namespace can be loaded with stated dependencies ... OK
** checking whether the namespace can be unloaded cleanly ... OK
* checking dependencies in R code ... OK
* checking S3 generic/method consistency ... OK
* checking replacement functions ... OK
* checking foreign function calls ... OK
* checking R code for possible problems ... NOTE
addSeqlengths: no visible global function definition for 'seqlengths'
addSeqlengths: no visible global function definition for 'seqlengths<-'
bindcadd_snv: no visible global function definition for 'TabixFile'
bindcadd_snv: no visible global function definition for 'findOverlaps'
buildq: no visible global function definition for 'read.delim'
chklocs: no visible binding for global variable 'gwrngs19'
chklocs: no visible global function definition for 'snpsBySeqname'
gwascat_from_AHub: no visible global function definition for 'data'
gwascat_from_AHub: no visible binding for global variable 'si.hs.38'
gwascat_from_AHub: no visible global function definition for
'sessionInfo'
gwcat_snapshot: no visible global function definition for 'data'
gwcat_snapshot: no visible binding for global variable 'si.hs.38'
gwcat_snapshot: no visible global function definition for 'sessionInfo'
lo38to19: no visible global function definition for 'liftOver'
lo38to19: no visible global function definition for 'sessionInfo'
lo38to19: no visible global function definition for 'data'
lo38to19: no visible binding for global variable 'si.hs.37'
makeCurrentGwascat: no visible global function definition for
'download.file'
makeCurrentGwascat: no visible global function definition for 'data'
makeCurrentGwascat: no visible binding for global variable 'si.hs.38'
makeCurrentGwascat: no visible global function definition for
'sessionInfo'
process_gwas_dataframe: no visible global function definition for
'data'
process_gwas_dataframe: no visible binding for global variable
'si.hs.38'
process_gwas_dataframe: no visible global function definition for
'sessionInfo'
snpGenos: no visible global function definition for 'getSNPlocs'
tfilt: no visible binding for global variable 'phr'
tpad: no visible binding for global variable 'phr'
traitsManh: no visible global function definition for 'aes'
traitsManh: no visible binding for global variable 'PVALUE_MLOG'
variantProps: no visible binding for global variable 'gwrngs'
Undefined global functions or variables:
PVALUE_MLOG TabixFile aes data download.file findOverlaps getSNPlocs
gwrngs gwrngs19 liftOver phr read.delim seqlengths seqlengths<-
sessionInfo si.hs.37 si.hs.38 snpsBySeqname
Consider adding
importFrom("utils", "data", "download.file", "read.delim",
"sessionInfo")
to your NAMESPACE file.
* checking Rd files ... OK
* checking Rd metadata ... OK
* checking Rd cross-references ... OK
* checking for missing documentation entries ... OK
* checking for code/documentation mismatches ... OK
* checking Rd \usage sections ... OK
* checking Rd contents ... OK
* checking for unstated dependencies in examples ... OK
* checking contents of 'data' directory ... OK
* checking data for non-ASCII characters ... NOTE
Note: found 2 marked Latin-1 strings
Note: found 2075 marked UTF-8 strings
* checking data for ASCII and uncompressed saves ... OK
* checking files in 'vignettes' ... OK
* checking examples ...
** running examples for arch 'i386' ... OK
Examples with CPU (user + system) or elapsed time > 5s
user system elapsed
gwascat_from_AHub 53.35 1.55 56.19
gwcat_snapshot 52.33 2.34 55.34
gwcex2gviz 9.31 0.31 9.63
gg17N 8.63 0.08 8.70
** running examples for arch 'x64' ... OK
Examples with CPU (user + system) or elapsed time > 5s
user system elapsed
gwascat_from_AHub 54.14 0.84 62.86
gwcat_snapshot 52.60 0.72 55.57
gwcex2gviz 10.90 0.22 11.27
gg17N 9.86 0.11 11.19
* checking for unstated dependencies in 'tests' ... OK
* checking tests ...
** running tests for arch 'i386' ...
Running 'testthat.R'
OK
** running tests for arch 'x64' ...
Running 'testthat.R'
OK
* checking for unstated dependencies in vignettes ... OK
* checking package vignettes in 'inst/doc' ... OK
* checking running R code from vignettes ... SKIPPED
* checking re-building of vignette outputs ... SKIPPED
* checking PDF version of manual ... OK
* DONE
Status: 4 NOTEs
See
'C:/Users/biocbuild/bbs-3.14-bioc/meat/gwascat.Rcheck/00check.log'
for details.
gwascat.Rcheck/00install.out
##############################################################################
##############################################################################
###
### Running command:
###
### C:\cygwin\bin\curl.exe -O http://155.52.207.166/BBS/3.14/bioc/src/contrib/gwascat_2.26.0.tar.gz && rm -rf gwascat.buildbin-libdir && mkdir gwascat.buildbin-libdir && C:\Users\biocbuild\bbs-3.14-bioc\R\bin\R.exe CMD INSTALL --merge-multiarch --build --library=gwascat.buildbin-libdir gwascat_2.26.0.tar.gz && C:\Users\biocbuild\bbs-3.14-bioc\R\bin\R.exe CMD INSTALL gwascat_2.26.0.zip && rm gwascat_2.26.0.tar.gz gwascat_2.26.0.zip
###
##############################################################################
##############################################################################
% Total % Received % Xferd Average Speed Time Time Time Current
Dload Upload Total Spent Left Speed
0 0 0 0 0 0 0 0 --:--:-- --:--:-- --:--:-- 0
1 32.8M 1 614k 0 0 1253k 0 0:00:26 --:--:-- 0:00:26 1253k
8 32.8M 8 2929k 0 0 1967k 0 0:00:17 0:00:01 0:00:16 1967k
18 32.8M 18 6178k 0 0 2479k 0 0:00:13 0:00:02 0:00:11 2479k
28 32.8M 28 9472k 0 0 2711k 0 0:00:12 0:00:03 0:00:09 2711k
36 32.8M 36 12.0M 0 0 2753k 0 0:00:12 0:00:04 0:00:08 2753k
47 32.8M 47 15.4M 0 0 2889k 0 0:00:11 0:00:05 0:00:06 3050k
55 32.8M 55 18.0M 0 0 2852k 0 0:00:11 0:00:06 0:00:05 3116k
65 32.8M 65 21.5M 0 0 2945k 0 0:00:11 0:00:07 0:00:04 3178k
78 32.8M 78 25.9M 0 0 3125k 0 0:00:10 0:00:08 0:00:02 3413k
94 32.8M 94 31.1M 0 0 3364k 0 0:00:09 0:00:09 --:--:-- 3914k
100 32.8M 100 32.8M 0 0 3443k 0 0:00:09 0:00:09 --:--:-- 4157k
install for i386
* installing *source* package 'gwascat' ...
** using staged installation
** R
** data
** inst
** byte-compile and prepare package for lazy loading
** help
*** installing help indices
converting help for package 'gwascat'
finding HTML links ... done
bindcadd_snv html
chklocs html
ebicat_2020_04_30 html
g17SM html
getRsids-gwaswloc-method html
getRsids html
getTraits-gwaswloc-method html
getTraits html
get_cached_gwascat html
gg17N html
gr6.0_hg38 html
gw6.rs_17 html
gwascat_from_AHub html
gwastagger html
gwaswloc-class html
gwcat_snapshot html
gwcex2gviz html
ldtagr html
locon6 html
locs4trait html
low17 html
makeCurrentGwascat html
obo2graphNEL html
process_gwas_dataframe html
riskyAlleleCount html
si.hs.37 html
si.hs.38 html
sub-gwaswloc-ANY-ANY-ANY-method html
subsetByChromosome-gwaswloc-method html
subsetByChromosome html
subsetByTraits-gwaswloc-method html
subsetByTraits html
topTraits html
traitsManh html
** building package indices
** installing vignettes
** testing if installed package can be loaded from temporary location
** testing if installed package can be loaded from final location
** testing if installed package keeps a record of temporary installation path
install for x64
* installing *source* package 'gwascat' ...
** testing if installed package can be loaded
* MD5 sums
packaged installation of 'gwascat' as gwascat_2.26.0.zip
* DONE (gwascat)
* installing to library 'C:/Users/biocbuild/bbs-3.14-bioc/R/library'
package 'gwascat' successfully unpacked and MD5 sums checked
|
gwascat.Rcheck/tests_i386/testthat.Rout
R version 4.1.3 (2022-03-10) -- "One Push-Up"
Copyright (C) 2022 The R Foundation for Statistical Computing
Platform: i386-w64-mingw32/i386 (32-bit)
R is free software and comes with ABSOLUTELY NO WARRANTY.
You are welcome to redistribute it under certain conditions.
Type 'license()' or 'licence()' for distribution details.
R is a collaborative project with many contributors.
Type 'contributors()' for more information and
'citation()' on how to cite R or R packages in publications.
Type 'demo()' for some demos, 'help()' for on-line help, or
'help.start()' for an HTML browser interface to help.
Type 'q()' to quit R.
> library(testthat)
>
> test_check("gwascat")
Loading required package: gwascat
gwascat loaded. Use makeCurrentGwascat() to extract current image.
from EBI. The data folder of this package has some legacy extracts.
[ FAIL 0 | WARN 0 | SKIP 0 | PASS 0 ]
>
>
> proc.time()
user system elapsed
11.48 1.18 12.65
|
gwascat.Rcheck/tests_x64/testthat.Rout
R version 4.1.3 (2022-03-10) -- "One Push-Up"
Copyright (C) 2022 The R Foundation for Statistical Computing
Platform: x86_64-w64-mingw32/x64 (64-bit)
R is free software and comes with ABSOLUTELY NO WARRANTY.
You are welcome to redistribute it under certain conditions.
Type 'license()' or 'licence()' for distribution details.
R is a collaborative project with many contributors.
Type 'contributors()' for more information and
'citation()' on how to cite R or R packages in publications.
Type 'demo()' for some demos, 'help()' for on-line help, or
'help.start()' for an HTML browser interface to help.
Type 'q()' to quit R.
> library(testthat)
>
> test_check("gwascat")
Loading required package: gwascat
gwascat loaded. Use makeCurrentGwascat() to extract current image.
from EBI. The data folder of this package has some legacy extracts.
[ FAIL 0 | WARN 0 | SKIP 0 | PASS 0 ]
>
>
> proc.time()
user system elapsed
14.34 0.50 15.01
|
|
gwascat.Rcheck/examples_i386/gwascat-Ex.timings
|
gwascat.Rcheck/examples_x64/gwascat-Ex.timings
|