| Back to Multiple platform build/check report for BioC 3.14 |
|
This page was generated on 2022-04-13 12:06:41 -0400 (Wed, 13 Apr 2022).
| Hostname | OS | Arch (*) | R version | Installed pkgs |
|---|---|---|---|---|
| nebbiolo2 | Linux (Ubuntu 20.04.4 LTS) | x86_64 | 4.1.3 (2022-03-10) -- "One Push-Up" | 4324 |
| tokay2 | Windows Server 2012 R2 Standard | x64 | 4.1.3 (2022-03-10) -- "One Push-Up" | 4077 |
| machv2 | macOS 10.14.6 Mojave | x86_64 | 4.1.3 (2022-03-10) -- "One Push-Up" | 4137 |
| Click on any hostname to see more info about the system (e.g. compilers) (*) as reported by 'uname -p', except on Windows and Mac OS X | ||||
|
To the developers/maintainers of the gwascat package: - Please allow up to 24 hours (and sometimes 48 hours) for your latest push to git@git.bioconductor.org:packages/gwascat.git to reflect on this report. See How and When does the builder pull? When will my changes propagate? for more information. - Make sure to use the following settings in order to reproduce any error or warning you see on this page. |
| Package 846/2083 | Hostname | OS / Arch | INSTALL | BUILD | CHECK | BUILD BIN | ||||||||
| gwascat 2.26.0 (landing page) VJ Carey
| nebbiolo2 | Linux (Ubuntu 20.04.4 LTS) / x86_64 | OK | OK | OK | |||||||||
| tokay2 | Windows Server 2012 R2 Standard / x64 | OK | OK | OK | OK | |||||||||
| machv2 | macOS 10.14.6 Mojave / x86_64 | OK | OK | OK | OK | |||||||||
| Package: gwascat |
| Version: 2.26.0 |
| Command: rm -rf gwascat.buildbin-libdir && mkdir gwascat.buildbin-libdir && C:\Users\biocbuild\bbs-3.14-bioc\R\bin\R.exe CMD INSTALL --merge-multiarch --build --library=gwascat.buildbin-libdir gwascat_2.26.0.tar.gz |
| StartedAt: 2022-04-13 06:23:22 -0400 (Wed, 13 Apr 2022) |
| EndedAt: 2022-04-13 06:25:01 -0400 (Wed, 13 Apr 2022) |
| EllapsedTime: 98.6 seconds |
| RetCode: 0 |
| Status: OK |
| PackageFile: gwascat_2.26.0.zip |
| PackageFileSize: 33.92 MiB |
##############################################################################
##############################################################################
###
### Running command:
###
### rm -rf gwascat.buildbin-libdir && mkdir gwascat.buildbin-libdir && C:\Users\biocbuild\bbs-3.14-bioc\R\bin\R.exe CMD INSTALL --merge-multiarch --build --library=gwascat.buildbin-libdir gwascat_2.26.0.tar.gz
###
##############################################################################
##############################################################################
install for i386
* installing *source* package 'gwascat' ...
** using staged installation
** R
** data
** inst
** byte-compile and prepare package for lazy loading
** help
*** installing help indices
converting help for package 'gwascat'
finding HTML links ... done
bindcadd_snv html
chklocs html
ebicat_2020_04_30 html
g17SM html
getRsids-gwaswloc-method html
getRsids html
getTraits-gwaswloc-method html
getTraits html
get_cached_gwascat html
gg17N html
gr6.0_hg38 html
gw6.rs_17 html
gwascat_from_AHub html
gwastagger html
gwaswloc-class html
gwcat_snapshot html
gwcex2gviz html
ldtagr html
locon6 html
locs4trait html
low17 html
makeCurrentGwascat html
obo2graphNEL html
process_gwas_dataframe html
riskyAlleleCount html
si.hs.37 html
si.hs.38 html
sub-gwaswloc-ANY-ANY-ANY-method html
subsetByChromosome-gwaswloc-method html
subsetByChromosome html
subsetByTraits-gwaswloc-method html
subsetByTraits html
topTraits html
traitsManh html
** building package indices
** installing vignettes
** testing if installed package can be loaded from temporary location
** testing if installed package can be loaded from final location
** testing if installed package keeps a record of temporary installation path
install for x64
* installing *source* package 'gwascat' ...
** testing if installed package can be loaded
* MD5 sums
packaged installation of 'gwascat' as gwascat_2.26.0.zip
* DONE (gwascat)