| Back to Multiple platform build/check report for BioC 3.14 |
|
This page was generated on 2022-04-13 12:06:27 -0400 (Wed, 13 Apr 2022).
| Hostname | OS | Arch (*) | R version | Installed pkgs |
|---|---|---|---|---|
| nebbiolo2 | Linux (Ubuntu 20.04.4 LTS) | x86_64 | 4.1.3 (2022-03-10) -- "One Push-Up" | 4324 |
| tokay2 | Windows Server 2012 R2 Standard | x64 | 4.1.3 (2022-03-10) -- "One Push-Up" | 4077 |
| machv2 | macOS 10.14.6 Mojave | x86_64 | 4.1.3 (2022-03-10) -- "One Push-Up" | 4137 |
| Click on any hostname to see more info about the system (e.g. compilers) (*) as reported by 'uname -p', except on Windows and Mac OS X | ||||
|
To the developers/maintainers of the diffloop package: - Please allow up to 24 hours (and sometimes 48 hours) for your latest push to git@git.bioconductor.org:packages/diffloop.git to reflect on this report. See How and When does the builder pull? When will my changes propagate? for more information. - Make sure to use the following settings in order to reproduce any error or warning you see on this page. |
| Package 509/2083 | Hostname | OS / Arch | INSTALL | BUILD | CHECK | BUILD BIN | ||||||||
| diffloop 1.22.0 (landing page) Caleb Lareau
| nebbiolo2 | Linux (Ubuntu 20.04.4 LTS) / x86_64 | OK | OK | OK | |||||||||
| tokay2 | Windows Server 2012 R2 Standard / x64 | OK | OK | WARNINGS | OK | |||||||||
| machv2 | macOS 10.14.6 Mojave / x86_64 | OK | OK | OK | OK | |||||||||
| Package: diffloop |
| Version: 1.22.0 |
| Command: rm -rf diffloop.buildbin-libdir && mkdir diffloop.buildbin-libdir && C:\Users\biocbuild\bbs-3.14-bioc\R\bin\R.exe CMD INSTALL --merge-multiarch --build --library=diffloop.buildbin-libdir diffloop_1.22.0.tar.gz |
| StartedAt: 2022-04-13 06:03:40 -0400 (Wed, 13 Apr 2022) |
| EndedAt: 2022-04-13 06:05:21 -0400 (Wed, 13 Apr 2022) |
| EllapsedTime: 100.6 seconds |
| RetCode: 0 |
| Status: OK |
| PackageFile: diffloop_1.22.0.zip |
| PackageFileSize: 1.623 MiB |
##############################################################################
##############################################################################
###
### Running command:
###
### rm -rf diffloop.buildbin-libdir && mkdir diffloop.buildbin-libdir && C:\Users\biocbuild\bbs-3.14-bioc\R\bin\R.exe CMD INSTALL --merge-multiarch --build --library=diffloop.buildbin-libdir diffloop_1.22.0.tar.gz
###
##############################################################################
##############################################################################
install for i386
* installing *source* package 'diffloop' ...
** using staged installation
** R
** inst
** byte-compile and prepare package for lazy loading
Warning: replacing previous import 'GenomicRanges::windows' by 'grDevices::windows' when loading 'diffloop'
** help
*** installing help indices
converting help for package 'diffloop'
finding HTML links ... done
addchr html
annotateAnchors html
annotateAnchors.bed html
annotateAnchors.bigwig html
annotateLoops html
annotateLoops.dge html
bedToGRanges html
calcLDSizeFactors html
callCCDs html
computeBoundaryScores html
diffloop html
dim-loops-method html
featureTest html
filterLoops html
filterSpanningLoops html
geneinfo html
getHumanGenes html
getHumanTSS html
getMouseGenes html
getMouseTSS html
head-loops-method html
human.genes html
interchromosomal html
intrachromosomal html
keepCTCFloops html
keepEPloops html
loopAssoc html
loopDistancePlot html
loopGenes html
loopMetrics html
loopPlot html
loopWidth html
loops-class html
loops.small html
loopsMake html
loopsMake.mango html
loopsSubset html
mangoCorrection html
manyLoopPlots html
mergeAnchors html
numAnchors html
numLoops html
padGRanges html
pcaPlot html
plotTopLoops html
quickAssoc html
quickAssocVoom html
removeRegion html
removeSelfLoops html
rmchr html
sampleNames-loops-method html
slidingWindowTest html
splitSamples html
sub-loops-numeric-numeric-missing-method
html
subsetLoops html
subsetRegion html
subsetRegionAB html
summary-loops-method html
tail-loops-method html
topLoops html
union-loops-loops-method html
updateLDGroups html
** building package indices
** installing vignettes
** testing if installed package can be loaded from temporary location
Warning: replacing previous import 'GenomicRanges::windows' by 'grDevices::windows' when loading 'diffloop'
** testing if installed package can be loaded from final location
Warning: replacing previous import 'GenomicRanges::windows' by 'grDevices::windows' when loading 'diffloop'
** testing if installed package keeps a record of temporary installation path
install for x64
* installing *source* package 'diffloop' ...
** testing if installed package can be loaded
Warning: replacing previous import 'GenomicRanges::windows' by 'grDevices::windows' when loading 'diffloop'
* MD5 sums
packaged installation of 'diffloop' as diffloop_1.22.0.zip
* DONE (diffloop)