| Back to Multiple platform build/check report for BioC 3.14 |
|
This page was generated on 2022-04-13 12:05:17 -0400 (Wed, 13 Apr 2022).
| Hostname | OS | Arch (*) | R version | Installed pkgs |
|---|---|---|---|---|
| nebbiolo2 | Linux (Ubuntu 20.04.4 LTS) | x86_64 | 4.1.3 (2022-03-10) -- "One Push-Up" | 4324 |
| tokay2 | Windows Server 2012 R2 Standard | x64 | 4.1.3 (2022-03-10) -- "One Push-Up" | 4077 |
| machv2 | macOS 10.14.6 Mojave | x86_64 | 4.1.3 (2022-03-10) -- "One Push-Up" | 4137 |
| Click on any hostname to see more info about the system (e.g. compilers) (*) as reported by 'uname -p', except on Windows and Mac OS X | ||||
|
To the developers/maintainers of the diffloop package: - Please allow up to 24 hours (and sometimes 48 hours) for your latest push to git@git.bioconductor.org:packages/diffloop.git to reflect on this report. See How and When does the builder pull? When will my changes propagate? for more information. - Make sure to use the following settings in order to reproduce any error or warning you see on this page. |
| Package 509/2083 | Hostname | OS / Arch | INSTALL | BUILD | CHECK | BUILD BIN | ||||||||
| diffloop 1.22.0 (landing page) Caleb Lareau
| nebbiolo2 | Linux (Ubuntu 20.04.4 LTS) / x86_64 | OK | OK | OK | |||||||||
| tokay2 | Windows Server 2012 R2 Standard / x64 | OK | OK | WARNINGS | OK | |||||||||
| machv2 | macOS 10.14.6 Mojave / x86_64 | OK | OK | OK | OK | |||||||||
| Package: diffloop |
| Version: 1.22.0 |
| Command: /home/biocbuild/bbs-3.14-bioc/R/bin/R CMD check --install=check:diffloop.install-out.txt --library=/home/biocbuild/bbs-3.14-bioc/R/library --no-vignettes --timings diffloop_1.22.0.tar.gz |
| StartedAt: 2022-04-12 07:11:05 -0400 (Tue, 12 Apr 2022) |
| EndedAt: 2022-04-12 07:14:57 -0400 (Tue, 12 Apr 2022) |
| EllapsedTime: 232.0 seconds |
| RetCode: 0 |
| Status: OK |
| CheckDir: diffloop.Rcheck |
| Warnings: 0 |
############################################################################## ############################################################################## ### ### Running command: ### ### /home/biocbuild/bbs-3.14-bioc/R/bin/R CMD check --install=check:diffloop.install-out.txt --library=/home/biocbuild/bbs-3.14-bioc/R/library --no-vignettes --timings diffloop_1.22.0.tar.gz ### ############################################################################## ############################################################################## * using log directory ‘/home/biocbuild/bbs-3.14-bioc/meat/diffloop.Rcheck’ * using R version 4.1.3 (2022-03-10) * using platform: x86_64-pc-linux-gnu (64-bit) * using session charset: UTF-8 * using option ‘--no-vignettes’ * checking for file ‘diffloop/DESCRIPTION’ ... OK * checking extension type ... Package * this is package ‘diffloop’ version ‘1.22.0’ * checking package namespace information ... OK * checking package dependencies ... OK * checking if this is a source package ... OK * checking if there is a namespace ... OK * checking for hidden files and directories ... NOTE Found the following hidden files and directories: .travis.yml These were most likely included in error. See section ‘Package structure’ in the ‘Writing R Extensions’ manual. * checking for portable file names ... OK * checking for sufficient/correct file permissions ... OK * checking whether package ‘diffloop’ can be installed ... OK * checking installed package size ... OK * checking package directory ... OK * checking ‘build’ directory ... OK * checking DESCRIPTION meta-information ... OK * checking top-level files ... OK * checking for left-over files ... OK * checking index information ... OK * checking package subdirectories ... OK * checking R files for non-ASCII characters ... OK * checking R files for syntax errors ... OK * checking whether the package can be loaded ... OK * checking whether the package can be loaded with stated dependencies ... OK * checking whether the package can be unloaded cleanly ... OK * checking whether the namespace can be loaded with stated dependencies ... OK * checking whether the namespace can be unloaded cleanly ... OK * checking dependencies in R code ... OK * checking S3 generic/method consistency ... OK * checking replacement functions ... OK * checking foreign function calls ... OK * checking R code for possible problems ... OK * checking Rd files ... OK * checking Rd metadata ... OK * checking Rd cross-references ... OK * checking for missing documentation entries ... OK * checking for code/documentation mismatches ... OK * checking Rd \usage sections ... OK * checking Rd contents ... OK * checking for unstated dependencies in examples ... OK * checking files in ‘vignettes’ ... OK * checking examples ... OK * checking for unstated dependencies in ‘tests’ ... OK * checking tests ... Running ‘testthat.R’ OK * checking for unstated dependencies in vignettes ... OK * checking package vignettes in ‘inst/doc’ ... OK * checking running R code from vignettes ... SKIPPED * checking re-building of vignette outputs ... SKIPPED * checking PDF version of manual ... OK * DONE Status: 1 NOTE See ‘/home/biocbuild/bbs-3.14-bioc/meat/diffloop.Rcheck/00check.log’ for details.
diffloop.Rcheck/00install.out
############################################################################## ############################################################################## ### ### Running command: ### ### /home/biocbuild/bbs-3.14-bioc/R/bin/R CMD INSTALL diffloop ### ############################################################################## ############################################################################## * installing to library ‘/home/biocbuild/bbs-3.14-bioc/R/library’ * installing *source* package ‘diffloop’ ... ** using staged installation ** R ** inst ** byte-compile and prepare package for lazy loading ** help *** installing help indices ** building package indices ** installing vignettes ** testing if installed package can be loaded from temporary location ** testing if installed package can be loaded from final location ** testing if installed package keeps a record of temporary installation path * DONE (diffloop)
diffloop.Rcheck/tests/testthat.Rout
R version 4.1.3 (2022-03-10) -- "One Push-Up"
Copyright (C) 2022 The R Foundation for Statistical Computing
Platform: x86_64-pc-linux-gnu (64-bit)
R is free software and comes with ABSOLUTELY NO WARRANTY.
You are welcome to redistribute it under certain conditions.
Type 'license()' or 'licence()' for distribution details.
R is a collaborative project with many contributors.
Type 'contributors()' for more information and
'citation()' on how to cite R or R packages in publications.
Type 'demo()' for some demos, 'help()' for on-line help, or
'help.start()' for an HTML browser interface to help.
Type 'q()' to quit R.
> library(testthat)
> library(diffloop)
>
> test_check("diffloop")
[ FAIL 0 | WARN 0 | SKIP 0 | PASS 4 ]
>
> proc.time()
user system elapsed
12.269 1.436 13.693
diffloop.Rcheck/diffloop-Ex.timings
| name | user | system | elapsed | |
| addchr | 0.216 | 0.020 | 0.236 | |
| annotateAnchors | 0.162 | 0.008 | 0.170 | |
| annotateAnchors.bed | 0.078 | 0.004 | 0.082 | |
| annotateAnchors.bigwig | 0.052 | 0.000 | 0.052 | |
| annotateLoops | 0.570 | 0.008 | 0.578 | |
| annotateLoops.dge | 0.427 | 0.000 | 0.427 | |
| bedToGRanges | 0.064 | 0.004 | 0.067 | |
| calcLDSizeFactors | 0.002 | 0.000 | 0.001 | |
| callCCDs | 0.001 | 0.000 | 0.001 | |
| computeBoundaryScores | 0.000 | 0.000 | 0.001 | |
| featureTest | 0.001 | 0.000 | 0.001 | |
| filterLoops | 0.054 | 0.000 | 0.054 | |
| filterSpanningLoops | 0.011 | 0.000 | 0.010 | |
| getHumanGenes | 0.056 | 0.000 | 0.056 | |
| getHumanTSS | 0.202 | 0.012 | 0.214 | |
| getMouseGenes | 0.113 | 0.000 | 0.113 | |
| getMouseTSS | 0.208 | 0.004 | 0.211 | |
| interchromosomal | 0.013 | 0.000 | 0.013 | |
| intrachromosomal | 0.011 | 0.000 | 0.010 | |
| keepCTCFloops | 0.117 | 0.000 | 0.117 | |
| keepEPloops | 0.475 | 0.004 | 0.479 | |
| loopAssoc | 0.001 | 0.000 | 0.001 | |
| loopDistancePlot | 0.020 | 0.004 | 0.024 | |
| loopGenes | 0.126 | 0.000 | 0.126 | |
| loopMetrics | 0.003 | 0.000 | 0.002 | |
| loopPlot | 0.567 | 0.000 | 0.566 | |
| loopWidth | 0.011 | 0.000 | 0.011 | |
| loopsMake | 0 | 0 | 0 | |
| loopsMake.mango | 0 | 0 | 0 | |
| loopsSubset | 0.242 | 0.032 | 0.275 | |
| mangoCorrection | 0.103 | 0.008 | 0.111 | |
| manyLoopPlots | 0.068 | 0.004 | 0.071 | |
| mergeAnchors | 0.167 | 0.004 | 0.171 | |
| numAnchors | 0.011 | 0.000 | 0.011 | |
| numLoops | 0.003 | 0.000 | 0.003 | |
| padGRanges | 0.13 | 0.00 | 0.13 | |
| pcaPlot | 0.010 | 0.000 | 0.011 | |
| plotTopLoops | 0.935 | 0.000 | 0.935 | |
| quickAssoc | 0.032 | 0.000 | 0.031 | |
| quickAssocVoom | 0.052 | 0.000 | 0.052 | |
| removeRegion | 0.148 | 0.008 | 0.156 | |
| removeSelfLoops | 0.006 | 0.000 | 0.007 | |
| rmchr | 0.147 | 0.000 | 0.146 | |
| sampleNames-loops-method | 0.002 | 0.000 | 0.002 | |
| slidingWindowTest | 0.001 | 0.000 | 0.001 | |
| splitSamples | 0.063 | 0.000 | 0.063 | |
| subsetLoops | 0.013 | 0.000 | 0.013 | |
| subsetRegion | 0.447 | 0.040 | 0.487 | |
| subsetRegionAB | 0.259 | 0.000 | 0.260 | |
| summary-loops-method | 0.067 | 0.000 | 0.067 | |
| topLoops | 0.095 | 0.004 | 0.099 | |
| union-loops-loops-method | 0.211 | 0.004 | 0.215 | |
| updateLDGroups | 0.001 | 0.000 | 0.001 | |