| Back to Multiple platform build/check report for BioC 3.14 |
|
This page was generated on 2022-04-13 12:06:25 -0400 (Wed, 13 Apr 2022).
| Hostname | OS | Arch (*) | R version | Installed pkgs |
|---|---|---|---|---|
| nebbiolo2 | Linux (Ubuntu 20.04.4 LTS) | x86_64 | 4.1.3 (2022-03-10) -- "One Push-Up" | 4324 |
| tokay2 | Windows Server 2012 R2 Standard | x64 | 4.1.3 (2022-03-10) -- "One Push-Up" | 4077 |
| machv2 | macOS 10.14.6 Mojave | x86_64 | 4.1.3 (2022-03-10) -- "One Push-Up" | 4137 |
| Click on any hostname to see more info about the system (e.g. compilers) (*) as reported by 'uname -p', except on Windows and Mac OS X | ||||
|
To the developers/maintainers of the dagLogo package: - Please allow up to 24 hours (and sometimes 48 hours) for your latest push to git@git.bioconductor.org:packages/dagLogo.git to reflect on this report. See How and When does the builder pull? When will my changes propagate? for more information. - Make sure to use the following settings in order to reproduce any error or warning you see on this page. |
| Package 446/2083 | Hostname | OS / Arch | INSTALL | BUILD | CHECK | BUILD BIN | ||||||||
| dagLogo 1.32.0 (landing page) Jianhong Ou
| nebbiolo2 | Linux (Ubuntu 20.04.4 LTS) / x86_64 | OK | OK | OK | |||||||||
| tokay2 | Windows Server 2012 R2 Standard / x64 | OK | OK | OK | OK | |||||||||
| machv2 | macOS 10.14.6 Mojave / x86_64 | OK | OK | OK | OK | |||||||||
| Package: dagLogo |
| Version: 1.32.0 |
| Command: C:\Users\biocbuild\bbs-3.14-bioc\R\bin\R.exe CMD check --force-multiarch --install=check:dagLogo.install-out.txt --library=C:\Users\biocbuild\bbs-3.14-bioc\R\library --no-vignettes --timings dagLogo_1.32.0.tar.gz |
| StartedAt: 2022-04-12 18:11:54 -0400 (Tue, 12 Apr 2022) |
| EndedAt: 2022-04-12 18:16:51 -0400 (Tue, 12 Apr 2022) |
| EllapsedTime: 296.8 seconds |
| RetCode: 0 |
| Status: OK |
| CheckDir: dagLogo.Rcheck |
| Warnings: 0 |
##############################################################################
##############################################################################
###
### Running command:
###
### C:\Users\biocbuild\bbs-3.14-bioc\R\bin\R.exe CMD check --force-multiarch --install=check:dagLogo.install-out.txt --library=C:\Users\biocbuild\bbs-3.14-bioc\R\library --no-vignettes --timings dagLogo_1.32.0.tar.gz
###
##############################################################################
##############################################################################
* using log directory 'C:/Users/biocbuild/bbs-3.14-bioc/meat/dagLogo.Rcheck'
* using R version 4.1.3 (2022-03-10)
* using platform: x86_64-w64-mingw32 (64-bit)
* using session charset: ISO8859-1
* using option '--no-vignettes'
* checking for file 'dagLogo/DESCRIPTION' ... OK
* checking extension type ... Package
* this is package 'dagLogo' version '1.32.0'
* package encoding: UTF-8
* checking package namespace information ... OK
* checking package dependencies ... OK
* checking if this is a source package ... OK
* checking if there is a namespace ... OK
* checking for hidden files and directories ... OK
* checking for portable file names ... OK
* checking whether package 'dagLogo' can be installed ... OK
* checking installed package size ... OK
* checking package directory ... OK
* checking 'build' directory ... OK
* checking DESCRIPTION meta-information ... OK
* checking top-level files ... OK
* checking for left-over files ... OK
* checking index information ... OK
* checking package subdirectories ... OK
* checking R files for non-ASCII characters ... OK
* checking R files for syntax errors ... OK
* loading checks for arch 'i386'
** checking whether the package can be loaded ... OK
** checking whether the package can be loaded with stated dependencies ... OK
** checking whether the package can be unloaded cleanly ... OK
** checking whether the namespace can be loaded with stated dependencies ... OK
** checking whether the namespace can be unloaded cleanly ... OK
* loading checks for arch 'x64'
** checking whether the package can be loaded ... OK
** checking whether the package can be loaded with stated dependencies ... OK
** checking whether the package can be unloaded cleanly ... OK
** checking whether the namespace can be loaded with stated dependencies ... OK
** checking whether the namespace can be unloaded cleanly ... OK
* checking dependencies in R code ... OK
* checking S3 generic/method consistency ... OK
* checking replacement functions ... OK
* checking foreign function calls ... OK
* checking R code for possible problems ... OK
* checking Rd files ... OK
* checking Rd metadata ... OK
* checking Rd cross-references ... OK
* checking for missing documentation entries ... OK
* checking for code/documentation mismatches ... OK
* checking Rd \usage sections ... OK
* checking Rd contents ... OK
* checking for unstated dependencies in examples ... OK
* checking contents of 'data' directory ... OK
* checking data for non-ASCII characters ... OK
* checking LazyData ... OK
* checking data for ASCII and uncompressed saves ... OK
* checking files in 'vignettes' ... OK
* checking examples ...
** running examples for arch 'i386' ... OK
Examples with CPU (user + system) or elapsed time > 5s
user system elapsed
testDAU 29.92 0.24 30.15
buildBackgroundModel 11.41 0.07 11.79
formatSequence 10.20 0.00 10.20
dagLogo 4.95 0.19 5.14
** running examples for arch 'x64' ... OK
Examples with CPU (user + system) or elapsed time > 5s
user system elapsed
testDAU 28.35 0.07 28.42
buildBackgroundModel 8.30 0.01 8.31
formatSequence 6.95 0.00 6.97
* checking for unstated dependencies in 'tests' ... OK
* checking tests ...
** running tests for arch 'i386' ...
Running 'runTests.R'
OK
** running tests for arch 'x64' ...
Running 'runTests.R'
OK
* checking for unstated dependencies in vignettes ... OK
* checking package vignettes in 'inst/doc' ... OK
* checking running R code from vignettes ... SKIPPED
* checking re-building of vignette outputs ... SKIPPED
* checking PDF version of manual ... OK
* DONE
Status: OK
dagLogo.Rcheck/00install.out
##############################################################################
##############################################################################
###
### Running command:
###
### C:\cygwin\bin\curl.exe -O http://155.52.207.166/BBS/3.14/bioc/src/contrib/dagLogo_1.32.0.tar.gz && rm -rf dagLogo.buildbin-libdir && mkdir dagLogo.buildbin-libdir && C:\Users\biocbuild\bbs-3.14-bioc\R\bin\R.exe CMD INSTALL --merge-multiarch --build --library=dagLogo.buildbin-libdir dagLogo_1.32.0.tar.gz && C:\Users\biocbuild\bbs-3.14-bioc\R\bin\R.exe CMD INSTALL dagLogo_1.32.0.zip && rm dagLogo_1.32.0.tar.gz dagLogo_1.32.0.zip
###
##############################################################################
##############################################################################
% Total % Received % Xferd Average Speed Time Time Time Current
Dload Upload Total Spent Left Speed
0 0 0 0 0 0 0 0 --:--:-- --:--:-- --:--:-- 0
0 0 0 0 0 0 0 0 --:--:-- --:--:-- --:--:-- 0
53 2032k 53 1078k 0 0 1038k 0 0:00:01 0:00:01 --:--:-- 1038k
100 2032k 100 2032k 0 0 1110k 0 0:00:01 0:00:01 --:--:-- 1110k
install for i386
* installing *source* package 'dagLogo' ...
** using staged installation
** R
** data
*** moving datasets to lazyload DB
** inst
** byte-compile and prepare package for lazy loading
** help
*** installing help indices
converting help for package 'dagLogo'
finding HTML links ... done
Proteome-class html
addScheme html
availableSchemes html
buildBackgroundModel html
buildZTestBackgroundModel html
cleanPeptides html
colorsets html
colorsets2 html
dagBackground-class html
dagHeatmap html
dagLogo-package html
dagLogo html
dagPeptides-class html
ecoli.proteome html
fetchSequence html
formatSequence html
getData html
getGroupingSymbol html
initiateBackgroundModel html
nameHash html
prepareProteome html
finding level-2 HTML links ... done
prepareProteomeByFTP html
prepareProteomeByUniProtWS html
proteome.example html
seq.example html
testDAU html
testDAUresults-class html
** building package indices
** installing vignettes
** testing if installed package can be loaded from temporary location
** testing if installed package can be loaded from final location
** testing if installed package keeps a record of temporary installation path
install for x64
* installing *source* package 'dagLogo' ...
** testing if installed package can be loaded
* MD5 sums
packaged installation of 'dagLogo' as dagLogo_1.32.0.zip
* DONE (dagLogo)
* installing to library 'C:/Users/biocbuild/bbs-3.14-bioc/R/library'
package 'dagLogo' successfully unpacked and MD5 sums checked
|
dagLogo.Rcheck/tests_i386/runTests.Rout
R version 4.1.3 (2022-03-10) -- "One Push-Up"
Copyright (C) 2022 The R Foundation for Statistical Computing
Platform: i386-w64-mingw32/i386 (32-bit)
R is free software and comes with ABSOLUTELY NO WARRANTY.
You are welcome to redistribute it under certain conditions.
Type 'license()' or 'licence()' for distribution details.
R is a collaborative project with many contributors.
Type 'contributors()' for more information and
'citation()' on how to cite R or R packages in publications.
Type 'demo()' for some demos, 'help()' for on-line help, or
'help.start()' for an HTML browser interface to help.
Type 'q()' to quit R.
> require("dagLogo") || stop("unable to load Package:dagLogo")
Loading required package: dagLogo
Loading required package: grid
[1] TRUE
> require("Biostrings") || stop("unable to load Package:Biostrings")
Loading required package: Biostrings
Loading required package: BiocGenerics
Attaching package: 'BiocGenerics'
The following objects are masked from 'package:stats':
IQR, mad, sd, var, xtabs
The following objects are masked from 'package:base':
Filter, Find, Map, Position, Reduce, anyDuplicated, append,
as.data.frame, basename, cbind, colnames, dirname, do.call,
duplicated, eval, evalq, get, grep, grepl, intersect, is.unsorted,
lapply, mapply, match, mget, order, paste, pmax, pmax.int, pmin,
pmin.int, rank, rbind, rownames, sapply, setdiff, sort, table,
tapply, union, unique, unsplit, which.max, which.min
Loading required package: S4Vectors
Loading required package: stats4
Attaching package: 'S4Vectors'
The following objects are masked from 'package:base':
I, expand.grid, unname
Loading required package: IRanges
Attaching package: 'IRanges'
The following object is masked from 'package:grDevices':
windows
Loading required package: XVector
Loading required package: GenomeInfoDb
Attaching package: 'Biostrings'
The following object is masked from 'package:grid':
pattern
The following object is masked from 'package:base':
strsplit
[1] TRUE
> require("biomaRt") || stop("unable to load Package:biomaRt")
Loading required package: biomaRt
[1] TRUE
> data(seq.example)
> data(proteome.example)
> library(testthat)
>
> test_check("dagLogo")
[ FAIL 0 | WARN 0 | SKIP 4 | PASS 3 ]
== Skipped tests ===============================================================
* empty test (4)
[ FAIL 0 | WARN 0 | SKIP 4 | PASS 3 ]
>
> proc.time()
user system elapsed
8.09 0.50 8.57
|
dagLogo.Rcheck/tests_x64/runTests.Rout
R version 4.1.3 (2022-03-10) -- "One Push-Up"
Copyright (C) 2022 The R Foundation for Statistical Computing
Platform: x86_64-w64-mingw32/x64 (64-bit)
R is free software and comes with ABSOLUTELY NO WARRANTY.
You are welcome to redistribute it under certain conditions.
Type 'license()' or 'licence()' for distribution details.
R is a collaborative project with many contributors.
Type 'contributors()' for more information and
'citation()' on how to cite R or R packages in publications.
Type 'demo()' for some demos, 'help()' for on-line help, or
'help.start()' for an HTML browser interface to help.
Type 'q()' to quit R.
> require("dagLogo") || stop("unable to load Package:dagLogo")
Loading required package: dagLogo
Loading required package: grid
[1] TRUE
> require("Biostrings") || stop("unable to load Package:Biostrings")
Loading required package: Biostrings
Loading required package: BiocGenerics
Attaching package: 'BiocGenerics'
The following objects are masked from 'package:stats':
IQR, mad, sd, var, xtabs
The following objects are masked from 'package:base':
Filter, Find, Map, Position, Reduce, anyDuplicated, append,
as.data.frame, basename, cbind, colnames, dirname, do.call,
duplicated, eval, evalq, get, grep, grepl, intersect, is.unsorted,
lapply, mapply, match, mget, order, paste, pmax, pmax.int, pmin,
pmin.int, rank, rbind, rownames, sapply, setdiff, sort, table,
tapply, union, unique, unsplit, which.max, which.min
Loading required package: S4Vectors
Loading required package: stats4
Attaching package: 'S4Vectors'
The following objects are masked from 'package:base':
I, expand.grid, unname
Loading required package: IRanges
Attaching package: 'IRanges'
The following object is masked from 'package:grDevices':
windows
Loading required package: XVector
Loading required package: GenomeInfoDb
Attaching package: 'Biostrings'
The following object is masked from 'package:grid':
pattern
The following object is masked from 'package:base':
strsplit
[1] TRUE
> require("biomaRt") || stop("unable to load Package:biomaRt")
Loading required package: biomaRt
[1] TRUE
> data(seq.example)
> data(proteome.example)
> library(testthat)
>
> test_check("dagLogo")
[ FAIL 0 | WARN 0 | SKIP 4 | PASS 3 ]
== Skipped tests ===============================================================
* empty test (4)
[ FAIL 0 | WARN 0 | SKIP 4 | PASS 3 ]
>
> proc.time()
user system elapsed
8.03 0.26 8.28
|
|
dagLogo.Rcheck/examples_i386/dagLogo-Ex.timings
|
dagLogo.Rcheck/examples_x64/dagLogo-Ex.timings
|