| Back to Multiple platform build/check report for BioC 3.14 |
|
This page was generated on 2022-04-13 12:06:24 -0400 (Wed, 13 Apr 2022).
| Hostname | OS | Arch (*) | R version | Installed pkgs |
|---|---|---|---|---|
| nebbiolo2 | Linux (Ubuntu 20.04.4 LTS) | x86_64 | 4.1.3 (2022-03-10) -- "One Push-Up" | 4324 |
| tokay2 | Windows Server 2012 R2 Standard | x64 | 4.1.3 (2022-03-10) -- "One Push-Up" | 4077 |
| machv2 | macOS 10.14.6 Mojave | x86_64 | 4.1.3 (2022-03-10) -- "One Push-Up" | 4137 |
| Click on any hostname to see more info about the system (e.g. compilers) (*) as reported by 'uname -p', except on Windows and Mac OS X | ||||
|
To the developers/maintainers of the cyanoFilter package: - Please allow up to 24 hours (and sometimes 48 hours) for your latest push to git@git.bioconductor.org:packages/cyanoFilter.git to reflect on this report. See How and When does the builder pull? When will my changes propagate? for more information. - Make sure to use the following settings in order to reproduce any error or warning you see on this page. |
| Package 434/2083 | Hostname | OS / Arch | INSTALL | BUILD | CHECK | BUILD BIN | ||||||||
| cyanoFilter 1.2.0 (landing page) Oluwafemi Olusoji
| nebbiolo2 | Linux (Ubuntu 20.04.4 LTS) / x86_64 | OK | OK | OK | |||||||||
| tokay2 | Windows Server 2012 R2 Standard / x64 | OK | OK | OK | OK | |||||||||
| machv2 | macOS 10.14.6 Mojave / x86_64 | OK | OK | OK | OK | |||||||||
| Package: cyanoFilter |
| Version: 1.2.0 |
| Command: rm -rf cyanoFilter.buildbin-libdir && mkdir cyanoFilter.buildbin-libdir && C:\Users\biocbuild\bbs-3.14-bioc\R\bin\R.exe CMD INSTALL --merge-multiarch --build --library=cyanoFilter.buildbin-libdir cyanoFilter_1.2.0.tar.gz |
| StartedAt: 2022-04-13 05:58:27 -0400 (Wed, 13 Apr 2022) |
| EndedAt: 2022-04-13 05:58:49 -0400 (Wed, 13 Apr 2022) |
| EllapsedTime: 22.2 seconds |
| RetCode: 0 |
| Status: OK |
| PackageFile: cyanoFilter_1.2.0.zip |
| PackageFileSize: 1.881 MiB |
##############################################################################
##############################################################################
###
### Running command:
###
### rm -rf cyanoFilter.buildbin-libdir && mkdir cyanoFilter.buildbin-libdir && C:\Users\biocbuild\bbs-3.14-bioc\R\bin\R.exe CMD INSTALL --merge-multiarch --build --library=cyanoFilter.buildbin-libdir cyanoFilter_1.2.0.tar.gz
###
##############################################################################
##############################################################################
install for i386
* installing *source* package 'cyanoFilter' ...
** using staged installation
** R
** inst
** byte-compile and prepare package for lazy loading
** help
*** installing help indices
converting help for package 'cyanoFilter'
finding HTML links ... done
DebrisFilter html
MarginEvents html
PhytoFilter html
PhytopFilter html
accTest html
accuracy html
cellmargin html
clusterExtract html
clusterExtractp html
cyanoFilter html
debrisNc html
fullFlowframe-DebrisFilter-method html
fullFlowframe-MarginEvents-method html
fullFlowframe-PhytopFilter-method html
fullFlowframe html
gateFunc html
getChannel html
ggpairsDens html
ggplotDens html
ggplotDens2 html
goodfcs html
is.DebrisFilter html
is.MarginEvents html
is.PhytopFilter html
is.flowFrame html
is.flowSet html
lnTrans html
newFlowframe html
nona html
noneg html
oneDgate html
pairsPlot html
pigmentGate html
plot-DebrisFilter-ANY-method html
plot-MarginEvents-ANY-method html
plot-PhytopFilter-ANY-method html
reducedFlowframe-DebrisFilter-method html
reducedFlowframe-MarginEvents-method html
reducedFlowframe-PhytopFilter-method html
reducedFlowframe html
retain html
rowNumbers html
summaries-DebrisFilter-method html
summaries-MarginEvents-method html
summaries-PhytopFilter-method html
summaries html
** building package indices
** installing vignettes
** testing if installed package can be loaded from temporary location
** testing if installed package can be loaded from final location
** testing if installed package keeps a record of temporary installation path
install for x64
* installing *source* package 'cyanoFilter' ...
** testing if installed package can be loaded
* MD5 sums
packaged installation of 'cyanoFilter' as cyanoFilter_1.2.0.zip
* DONE (cyanoFilter)