| Back to Multiple platform build/check report for BioC 3.14 |
|
This page was generated on 2022-04-13 12:05:14 -0400 (Wed, 13 Apr 2022).
| Hostname | OS | Arch (*) | R version | Installed pkgs |
|---|---|---|---|---|
| nebbiolo2 | Linux (Ubuntu 20.04.4 LTS) | x86_64 | 4.1.3 (2022-03-10) -- "One Push-Up" | 4324 |
| tokay2 | Windows Server 2012 R2 Standard | x64 | 4.1.3 (2022-03-10) -- "One Push-Up" | 4077 |
| machv2 | macOS 10.14.6 Mojave | x86_64 | 4.1.3 (2022-03-10) -- "One Push-Up" | 4137 |
| Click on any hostname to see more info about the system (e.g. compilers) (*) as reported by 'uname -p', except on Windows and Mac OS X | ||||
|
To the developers/maintainers of the cyanoFilter package: - Please allow up to 24 hours (and sometimes 48 hours) for your latest push to git@git.bioconductor.org:packages/cyanoFilter.git to reflect on this report. See How and When does the builder pull? When will my changes propagate? for more information. - Make sure to use the following settings in order to reproduce any error or warning you see on this page. |
| Package 434/2083 | Hostname | OS / Arch | INSTALL | BUILD | CHECK | BUILD BIN | ||||||||
| cyanoFilter 1.2.0 (landing page) Oluwafemi Olusoji
| nebbiolo2 | Linux (Ubuntu 20.04.4 LTS) / x86_64 | OK | OK | OK | |||||||||
| tokay2 | Windows Server 2012 R2 Standard / x64 | OK | OK | OK | OK | |||||||||
| machv2 | macOS 10.14.6 Mojave / x86_64 | OK | OK | OK | OK | |||||||||
| Package: cyanoFilter |
| Version: 1.2.0 |
| Command: /home/biocbuild/bbs-3.14-bioc/R/bin/R CMD check --install=check:cyanoFilter.install-out.txt --library=/home/biocbuild/bbs-3.14-bioc/R/library --no-vignettes --timings cyanoFilter_1.2.0.tar.gz |
| StartedAt: 2022-04-12 07:01:46 -0400 (Tue, 12 Apr 2022) |
| EndedAt: 2022-04-12 07:03:11 -0400 (Tue, 12 Apr 2022) |
| EllapsedTime: 85.3 seconds |
| RetCode: 0 |
| Status: OK |
| CheckDir: cyanoFilter.Rcheck |
| Warnings: 0 |
##############################################################################
##############################################################################
###
### Running command:
###
### /home/biocbuild/bbs-3.14-bioc/R/bin/R CMD check --install=check:cyanoFilter.install-out.txt --library=/home/biocbuild/bbs-3.14-bioc/R/library --no-vignettes --timings cyanoFilter_1.2.0.tar.gz
###
##############################################################################
##############################################################################
* using log directory ‘/home/biocbuild/bbs-3.14-bioc/meat/cyanoFilter.Rcheck’
* using R version 4.1.3 (2022-03-10)
* using platform: x86_64-pc-linux-gnu (64-bit)
* using session charset: UTF-8
* using option ‘--no-vignettes’
* checking for file ‘cyanoFilter/DESCRIPTION’ ... OK
* checking extension type ... Package
* this is package ‘cyanoFilter’ version ‘1.2.0’
* package encoding: UTF-8
* checking package namespace information ... OK
* checking package dependencies ... OK
* checking if this is a source package ... OK
* checking if there is a namespace ... OK
* checking for hidden files and directories ... OK
* checking for portable file names ... OK
* checking for sufficient/correct file permissions ... OK
* checking whether package ‘cyanoFilter’ can be installed ... OK
* checking installed package size ... OK
* checking package directory ... OK
* checking ‘build’ directory ... OK
* checking DESCRIPTION meta-information ... OK
* checking top-level files ... OK
* checking for left-over files ... OK
* checking index information ... OK
* checking package subdirectories ... OK
* checking R files for non-ASCII characters ... OK
* checking R files for syntax errors ... OK
* checking whether the package can be loaded ... OK
* checking whether the package can be loaded with stated dependencies ... OK
* checking whether the package can be unloaded cleanly ... OK
* checking whether the namespace can be loaded with stated dependencies ... OK
* checking whether the namespace can be unloaded cleanly ... OK
* checking dependencies in R code ... OK
* checking S3 generic/method consistency ... OK
* checking replacement functions ... OK
* checking foreign function calls ... OK
* checking R code for possible problems ... OK
* checking Rd files ... OK
* checking Rd metadata ... OK
* checking Rd cross-references ... OK
* checking for missing documentation entries ... OK
* checking for code/documentation mismatches ... OK
* checking Rd \usage sections ... OK
* checking Rd contents ... OK
* checking for unstated dependencies in examples ... OK
* checking files in ‘vignettes’ ... OK
* checking examples ... OK
Examples with CPU (user + system) or elapsed time > 5s
user system elapsed
gateFunc 7.936 0.423 6.592
* checking for unstated dependencies in vignettes ... OK
* checking package vignettes in ‘inst/doc’ ... OK
* checking running R code from vignettes ... SKIPPED
* checking re-building of vignette outputs ... SKIPPED
* checking PDF version of manual ... OK
* DONE
Status: OK
cyanoFilter.Rcheck/00install.out
############################################################################## ############################################################################## ### ### Running command: ### ### /home/biocbuild/bbs-3.14-bioc/R/bin/R CMD INSTALL cyanoFilter ### ############################################################################## ############################################################################## * installing to library ‘/home/biocbuild/bbs-3.14-bioc/R/library’ * installing *source* package ‘cyanoFilter’ ... ** using staged installation ** R ** inst ** byte-compile and prepare package for lazy loading ** help *** installing help indices ** building package indices ** installing vignettes ** testing if installed package can be loaded from temporary location ** testing if installed package can be loaded from final location ** testing if installed package keeps a record of temporary installation path * DONE (cyanoFilter)
cyanoFilter.Rcheck/cyanoFilter-Ex.timings
| name | user | system | elapsed | |
| MarginEvents | 2.238 | 0.092 | 2.330 | |
| PhytoFilter | 0.962 | 0.005 | 0.966 | |
| PhytopFilter | 0.506 | 0.051 | 0.557 | |
| accTest | 0.305 | 0.005 | 0.309 | |
| accuracy | 0.290 | 0.011 | 0.302 | |
| cellmargin | 0.255 | 0.004 | 0.259 | |
| clusterExtract | 0.663 | 0.048 | 0.711 | |
| clusterExtractp | 0.655 | 0.040 | 0.695 | |
| debrisNc | 0.283 | 0.020 | 0.303 | |
| fullFlowframe-MarginEvents-method | 0.566 | 0.037 | 0.602 | |
| fullFlowframe-PhytopFilter-method | 0.491 | 0.011 | 0.503 | |
| fullFlowframe | 0.25 | 0.00 | 0.25 | |
| gateFunc | 7.936 | 0.423 | 6.592 | |
| ggpairsDens | 2.141 | 0.052 | 2.193 | |
| ggplotDens | 0.820 | 0.064 | 0.884 | |
| ggplotDens2 | 0.681 | 0.004 | 0.686 | |
| goodfcs | 0.034 | 0.004 | 0.039 | |
| is.DebrisFilter | 0 | 0 | 0 | |
| is.MarginEvents | 0.000 | 0.000 | 0.001 | |
| is.PhytopFilter | 0.001 | 0.000 | 0.000 | |
| is.flowFrame | 0 | 0 | 0 | |
| is.flowSet | 0 | 0 | 0 | |
| lnTrans | 0.161 | 0.036 | 0.197 | |
| newFlowframe | 0.170 | 0.031 | 0.201 | |
| nona | 0.074 | 0.000 | 0.074 | |
| noneg | 0.127 | 0.004 | 0.130 | |
| oneDgate | 0.166 | 0.012 | 0.177 | |
| pairsPlot | 1.679 | 0.056 | 1.736 | |
| pigmentGate | 0.248 | 0.008 | 0.255 | |
| reducedFlowframe-MarginEvents-method | 0.265 | 0.000 | 0.265 | |
| reducedFlowframe | 0.258 | 0.000 | 0.258 | |
| retain | 0.016 | 0.000 | 0.017 | |
| rowNumbers | 0.175 | 0.008 | 0.183 | |
| summaries-DebrisFilter-method | 0.263 | 0.000 | 0.263 | |
| summaries-MarginEvents-method | 0.251 | 0.000 | 0.250 | |
| summaries-PhytopFilter-method | 0.509 | 0.004 | 0.513 | |
| summaries | 0.291 | 0.000 | 0.290 | |