| Back to Multiple platform build/check report for BioC 3.14 |
|
This page was generated on 2022-04-13 12:06:23 -0400 (Wed, 13 Apr 2022).
| Hostname | OS | Arch (*) | R version | Installed pkgs |
|---|---|---|---|---|
| nebbiolo2 | Linux (Ubuntu 20.04.4 LTS) | x86_64 | 4.1.3 (2022-03-10) -- "One Push-Up" | 4324 |
| tokay2 | Windows Server 2012 R2 Standard | x64 | 4.1.3 (2022-03-10) -- "One Push-Up" | 4077 |
| machv2 | macOS 10.14.6 Mojave | x86_64 | 4.1.3 (2022-03-10) -- "One Push-Up" | 4137 |
| Click on any hostname to see more info about the system (e.g. compilers) (*) as reported by 'uname -p', except on Windows and Mac OS X | ||||
|
To the developers/maintainers of the consensusSeekeR package: - Please allow up to 24 hours (and sometimes 48 hours) for your latest push to git@git.bioconductor.org:packages/consensusSeekeR.git to reflect on this report. See How and When does the builder pull? When will my changes propagate? for more information. - Make sure to use the following settings in order to reproduce any error or warning you see on this page. |
| Package 389/2083 | Hostname | OS / Arch | INSTALL | BUILD | CHECK | BUILD BIN | ||||||||
| consensusSeekeR 1.22.0 (landing page) Astrid Deschenes
| nebbiolo2 | Linux (Ubuntu 20.04.4 LTS) / x86_64 | OK | OK | OK | |||||||||
| tokay2 | Windows Server 2012 R2 Standard / x64 | OK | OK | OK | OK | |||||||||
| machv2 | macOS 10.14.6 Mojave / x86_64 | OK | OK | OK | OK | |||||||||
| Package: consensusSeekeR |
| Version: 1.22.0 |
| Command: rm -rf consensusSeekeR.buildbin-libdir && mkdir consensusSeekeR.buildbin-libdir && C:\Users\biocbuild\bbs-3.14-bioc\R\bin\R.exe CMD INSTALL --merge-multiarch --build --library=consensusSeekeR.buildbin-libdir consensusSeekeR_1.22.0.tar.gz |
| StartedAt: 2022-04-13 05:56:25 -0400 (Wed, 13 Apr 2022) |
| EndedAt: 2022-04-13 05:57:14 -0400 (Wed, 13 Apr 2022) |
| EllapsedTime: 49.2 seconds |
| RetCode: 0 |
| Status: OK |
| PackageFile: consensusSeekeR_1.22.0.zip |
| PackageFileSize: 675.1 KiB |
##############################################################################
##############################################################################
###
### Running command:
###
### rm -rf consensusSeekeR.buildbin-libdir && mkdir consensusSeekeR.buildbin-libdir && C:\Users\biocbuild\bbs-3.14-bioc\R\bin\R.exe CMD INSTALL --merge-multiarch --build --library=consensusSeekeR.buildbin-libdir consensusSeekeR_1.22.0.tar.gz
###
##############################################################################
##############################################################################
install for i386
* installing *source* package 'consensusSeekeR' ...
** using staged installation
** R
** data
** inst
** byte-compile and prepare package for lazy loading
** help
*** installing help indices
converting help for package 'consensusSeekeR'
finding HTML links ... done
A549_CTCF_MYJ_NarrowPeaks_partial html
A549_CTCF_MYJ_Peaks_partial html
A549_CTCF_MYN_NarrowPeaks_partial html
A549_CTCF_MYN_Peaks_partial html
A549_FOSL2_01_NarrowPeaks_partial html
A549_FOSL2_01_Peaks_partial html
A549_FOXA1_01_NarrowPeaks_partial html
A549_FOXA1_01_Peaks_partial html
A549_NR3C1_CFQ_NarrowPeaks_partial html
A549_NR3C1_CFQ_Peaks_partial html
A549_NR3C1_CFR_NarrowPeaks_partial html
A549_NR3C1_CFR_Peaks_partial html
A549_NR3C1_CFS_NarrowPeaks_partial html
A549_NR3C1_CFS_Peaks_partial html
NOrMAL_nucleosome_positions html
NOrMAL_nucleosome_ranges html
NucPosSimulator_nucleosome_positions html
NucPosSimulator_nucleosome_ranges html
PING_nucleosome_positions html
PING_nucleosome_ranges html
consensusSeekeR-package html
findConsensusPeakRegions html
findConsensusPeakRegionsForOneChrom html
findConsensusPeakRegionsValidation html
isInteger html
readNarrowPeakFile html
refineRegion html
** building package indices
** installing vignettes
** testing if installed package can be loaded from temporary location
** testing if installed package can be loaded from final location
** testing if installed package keeps a record of temporary installation path
install for x64
* installing *source* package 'consensusSeekeR' ...
** testing if installed package can be loaded
* MD5 sums
packaged installation of 'consensusSeekeR' as consensusSeekeR_1.22.0.zip
* DONE (consensusSeekeR)