| Back to Multiple platform build/check report for BioC 3.14 | 
 | 
This page was generated on 2022-04-13 12:06:23 -0400 (Wed, 13 Apr 2022).
| Hostname | OS | Arch (*) | R version | Installed pkgs | 
|---|---|---|---|---|
| nebbiolo2 | Linux (Ubuntu 20.04.4 LTS) | x86_64 | 4.1.3 (2022-03-10) -- "One Push-Up" | 4324 | 
| tokay2 | Windows Server 2012 R2 Standard | x64 | 4.1.3 (2022-03-10) -- "One Push-Up" | 4077 | 
| machv2 | macOS 10.14.6 Mojave | x86_64 | 4.1.3 (2022-03-10) -- "One Push-Up" | 4137 | 
| Click on any hostname to see more info about the system (e.g. compilers) (*) as reported by 'uname -p', except on Windows and Mac OS X | ||||
| To the developers/maintainers of the consensusSeekeR package: - Please allow up to 24 hours (and sometimes 48 hours) for your latest push to git@git.bioconductor.org:packages/consensusSeekeR.git to reflect on this report. See How and When does the builder pull? When will my changes propagate? for more information. - Make sure to use the following settings in order to reproduce any error or warning you see on this page. | 
| Package 389/2083 | Hostname | OS / Arch | INSTALL | BUILD | CHECK | BUILD BIN | ||||||||
| consensusSeekeR 1.22.0  (landing page) Astrid Deschenes 
 | nebbiolo2 | Linux (Ubuntu 20.04.4 LTS) / x86_64 | OK | OK | OK |  | ||||||||
| tokay2 | Windows Server 2012 R2 Standard / x64 | OK | OK | OK | OK |  | ||||||||
| machv2 | macOS 10.14.6 Mojave / x86_64 | OK | OK | OK | OK |  | ||||||||
| Package: consensusSeekeR | 
| Version: 1.22.0 | 
| Command: C:\Users\biocbuild\bbs-3.14-bioc\R\bin\R.exe CMD check --force-multiarch --install=check:consensusSeekeR.install-out.txt --library=C:\Users\biocbuild\bbs-3.14-bioc\R\library --no-vignettes --timings consensusSeekeR_1.22.0.tar.gz | 
| StartedAt: 2022-04-12 17:50:33 -0400 (Tue, 12 Apr 2022) | 
| EndedAt: 2022-04-12 17:55:33 -0400 (Tue, 12 Apr 2022) | 
| EllapsedTime: 299.7 seconds | 
| RetCode: 0 | 
| Status: OK | 
| CheckDir: consensusSeekeR.Rcheck | 
| Warnings: 0 | 
############################################################################## ############################################################################## ### ### Running command: ### ### C:\Users\biocbuild\bbs-3.14-bioc\R\bin\R.exe CMD check --force-multiarch --install=check:consensusSeekeR.install-out.txt --library=C:\Users\biocbuild\bbs-3.14-bioc\R\library --no-vignettes --timings consensusSeekeR_1.22.0.tar.gz ### ############################################################################## ############################################################################## * using log directory 'C:/Users/biocbuild/bbs-3.14-bioc/meat/consensusSeekeR.Rcheck' * using R version 4.1.3 (2022-03-10) * using platform: x86_64-w64-mingw32 (64-bit) * using session charset: ISO8859-1 * using option '--no-vignettes' * checking for file 'consensusSeekeR/DESCRIPTION' ... OK * this is package 'consensusSeekeR' version '1.22.0' * checking package namespace information ... OK * checking package dependencies ... OK * checking if this is a source package ... OK * checking if there is a namespace ... OK * checking for hidden files and directories ... OK * checking for portable file names ... OK * checking whether package 'consensusSeekeR' can be installed ... OK * checking installed package size ... OK * checking package directory ... OK * checking 'build' directory ... OK * checking DESCRIPTION meta-information ... OK * checking top-level files ... OK * checking for left-over files ... OK * checking index information ... OK * checking package subdirectories ... OK * checking R files for non-ASCII characters ... OK * checking R files for syntax errors ... OK * loading checks for arch 'i386' ** checking whether the package can be loaded ... OK ** checking whether the package can be loaded with stated dependencies ... OK ** checking whether the package can be unloaded cleanly ... OK ** checking whether the namespace can be loaded with stated dependencies ... OK ** checking whether the namespace can be unloaded cleanly ... OK * loading checks for arch 'x64' ** checking whether the package can be loaded ... OK ** checking whether the package can be loaded with stated dependencies ... OK ** checking whether the package can be unloaded cleanly ... OK ** checking whether the namespace can be loaded with stated dependencies ... OK ** checking whether the namespace can be unloaded cleanly ... OK * checking dependencies in R code ... OK * checking S3 generic/method consistency ... OK * checking replacement functions ... OK * checking foreign function calls ... OK * checking R code for possible problems ... OK * checking Rd files ... OK * checking Rd metadata ... OK * checking Rd cross-references ... OK * checking for missing documentation entries ... OK * checking for code/documentation mismatches ... OK * checking Rd \usage sections ... OK * checking Rd contents ... OK * checking for unstated dependencies in examples ... OK * checking contents of 'data' directory ... OK * checking data for non-ASCII characters ... OK * checking data for ASCII and uncompressed saves ... OK * checking files in 'vignettes' ... OK * checking examples ... ** running examples for arch 'i386' ... OK ** running examples for arch 'x64' ... OK * checking for unstated dependencies in 'tests' ... OK * checking tests ... ** running tests for arch 'i386' ... Running 'runTests.R' OK ** running tests for arch 'x64' ... Running 'runTests.R' OK * checking for unstated dependencies in vignettes ... OK * checking package vignettes in 'inst/doc' ... OK * checking running R code from vignettes ... SKIPPED * checking re-building of vignette outputs ... SKIPPED * checking PDF version of manual ... OK * DONE Status: OK
consensusSeekeR.Rcheck/00install.out
##############################################################################
##############################################################################
###
### Running command:
###
###   C:\cygwin\bin\curl.exe -O http://155.52.207.166/BBS/3.14/bioc/src/contrib/consensusSeekeR_1.22.0.tar.gz && rm -rf consensusSeekeR.buildbin-libdir && mkdir consensusSeekeR.buildbin-libdir && C:\Users\biocbuild\bbs-3.14-bioc\R\bin\R.exe CMD INSTALL --merge-multiarch --build --library=consensusSeekeR.buildbin-libdir consensusSeekeR_1.22.0.tar.gz && C:\Users\biocbuild\bbs-3.14-bioc\R\bin\R.exe CMD INSTALL consensusSeekeR_1.22.0.zip && rm consensusSeekeR_1.22.0.tar.gz consensusSeekeR_1.22.0.zip
###
##############################################################################
##############################################################################
  % Total    % Received % Xferd  Average Speed   Time    Time     Time  Current
                                 Dload  Upload   Total   Spent    Left  Speed
  0     0    0     0    0     0      0      0 --:--:-- --:--:-- --:--:--     0
100  285k  100  285k    0     0   429k      0 --:--:-- --:--:-- --:--:--  430k
install for i386
* installing *source* package 'consensusSeekeR' ...
** using staged installation
** R
** data
** inst
** byte-compile and prepare package for lazy loading
** help
*** installing help indices
  converting help for package 'consensusSeekeR'
    finding HTML links ... done
    A549_CTCF_MYJ_NarrowPeaks_partial       html  
    A549_CTCF_MYJ_Peaks_partial             html  
    A549_CTCF_MYN_NarrowPeaks_partial       html  
    A549_CTCF_MYN_Peaks_partial             html  
    A549_FOSL2_01_NarrowPeaks_partial       html  
    A549_FOSL2_01_Peaks_partial             html  
    A549_FOXA1_01_NarrowPeaks_partial       html  
    A549_FOXA1_01_Peaks_partial             html  
    A549_NR3C1_CFQ_NarrowPeaks_partial      html  
    A549_NR3C1_CFQ_Peaks_partial            html  
    A549_NR3C1_CFR_NarrowPeaks_partial      html  
    A549_NR3C1_CFR_Peaks_partial            html  
    A549_NR3C1_CFS_NarrowPeaks_partial      html  
    A549_NR3C1_CFS_Peaks_partial            html  
    NOrMAL_nucleosome_positions             html  
    NOrMAL_nucleosome_ranges                html  
    NucPosSimulator_nucleosome_positions    html  
    NucPosSimulator_nucleosome_ranges       html  
    PING_nucleosome_positions               html  
    PING_nucleosome_ranges                  html  
    consensusSeekeR-package                 html  
    findConsensusPeakRegions                html  
    findConsensusPeakRegionsForOneChrom     html  
    findConsensusPeakRegionsValidation      html  
    isInteger                               html  
    readNarrowPeakFile                      html  
    refineRegion                            html  
** building package indices
** installing vignettes
** testing if installed package can be loaded from temporary location
** testing if installed package can be loaded from final location
** testing if installed package keeps a record of temporary installation path
install for x64
* installing *source* package 'consensusSeekeR' ...
** testing if installed package can be loaded
* MD5 sums
packaged installation of 'consensusSeekeR' as consensusSeekeR_1.22.0.zip
* DONE (consensusSeekeR)
* installing to library 'C:/Users/biocbuild/bbs-3.14-bioc/R/library'
package 'consensusSeekeR' successfully unpacked and MD5 sums checked
| consensusSeekeR.Rcheck/tests_i386/runTests.Rout 
R version 4.1.3 (2022-03-10) -- "One Push-Up"
Copyright (C) 2022 The R Foundation for Statistical Computing
Platform: i386-w64-mingw32/i386 (32-bit)
R is free software and comes with ABSOLUTELY NO WARRANTY.
You are welcome to redistribute it under certain conditions.
Type 'license()' or 'licence()' for distribution details.
R is a collaborative project with many contributors.
Type 'contributors()' for more information and
'citation()' on how to cite R or R packages in publications.
Type 'demo()' for some demos, 'help()' for on-line help, or
'help.start()' for an HTML browser interface to help.
Type 'q()' to quit R.
> ## Run all tests present in the package
> BiocGenerics:::testPackage("consensusSeekeR")
Attaching package: 'BiocGenerics'
The following objects are masked from 'package:stats':
    IQR, mad, sd, var, xtabs
The following objects are masked from 'package:base':
    Filter, Find, Map, Position, Reduce, anyDuplicated, append,
    as.data.frame, basename, cbind, colnames, dirname, do.call,
    duplicated, eval, evalq, get, grep, grepl, intersect, is.unsorted,
    lapply, mapply, match, mget, order, paste, pmax, pmax.int, pmin,
    pmin.int, rank, rbind, rownames, sapply, setdiff, sort, table,
    tapply, union, unique, unsplit, which.max, which.min
Attaching package: 'S4Vectors'
The following objects are masked from 'package:base':
    I, expand.grid, unname
Attaching package: 'IRanges'
The following object is masked from 'package:grDevices':
    windows
RUNIT TEST PROTOCOL -- Tue Apr 12 17:55:09 2022 
*********************************************** 
Number of test functions: 56 
Number of errors: 0 
Number of failures: 0 
 
1 Test Suite : 
consensusSeekeR RUnit Tests - 56 test functions, 0 errors, 0 failures
Number of test functions: 56 
Number of errors: 0 
Number of failures: 0 
> 
> proc.time()
   user  system elapsed 
  14.03    1.20   15.28 
 | consensusSeekeR.Rcheck/tests_x64/runTests.Rout 
R version 4.1.3 (2022-03-10) -- "One Push-Up"
Copyright (C) 2022 The R Foundation for Statistical Computing
Platform: x86_64-w64-mingw32/x64 (64-bit)
R is free software and comes with ABSOLUTELY NO WARRANTY.
You are welcome to redistribute it under certain conditions.
Type 'license()' or 'licence()' for distribution details.
R is a collaborative project with many contributors.
Type 'contributors()' for more information and
'citation()' on how to cite R or R packages in publications.
Type 'demo()' for some demos, 'help()' for on-line help, or
'help.start()' for an HTML browser interface to help.
Type 'q()' to quit R.
> ## Run all tests present in the package
> BiocGenerics:::testPackage("consensusSeekeR")
Attaching package: 'BiocGenerics'
The following objects are masked from 'package:stats':
    IQR, mad, sd, var, xtabs
The following objects are masked from 'package:base':
    Filter, Find, Map, Position, Reduce, anyDuplicated, append,
    as.data.frame, basename, cbind, colnames, dirname, do.call,
    duplicated, eval, evalq, get, grep, grepl, intersect, is.unsorted,
    lapply, mapply, match, mget, order, paste, pmax, pmax.int, pmin,
    pmin.int, rank, rbind, rownames, sapply, setdiff, sort, table,
    tapply, union, unique, unsplit, which.max, which.min
Attaching package: 'S4Vectors'
The following objects are masked from 'package:base':
    I, expand.grid, unname
Attaching package: 'IRanges'
The following object is masked from 'package:grDevices':
    windows
RUNIT TEST PROTOCOL -- Tue Apr 12 17:55:24 2022 
*********************************************** 
Number of test functions: 56 
Number of errors: 0 
Number of failures: 0 
 
1 Test Suite : 
consensusSeekeR RUnit Tests - 56 test functions, 0 errors, 0 failures
Number of test functions: 56 
Number of errors: 0 
Number of failures: 0 
> 
> proc.time()
   user  system elapsed 
  14.40    0.54   14.93 
 | 
| consensusSeekeR.Rcheck/examples_i386/consensusSeekeR-Ex.timings 
 | consensusSeekeR.Rcheck/examples_x64/consensusSeekeR-Ex.timings 
 |